BEGIN:VCALENDAR
VERSION:2.0
PRODID:-//უნივერსიტეტის ღონისძიებების პორტალი - ECPv6.2.8.2//NONSGML v1.0//EN
CALSCALE:GREGORIAN
METHOD:PUBLISH
X-ORIGINAL-URL:https://events.iliauni.edu.ge
X-WR-CALDESC:Events for უნივერსიტეტის ღონისძიებების პორტალი
REFRESH-INTERVAL;VALUE=DURATION:PT1H
X-Robots-Tag:noindex
X-PUBLISHED-TTL:PT1H
BEGIN:VTIMEZONE
TZID:Asia/Dubai
BEGIN:STANDARD
TZOFFSETFROM:+0400
TZOFFSETTO:+0400
TZNAME:+04
DTSTART:20240101T000000
END:STANDARD
END:VTIMEZONE
BEGIN:VEVENT
DTSTART;TZID=Asia/Dubai:20240704T100000
DTEND;TZID=Asia/Dubai:20240805T103000
DTSTAMP:20260422T030134
CREATED:20240626T073202Z
LAST-MODIFIED:20241122T110937Z
UID:10005482-1720087200-1722853800@events.iliauni.edu.ge
SUMMARY:საზღვრებს მიღმა: კორეულ-ქართული ახალგაზრდული ბანაკი 2024
DESCRIPTION:4-8 ივლისს ილიას სახელმწიფო უნივერსიტეტში კორეის ინჰას უნივერსიტეტისა და ილიას სახელმწიფო უნივერსიტეტის კორეის კვლევების ცენტრის ინიციატივით\, გ. წერეთლის აღმოსავლეთმცოდნეობის ინსტიტუტისა და ილიაუნის კორეული კულტურის სტუდენტური კლუბის მონაწილეობით გაიმართება 5-დღიანი სტუდენტური კონფერენცია/ბანაკი. \n4 და 5 ივლისს თბილისში გაიმართება აკადემიური კონფერენცია. \nდამსწრე საზოგადოებას საშუალება ექნება\, მოუსმინოს და შეკითხვები დაუსვას კორეელ და ქართველ მომხსენებლებს\, გაეცნოს საქართველო-კორეის ურთიერთობებთან დაკავშირებულ სხვადასხვა სფეროს მნიშვნელოვან საკითხებს.. \nღონისძიებას გახსნის ილიას სახელმწიფო უნივერსიტეტის რექტორი ნინო დობორჯგინიძე. \nპროგრამის სანახავად იხილეთ ბმული: https://events.iliauni.edu.ge/wp-content/uploads/2024/06/83896.pdf \nღონისძიების სპონსორები:  \n\nილიას სახელმწიფო უნივერსიტეტი\nინჰას უნივერსიტეტი\nკორეის რესპუბლიკის საელჩოს ოფისი საქართველოში\nგ. წერეთლის აღმოსავლეთმცოდნეობის ინსტიტუტი\nუცხო ენების სასწავლო ცენტრიMillennium House\nრესტორანი „სეული“\nრესტორანი KOREA\nმეღვინეობა „აკიდო“\nმეღვინეობა Muzze\nქართული ჩიფსი „ფრიქსი • FRIXX“\nOttogi Georgia\nAlterSocks • ალტერსოქსი\n\nსამუშაო ენა: ინგლისური \nდრო: \n\n4 ივლისი\, 10:00 საათი ადგილმდებარეობა: ილიას სახელმწიფო უნივერსიტეტის G106 აუდიტორია\, გ. წერეთლის ქ. N3\n5 ივლისი\, 10:30 საათი ადგილმდებარეობა: ილიას სახელმწიფო უნივერსიტეტის T106 აუდიტორია\, გ. წერეთლის ქ. N3\n\nდასწრება თავისუფალია.
URL:https://events.iliauni.edu.ge/event/sazghvrebs-mighma-koreul-qarthuli-akhalgazrduli-banaki-2024/
CATEGORIES:კონფერენციები,ღონისძიებები
ATTACH;FMTTYPE=image/png:https://events.iliauni.edu.ge/wp-content/uploads/2024/06/nese.png
END:VEVENT
BEGIN:VEVENT
DTSTART;TZID=Asia/Dubai:20240722T170000
DTEND;TZID=Asia/Dubai:20240722T180000
DTSTAMP:20260422T030134
CREATED:20240722T064712Z
LAST-MODIFIED:20240722T065126Z
UID:10005511-1721667600-1721671200@events.iliauni.edu.ge
SUMMARY:რელიგიურ-საგანმანათლებლო ჟურნალის „ზღვარი − მართლმადიდებლობა და თანამედროვეობა“ პრეზენტაცია
DESCRIPTION:22 ივლისს\, 17:00 საათზე\, ილიაუნის წიგნის სახლში „ლიგამუსი“ ილიას სახელმწიფო უნივერსიტეტის სამაგისტრო პროგრამის „რელიგიის კვლევები“ ფარგლებში გაიმართება რელიგიურ-საგანმანათლებლო ჟურნალის „ზღვარი − მართლმადიდებლობა და თანამედროვეობა“ პრეზენტაცია. ჟურნალს წარადგენს და განხილვას გაუძღვება გამოცემის მთავარი რედაქტორი\, დეკანოზი გიორგი წეროძე. \nჟურნალის წარდგენისა და განხილვის ორგანიზატორია ლიტერატურული კლუბი USAID-ის პროგრამის „ერთიანობა მრავალფეროვნებაშია“ ფარგლებში\, რომელსაც ახორციელებს საქართველოს გაეროს ასოციაცია აშშ-ის საერთაშორისო განვითარების სააგენტოს ფინანსური მხარდაჭერით. \nსამუშაო ენა: ქართული \nდრო: 22 ივლისი\, 17:00 საათი \nადგილმდებარეობა: წიგნის სახლი „ლიგამუსი”\, ი. ჭავჭავაძის გამზ. N32 \nდასწრება თავისუფალია.
URL:https://events.iliauni.edu.ge/event/religiur-saganmanathleblo-zhurnalis-zghvari-marthlmadidebloba-da-thanamedroveoba-prezentatsia/
CATEGORIES:მეცნიერებათა და ხელოვნების ფაკულტეტი,ღონისძიებები
ATTACH;FMTTYPE=image/png:https://events.iliauni.edu.ge/wp-content/uploads/2024/07/ZGVARI-WEB.png
END:VEVENT
BEGIN:VEVENT
DTSTART;TZID=Asia/Dubai:20240723T150000
DTEND;TZID=Asia/Dubai:20240723T160000
DTSTAMP:20260422T030134
CREATED:20240722T091945Z
LAST-MODIFIED:20240722T091945Z
UID:10005512-1721746800-1721750400@events.iliauni.edu.ge
SUMMARY:პროფესორ ბესიკ კანკიას სემინარი „სიცოცხლის წარმოშობის ახალი ჰიპოთეზა: კვადრუპლექსური სამყარო“
DESCRIPTION:23 ივლისს\, 15:00 საათზე\, ილიას სახელმწიფო უნივერსიტეტის G106 აუდიტორიაში ილიას სახელმწიფო უნივერსიტეტის საბუნებისმეტყველო მეცნიერებებისა და მედიცინის ფაკულტეტის ასოცირებული პროფესორი ბიოფიზიკის მიმართულებით\, ოჰაიოს სახელმწიფო უნივერსიტეტის ქიმიისა და ბიოქიმიის დეპარტამენტის (აშშ) უფროსი მკვლევარი ბესიკ კანკია გამართავს სემინარს თემაზე: „სიცოცხლის წარმოშობის ახალი ჰიპოთეზა: კვადრუპლექსური სამყარო“. \nთემის მოკლე მიმოხილვა \nდღევანდელობის ყველაზე პოპულარული სიცოცხლის წარმოშობის ჰიპოთეზა\, რნმ-ის სამყარო\, პარადოქსულია და ვერ იძლევა პასუხს მთავარ შეკითხვებზე ევოლუციის უწყვეტობის პრინციპის დარღვევის გარეშე. მომხსენებელი ისაუბრებს ალტერნატიულ ჰიპოთეზაზე\, კვადრუპლექსური სამყაროზე\, რომელიც სიცოცხლის წარმოშობას სრულად ანალიზირებად სამეცნიერო საკითხად აქცევს. ეს ჰიპოთეზა ხსნის (1) პირველადი სიცოცხლის ფორმის წარმოშობას\, (2) დარვინისტული ევოლუციის ჩასახვასა და (3) ამ სიცოცხლის ფორმის თანდათანობით გარდაქმნას დღევანდელ ბიოლოგიაში ევოლუციის უწყვეტობის პრინციპის დარღვევის გარეშე. \n\nReferences: [1] Kankia B. 2021. Quadruplex World. Orig Life Evol Biosph 51: 273-286. \n[2] Kankia B. 2022. Trinity of G-tetrads and origin of translation. Biol Direct 17: 12. \n[3] Kankia B. 2023. Which came first: the chicken\, the egg\, or guanine? Submitted to  RNA \nსამუშაო ენა: ქართული \nდრო: 23 ივლისი\, 15:00 საათი \nადგილმდებარეობა: ილიას სახელმწიფო უნივერსიტეტის G106 აუდიტორია\, გ. წერეთლის ქ. N1 \nდასწრება თავისუფალია. \n2024
URL:https://events.iliauni.edu.ge/event/prophesor-besik-kankias-seminari-sitsotskhlis-tsarmoshobis-akhali-hipotheza-kvadrupleqsuri-samqharo/
CATEGORIES:საბუნებისმეტყველო მეცნიერებებისა და მედიცინის ფაკულტეტი,ღონისძიებები
ATTACH;FMTTYPE=image/png:https://events.iliauni.edu.ge/wp-content/uploads/2024/07/web-sabun-besik-kankia.png
END:VEVENT
END:VCALENDAR