BEGIN:VCALENDAR
VERSION:2.0
PRODID:-//უნივერსიტეტის ღონისძიებების პორტალი - ECPv6.2.8.2//NONSGML v1.0//EN
CALSCALE:GREGORIAN
METHOD:PUBLISH
X-WR-CALNAME:უნივერსიტეტის ღონისძიებების პორტალი
X-ORIGINAL-URL:https://events.iliauni.edu.ge
X-WR-CALDESC:Events for უნივერსიტეტის ღონისძიებების პორტალი
REFRESH-INTERVAL;VALUE=DURATION:PT1H
X-Robots-Tag:noindex
X-PUBLISHED-TTL:PT1H
BEGIN:VTIMEZONE
TZID:Asia/Dubai
BEGIN:STANDARD
TZOFFSETFROM:+0400
TZOFFSETTO:+0400
TZNAME:+04
DTSTART:20240101T000000
END:STANDARD
END:VTIMEZONE
BEGIN:VEVENT
DTSTART;TZID=Asia/Dubai:20240617T170000
DTEND;TZID=Asia/Dubai:20240617T180000
DTSTAMP:20260422T055242
CREATED:20240610T110213Z
LAST-MODIFIED:20240610T110213Z
UID:10005469-1718643600-1718647200@events.iliauni.edu.ge
SUMMARY:„რელიგიისა და რწმენის თავისუფლება საქართველოში – ახალგაზრდა მკვლევართა კვლევითი პროექტების შუალედური ანგარიში”
DESCRIPTION:17 ივნისს\, 15:00 საათზე\, ილიას სახელმწიფო უნივერსიტეტის წიგნის სახლში „ლიგამუსი“ ტოლერანტობისა და მრავალფეროვნების ინსტიტუტის (TDI) სასტიპენდიო კონკურსის გამარჯვებული მკვლევრები შუალედური შედეგების პრეზენტაციას გამართავენ. \nღონისძიების მხარდამჭერია ნიდერლანდების სამეფოს საელჩო.  TDI-ის პროექტის „რელიგიისა და რწმენის თავისუფლების საკითხებზე აკადემიური კვლევის ხელშეწყობა“ მიზანია მულტიდისციპლინური\, აკადემიური ცოდნის შექმნა რელიგიისა და რწმენის თავისუფლებისა და ინტერრელიგიური ურთიერთობების შესახებ და მისი პოპულარიზაცია. \n\nმომხსენებლები: \nთინათინ მაგრაქველიძე \n„რელიგიური გაერთიანებების დაფინანსებისა და დაბეგვრის საკითხები 1953-1964 წლებში“ \nელის ბაქრაძე \n„რელიგია და რწმენის თავისუფლება სამცხე-ჯავახეთის სომეხ თემში (პოსტ-საბჭოთა საქართველოს რელიგიური ტრანსფორმაციის კონტექსტში)“ \nრატი ტყემალაძე\, დაჩი ხონელიძე \n„რელიგია და ეროვნულობის საკითხი ქართულ პოლიტიკურ პარტიებში 1892-1917 წლებში“ \n\nსამუშაო ენა: ქართული \nდრო: 17 ივნისი\, 17:00 საათი \nადგილმდებარეობა: წიგნის სახლი „ლიგამუსი“\, ი. ჭავჭავაძის გამზ. N32 \nდასწრება თავისუფალია.
URL:https://events.iliauni.edu.ge/event/religiisa-da-rtsmenis-thavisuphleba-saqarthveloshi-akhalgazrda-mkvlevartha-kvlevithi-proeqtebis-shualeduri-angarishi/
CATEGORIES:მეცნიერებათა და ხელოვნების ფაკულტეტი,ღონისძიებები
ATTACH;FMTTYPE=image/png:https://events.iliauni.edu.ge/wp-content/uploads/2024/06/WEB-F.png
END:VEVENT
BEGIN:VEVENT
DTSTART;TZID=Asia/Dubai:20240620T200000
DTEND;TZID=Asia/Dubai:20240620T210000
DTSTAMP:20260422T055242
CREATED:20240620T101211Z
LAST-MODIFIED:20240620T101211Z
UID:10005475-1718913600-1718917200@events.iliauni.edu.ge
SUMMARY:გარე განათლება – ვებინარების ციკლი „საუკეთესო პრაქტიკა“
DESCRIPTION:20 ივნისს\, 20:00 საათზე\,  ბავშვის განვითარების ინსტიტუტის ორგანიზებით გაიმართება ვებინერების ციკლის მეხუთე შეხვედრა თემაზე „გარე განათლება“. \nისაუბრებენ: \n\nნატალია ჩილაჩავა\, ბათუმის მე-8 საბავშვო ბაღის მეთოდისტი;\nთამთა კუხალეიშვილი\, ილიას სახელმწიფო უნივერსიტეტის ადრეული განათლების სპეციალისტი.\n\nშეხვედრა გაიმართება ბავშვის განვითარების ინსტიტუტის ფეისბუქის გვერდზე.
URL:https://events.iliauni.edu.ge/event/gare-ganathleba-vebinarebis-tsikli-sauketheso-praqtika/
CATEGORIES:ღონისძიებები
ATTACH;FMTTYPE=image/png:https://events.iliauni.edu.ge/wp-content/uploads/2024/06/shekhvedra5_web.png
END:VEVENT
BEGIN:VEVENT
DTSTART;TZID=Asia/Dubai:20240621T170000
DTEND;TZID=Asia/Dubai:20240621T180000
DTSTAMP:20260422T055242
CREATED:20240620T121121Z
LAST-MODIFIED:20240620T131722Z
UID:10005476-1718989200-1718992800@events.iliauni.edu.ge
SUMMARY:„დრეკადობის თეორიის კვაზისტატიკის ამოცანები სამგვარი ფოროვნობის მქონე ნანომასალებისთვის” – ასისტენტ-პროფესორ მარიამ მიქელაშვილის საჯარო ლექცია
DESCRIPTION:21 ივნისს\, 17:00 საათზე\, ილიას სახელმწიფო უნივერსიტეტის T302 აუდიტორიაში ტექნოლოგიის სკოლის გაზაფხულის სემესტრის ყოველკვირეული სემინარის ფარგლებში ასისტენტ-პროფესორი მარიამ მიქელაშვილი წაიკითხავს საჯარო ლექციას „დრეკადობის თეორიის კვაზისტატიკის ამოცანები სამგვარი ფოროვნობის მქონე ნანომასალებისთვის“. \nXXI საუკუნეში ნანოსტრუქტურის ფოროვანი მასალების მექანიკური თვისებების პროგნოზირება უწყვეტ გარემოთა მექანიკის ერთ-ერთი აქტუალური თემაა. \nბუნებრივ და ხელოვნურ ნანოფოროვან მასალებს მრავალფოროვანი ნანომასშტაბიანი სტრუქტურის გამო უნიკალური მექანიკური\, თერმული და სხვა თვისებები აქვთ\, რის გამოც ფართოდ გამოიყენება ინჟინერიაში\, ტექნოლოგიაში\, მედიცინასა და სხვა არაერთ სფეროში. \nმომხსენებელი ისაუბრებს\, რა სახის ნანოსტრუქტურულ მასალებზე მიმდინარეობს კვლევები და რაოდენ მნიშვნელოვანია ბმული პროცესების მექანიკური ეფექტების გათვალისწინება ფოროვანი გარემოს თანამედროვე თეორიებში. \nსამუშაო ენა: ქართული \nდრო: 21 ივნისი\, 17:00 საათი \nადგილმდებარეობა: ილიას სახელმწიფო უნივერსიტეტის T302 აუდიტორია\, ქ. ჩოლოყაშვილის გამზ. N3/5
URL:https://events.iliauni.edu.ge/event/drekadobis-theoriis-kvazistatikis-amotsanebi-samgvari-phorovnobis-mqone-nanomasalebisthvis-asistent-prophesor-mariam-miqelashvilis-sajaro-leqtsia/
CATEGORIES:ბიზნესის, ტექნოლოგიისა და განათლების ფაკულტეტი
ATTACH;FMTTYPE=image/png:https://events.iliauni.edu.ge/wp-content/uploads/2024/06/WW.png
END:VEVENT
END:VCALENDAR