BEGIN:VCALENDAR
VERSION:2.0
PRODID:-//უნივერსიტეტის ღონისძიებების პორტალი - ECPv6.2.8.2//NONSGML v1.0//EN
CALSCALE:GREGORIAN
METHOD:PUBLISH
X-ORIGINAL-URL:https://events.iliauni.edu.ge
X-WR-CALDESC:Events for უნივერსიტეტის ღონისძიებების პორტალი
REFRESH-INTERVAL;VALUE=DURATION:PT1H
X-Robots-Tag:noindex
X-PUBLISHED-TTL:PT1H
BEGIN:VTIMEZONE
TZID:Asia/Dubai
BEGIN:STANDARD
TZOFFSETFROM:+0400
TZOFFSETTO:+0400
TZNAME:+04
DTSTART:20240101T000000
END:STANDARD
END:VTIMEZONE
BEGIN:VEVENT
DTSTART;TZID=Asia/Dubai:20240606T120000
DTEND;TZID=Asia/Dubai:20240606T140000
DTSTAMP:20260423T023246
CREATED:20240523T094901Z
LAST-MODIFIED:20240523T095559Z
UID:10005449-1717675200-1717682400@events.iliauni.edu.ge
SUMMARY:„ბაღი და მშობლები” - ვებინარების ციკლი „საუკეთესო პრაქტიკა“
DESCRIPTION:6 ივნისს\, 20:00 საათზე\, ილიას სახელმწიფო უნივერსიტეტის ბავშვის განვითარების ინსტიტუტის ორგანიზებით გაიმართება ვებინერების ციკლის მესამე შეხვედრა თემაზე „ბაღი და მშობლები”. \nისაუბრებენ \n\nმირანდა სურმანიძე\, ბათუმის N21 საბავშვო ბაღის მეთოდისტი\nნინო თურმანიძე\, ხელვაჩაურის საბავშვო ბაღების გაერთიანების მეთოდოლოგიური სამსახურის ხელმძღვანელი\n\nშეხვედრა გაიმართება ბავშვის განვითარების ინსტიტუტის ფეისბუქის გვერდზე. \n2024
URL:https://events.iliauni.edu.ge/event/baghi-da-mshoblebi-vebinarebis-tsikli-sauketheso-praqtika/
CATEGORIES:სემინარები
ATTACH;FMTTYPE=image/png:https://events.iliauni.edu.ge/wp-content/uploads/2024/05/shekhvedra3_web_new.png
END:VEVENT
BEGIN:VEVENT
DTSTART;TZID=Asia/Dubai:20240606T200000
DTEND;TZID=Asia/Dubai:20240606T210000
DTSTAMP:20260423T023246
CREATED:20240607T113410Z
LAST-MODIFIED:20240607T113410Z
UID:10005468-1717704000-1717707600@events.iliauni.edu.ge
SUMMARY:„ბაღი და მშობლები” - ვებინარების ციკლი „საუკეთესო პრაქტიკა“
DESCRIPTION:6 ივნისს\, 20:00 საათზე\, ილიას სახელმწიფო უნივერსიტეტის ბავშვის განვითარების ინსტიტუტის ორგანიზებით გაიმართება ვებინერების ციკლის მესამე შეხვედრა თემაზე „ბაღი და მშობლები”. \nისაუბრებენ \n\nმირანდა სურმანიძე\, ბათუმის N21 საბავშვო ბაღის მეთოდისტი\nნინო თურმანიძე\, ხელვაჩაურის საბავშვო ბაღების გაერთიანების მეთოდოლოგიური სამსახურის ხელმძღვანელი\n\nშეხვედრა გაიმართება ბავშვის განვითარების ინსტიტუტის ფეისბუქის გვერდზე.
URL:https://events.iliauni.edu.ge/event/baghi-da-mshoblebi-vebinarebis-tsikli-sauketheso-praqtika-2/
CATEGORIES:სემინარები
ATTACH;FMTTYPE=image/png:https://events.iliauni.edu.ge/wp-content/uploads/2024/06/c296a35f33ae538fa23d5526a61ec273_83479.png
END:VEVENT
BEGIN:VEVENT
DTSTART;TZID=Asia/Dubai:20240607T120000
DTEND;TZID=Asia/Dubai:20240607T130000
DTSTAMP:20260423T023246
CREATED:20240514T083104Z
LAST-MODIFIED:20240514T083139Z
UID:10005445-1717761600-1717765200@events.iliauni.edu.ge
SUMMARY:სურსათის უვნებლობის მსოფლიო დღე და სტუდენტური კონკურსი
DESCRIPTION:7 ივნისს\, 12:00 საათზე\, ილიას სახელმწიფო უნივერსიტეტის G106 აუდიტორიაში გაიმართება სურსათის უვნებლობის მსოფლიო დღესთან დაკავშირებული მოხსენებათა ციკლი\, რომლის მიზანია საზოგადოების ყურადღება გაამახვილოს სურსათის უვნებლობის მნიშვნელობაზე ადამიანის ჯანმრთელობის და კეთილდღეობის თვალსაზრისით როგორც ხანმოკლე\, ისე გრძელვადიან პერსპექტივაში. \nწელს სურსათის უვნებლობის მსოფლიო დღის თემაა: „სურსათის უვნებლობა: მოემზადე მოულოდნელობებისთვის“. \nამავე ღონისძიების ფარგლებში გაიმართება სტუდენტური კონკურსი – „რატომ არის მნიშვნელოვანი: რა საკვებს ვიღებ?“. კონკურსის მიზანია სურსათის უვნებლობის და ჯანმრთელობის ურთიერთკავშირის შესახებ ცნობიერების ამაღლება და სტუდენტებში კვლევის წახალისება. \nკონკურსში მონაწილეობისთვის სტუდენტმა უახლეს სამეცნიერო შრომებზე დაყრდნობით უნდა მოამზადოს სამეცნიერო ესე და საორგანიზაციო კომიტეტის მიერ შერჩევის შემთხვევაში წარადგინოს პრეზენტაციის სახით სურსათის უვნებლობის მსოფლიო დღეს. \nკონკურსის პირობები: \nკონკურსში მონაწილეობა შეუძლია საქართველოს უმაღლესი სასწავლებლების საბაკალავრო\, სამაგისტრო საფეხურის და ერთსაფეხურიანი სამედიცინო პროგრამის სტუდენტს. სტუდენტმა უნდა მოამზადოს ესეი ქართულად ან ინგლისურად (2-4 გვ.) და არა უგვიანეს 25 მაისამდე გამოგზავნოს ელექტრონულ მისამართზე: tamar_khocholava@iliauni.edu.ge \nკონკურსის ეტაპები: \n\nესეს გამოგზავნა;\nღონისძიების საორგანიზაციო ჯგუფის მიერ ესეის აკადემიური კეთილსინდისიერების შემოწმება;\nწარმოდგენილი ნაშრომების შეფასება ღონისძიების საორგანიზაციო ჯგუფის მიერ და რამდენიმე საუკეთესოს შერჩევა.\nმეორე ეტაპზე შერჩეულ ყველა ესეის ავტორს გადაეცემა მონაწილეობის სერტიფიკატი;\nსაუკეთესო ესეების ავტორები სურსათის უვნებლობის მსოფლიო დღეზე წარადგენენ ნაშრომებს;\nსურსათის უვნებლობის დღეს შეირჩევა 3 საუკეთესო ესეს ავტორი და დაჯილდოვდებიან (დიპლომები\, სამახსოვრო საჩუქრები).\n\nსამუშაო ენა: ქართული \nდრო: 7 ივნისი\, 12 საათი \nადგილმდებარეობა: ილიას სახელმწიფო უნივერსიტეტი\, G106 აუდიტორია\, გ. წერეთლის ქუჩა N1 \nდასწრება თავისუფალია. \n2024 წელი
URL:https://events.iliauni.edu.ge/event/sursathis-uvneblobis-msophlio-dghe-da-studenturi-konkursi/
CATEGORIES:საბუნებისმეტყველო მეცნიერებებისა და მედიცინის ფაკულტეტი,ღონისძიებები
ATTACH;FMTTYPE=image/png:https://events.iliauni.edu.ge/wp-content/uploads/2024/05/WEB-konkursi-1.png
END:VEVENT
BEGIN:VEVENT
DTSTART;TZID=Asia/Dubai:20240607T170000
DTEND;TZID=Asia/Dubai:20240607T190000
DTSTAMP:20260423T023246
CREATED:20240606T104704Z
LAST-MODIFIED:20240606T104704Z
UID:10005458-1717779600-1717786800@events.iliauni.edu.ge
SUMMARY:ილიაუნის ასოცირებული პროფესორის\, მურმან მარგველაშვილისა და ტექნოლოგიის სკოლის მოწვეული ლექტორის\, დავით ჩხაიძის საჯარო ლექციები
DESCRIPTION:7 ივნისს ილიას სახელმწიფო უნივერსიტეტის T302 აუდიტორიაში ტექნოლოგიის სკოლის გაზაფხულის სემესტრის ყოველკვირეული სემინარის ფარგლებში ასოცირებული პროფესორი მურმან მარგველაშვილი და ტექნოლოგიის სკოლის მოწვეული ლექტორი დავით ჩხაიძე წაიკითხავენ საჯარო ლექციებს. \n17:00 საათზე ასოცირებული პროფესორი მურმან მარგველაშვილი წაიკითხავს საჯარო ლექციას „მწვანე წყალბადი\, მისი როლი გლობალურ ენერგეტიკულ გადასვლაში და საქართველოს პერსპექტივები“. \nმომხსენებელი განიხილავს მწვანე წყალბადის შესაძლო როლს კლიმატის ცვლილების წინააღმდეგ გლობალურ ძალისხმევაში\, წყალბადის წარმოებისა და მოხმარების თანამედროვე ტექნოლოგიების ტექნიკურსა და ეკონომიკურ მახასიათებლებს\, მსოფლიოსა და რეგიონში მიმდინარე პროცესებს\, რეგულირების ასპექტებს\, ასევე საქართველოში წყალბადისა და მისი წარმოებულების გამომუშავებისა და მოხმარების პერსპექტივებს. \n17:40 საათზე ტექნოლოგიის სკოლის მოწვეული ლექტორი დავით ჩხაიძე წაიკითხავს საჯარო ლექციას “SDTx – Software-defined RF transmitter“. \nსემინარზე წარმოდგენილი იქნება ტექნოლოგიის სკოლის მიერ შექმნილი რადიოკომუნიკაციის ახალი მოწყობილობა: STDx – პროგრამული უზრუნველყოფით განსაზღვრული რადიოგადამცემები. \nსამუშაო ენა: ქართული \nდრო: 7 ივნისი\, 17:00 საათი\, 17:40 საათი \nადგილმდებარეობა: ილიას სახელმწიფო უნივერსიტეტის T302 აუდიტორია\, ქ. ჩოლოყაშვილის გამზ. N3/5 \nდასწრება თავისუფალია.
URL:https://events.iliauni.edu.ge/event/iliaunis-asotsirebuli-prophesoris-murman-margvelashvilisa-da-teqnologiis-skolis-motsveuli-leqtoris-davith-chkhaidzis-sajaro-leqtsiebi/
CATEGORIES:ბიზნესის, ტექნოლოგიისა და განათლების ფაკულტეტი,საჯარო ლექციები
ATTACH;FMTTYPE=image/png:https://events.iliauni.edu.ge/wp-content/uploads/2024/06/17bf708c29c9901d751dd1ea074df413_83609.png
END:VEVENT
BEGIN:VEVENT
DTSTART;TZID=Asia/Dubai:20240608T110000
DTEND;TZID=Asia/Dubai:20240608T170000
DTSTAMP:20260423T023246
CREATED:20240607T111739Z
LAST-MODIFIED:20240607T111739Z
UID:10005464-1717844400-1717866000@events.iliauni.edu.ge
SUMMARY:„ბიობლიცი“
DESCRIPTION:8 ივნისს\, 11:00-დან 17:00 საათის ჩათვლით ლისის ტბის მიმდებარე ტერიტორიაზე ილიას სახელმწიფო უნივერსიტეტის ორგანიზებითა და ERGA-ის (ევროპული გენომის ატლასი) დაფინანსებით\, GEORBLITZ-ის ინიციატივის ფარგლებში გაიმართება „ბიობლიცი“. \nღონისძიების მიზანია\, მონაწილეებს გაუზარდოს ინტერესი ველური ბუნების მიმართ და გააცნოს დაკვირვებისა და კვლევის ტექნიკა. \nმეცნიერები და ღონისძიების სხვა მონაწილენი შეძლებენ საქართველოში არსებული ცოცხალი ორგანიზმების\, კერძოდ\, ორფრთიანების (ბუზები და მონათესავე ორგანიზმები)\, ხეშეშფრთიანების (ხოჭოები და მონათესავე ორგანიზმები)\, ამფიბიების\, რეპტილიების\, ქერცლფრთიანების (პეპლები და ჩრჩილები)\, სიფრიფანაფრთიანების (ფუტკრები\, ხოჭოები\, ჭიანჭველები) და ობობების შესახებ ცოდნის გაღრმავებას. ისინი შეარჩევენ კონკრეტულ სამუშაო ჯგუფს (სესიას)\, რომელთაგან თითოეული ორიენტირებული იქნება ზემოთ ჩამოთვლილი ორგანიზმებიდან ერთ-ერთ კატეგორიაზე\, და შეისწავლიან. \n12:00-დან 14:00 საათის ჩათვლით იმუშავებს ოთხი სამუშაო ჯგუფი\, 15:00 საათიდან 17:00-ის ჩათვლით – კიდევ ოთხი\, მონაწილეები გაეცნობიან ორგანიზმთა ჯგუფების ეკოლოგიურ მნიშვნელობას\, მათ შესაძლებლობა მიეცემათ\, ერთი დღით მოირგონ მეცნიერის ამპლუა\, გამოიყენონ ნიმუშების შეგროვების პროფესიული ტექნიკა (ისინი თავად შეაგროვონ) და შემდეგ მიკროსკოპით დააკვირდნენ შეგროვებულ ნიმუშებს. \nღონისძიების მასპინძლები არიან ილიას სახელმწიფო უნივერსიტეტის საბუნებისმეტყველო მეცნიერებებისა და მედიცინის ფაკულტეტის მკვლევრები და პროექტის მონაწილე სტუდენტები. \nსამუშაო ჯგუფებში მონაწილეობის მსურველებმა რეგისტრაცია წინასწარ უნდა გაიარონ  ბმულზე: Lisi Lake Bioblitz\, 8th May 2024 – Google Forms \nღონისძიებაზე დასწრება თავისუფალია. \nდრო:8 ივნისი\, 11:00 – 17:00 საათი \nადგილმდებარეობა: ლისის ტბის მიმდებარე ტერიტორია
URL:https://events.iliauni.edu.ge/event/bioblitsi/
CATEGORIES:საბუნებისმეტყველო მეცნიერებებისა და მედიცინის ფაკულტეტი,ღონისძიებები
ATTACH;FMTTYPE=image/png:https://events.iliauni.edu.ge/wp-content/uploads/2024/06/8b9b862beb50758d5255eecf309345b4_83587.png
END:VEVENT
END:VCALENDAR