BEGIN:VCALENDAR
VERSION:2.0
PRODID:-//უნივერსიტეტის ღონისძიებების პორტალი - ECPv6.2.8.2//NONSGML v1.0//EN
CALSCALE:GREGORIAN
METHOD:PUBLISH
X-WR-CALNAME:უნივერსიტეტის ღონისძიებების პორტალი
X-ORIGINAL-URL:https://events.iliauni.edu.ge
X-WR-CALDESC:Events for უნივერსიტეტის ღონისძიებების პორტალი
REFRESH-INTERVAL;VALUE=DURATION:PT1H
X-Robots-Tag:noindex
X-PUBLISHED-TTL:PT1H
BEGIN:VTIMEZONE
TZID:Asia/Dubai
BEGIN:STANDARD
TZOFFSETFROM:+0400
TZOFFSETTO:+0400
TZNAME:+04
DTSTART:20240101T000000
END:STANDARD
END:VTIMEZONE
BEGIN:VEVENT
DTSTART;TZID=Asia/Dubai:20240304T190000
DTEND;TZID=Asia/Dubai:20240304T210000
DTSTAMP:20260423T023144
CREATED:20240227T093528Z
LAST-MODIFIED:20240227T093528Z
UID:10005366-1709578800-1709586000@events.iliauni.edu.ge
SUMMARY:„მგლის აზროვნების ფორმირება“ – იასონ ბადრიძის საჯარო ლექცია
DESCRIPTION:4 მარტს\, 19:00 საათზე\, ილიას სახელმწიფო უნივერსიტეტის G106 აუდიტორიაში გაიმართება იასონ ბადრიძის 80 წლის იუბილესადმი მიძღვნილი ღონისძიება. მეცნიერი ველური ბუნების დაცვის დღის აღსანიშნავად წაიკითხავს საჯარო ლექციას „მგლის აზროვნების ფორმირება“. \nბიოლოგიის მეცნიერებათა დოქტორი\, ილიას სახელმწიფო უნივერსიტეტის  ემერიტუს პროფესორი იასონ ბადრიძე დაიბადა 1944 წლის 26 იანვარს თბილისში. \nსამეცნიერო საქმიანობის დიდი ნაწილი მან მგლის ქცევის ბიოლოგიური საფუძვლების კვლევას დაუთმო. ბორჯომის ნაკრძალში მგლებთან 1500 საათს იცხოვრა და შეისწავლა მათი ქცევის დამახასიათებელი ნიშნები\, გამოიკვლია\, როგორ ყალიბდება მათი ქცევა. \nსამუშაო ენა: ქართული \nდრო: 4 მარტს\, 19:00 საათი \nადგილმდებარეობა: ილიას სახელმწიფო უნივერსიტეტის G106 აუდიტორია\, გ. წერეთლის ქ. N1 \nდასწრება თავისუფალია.
URL:https://events.iliauni.edu.ge/event/mglis-azrovnebis-phormireba-iason-badridzis-sajaro-leqtsia/
CATEGORIES:საჯარო ლექციები
ATTACH;FMTTYPE=image/png:https://events.iliauni.edu.ge/wp-content/uploads/2024/02/65fdf912878b9b238d543cfb781f307d_82503.png
END:VEVENT
BEGIN:VEVENT
DTSTART;TZID=Asia/Dubai:20240305T193000
DTEND;TZID=Asia/Dubai:20240305T210000
DTSTAMP:20260423T023144
CREATED:20240301T091209Z
LAST-MODIFIED:20240301T091209Z
UID:10005376-1709667000-1709672400@events.iliauni.edu.ge
SUMMARY:საქართველოს ფუტსალის თასი. ⅛ ფინალი. MFC ILIAUNI VS TSALENJIKHA
DESCRIPTION:4- 5 მარტს გაიმართება საქართველოს ფუტსალის თასის თასის გათამაშების მერვედფინალური ეტაპები. 16 თებერვლის კენჭისყრის შედეგად (t.ly/mGBpV) ილიაუნის ფუტსალის კლუბი წალენჯიხას დაუპირისპირდება. \nტურნირი ჩვენთვის ორმაგად საინტერესოა\, რადგან 2021 წელს სწორედ ეს თასი აღმართა ჩვენმა გუნდმა და ილიას სახელმწიფო უნივერსიტეტს პირველი გამარჯვება მოუტანა ოფიციალური შეჯიბრებიდან (ფუტსალის ლიგა და ფუტსალის თასი\, რომლებიც ტარდება უეფას ეგიდით\, წარმოადგენს პროფესიულ ჩემპიონატს)\, გარდამავალ თასზე კი სამუდამოდ ამოიტვიფრა ჩვენი უნივერსიტეტის კლუბის სახელი და ლოგო. \nვიდეო – ილიაუნი ფუტსალის თასის გამარჯვებულია 2021: https://www.youtube.com/watch?v=n7iCZeIXCX4 \nმატჩი 5 მარტს\, 19:30 საათზე\, ფუტსალის ოფიციალური მატჩების არენაზე გაიმართება (არენა 2\, უნივერსიტეტის ქუჩა N6). \nᲡპორტი გულშემატკივრების თამაშიცაა. ჩვენი გუნდის თითოეული წევრი მთელი წლის განმავლობაში ყოველკვირეულად ინტენსიურად ვარჯიშობს\, რათა ოფიციალურ მატჩებზე წარადგინოს ილიაუნი. მისთვის გულშემატკივრების მხარდაჭერა დიდი მუხტისა და ენერგიის მომტანია. \nგულშემატკივართა დასწრებას ილიაუნის გულშემატკივართა სტუდენტური კლუბი გაუწევს ორგანიზებას\, რისთვისაც დიდ მადლობას ვუხდით კლუბის თითოეულ წევრს. \nუგულშემატკივრე შენს გუნდს არენაზე! \nწარმატებები MFC ILIAUNI ! \nშეხვედრები ლიგის ოფიციალურ ფეისბუქ და იუთუბარხებზე პირდაპირი ტრანსლაციით გაშუქდება. \nმისამართი: არენა 2-ის დარბაზი\, უნივერსიტეტის ქუჩა N6 \nდასწრება თავისუფალია.
URL:https://events.iliauni.edu.ge/event/saqarthvelos-phutsalis-thasi-phinali-mfc-iliauni-vs-tsalenjikha/
CATEGORIES:სპორტული ღონისძიებები
ATTACH;FMTTYPE=image/png:https://events.iliauni.edu.ge/wp-content/uploads/2024/03/WEB-geo-1.png
END:VEVENT
BEGIN:VEVENT
DTSTART;TZID=Asia/Dubai:20240306T133000
DTEND;TZID=Asia/Dubai:20240306T150000
DTSTAMP:20260423T023144
CREATED:20240227T124652Z
LAST-MODIFIED:20240228T073609Z
UID:10005372-1709731800-1709737200@events.iliauni.edu.ge
SUMMARY:კონფერენცია „ენისა და მეტყველების თერაპევტების თანამშრომლობა მომიჯნავე დარგების სპეციალისტებთან“
DESCRIPTION:6 მარტს\, 13:30 საათზე\, ილიას სახელმწიფო უნივერსიტეტის G106 აუდიტორიაში ილიას სახელმწიფო უნივერსიტეტისა და საქართველოს ენისა და მეტყველების თერაპევტთა ასოციაციის ორგანიზებით გაიმართება ენისა და მეტყველების საერთაშორისო დღისადმი მიძღვნილი კონფერენცია „ენისა და მეტყველების თერაპევტების თანამშრომლობა მომიჯნავე დარგების სპეციალისტებთან“. \nმოხსენებებს წაიკითხავენ ენისა და მეტყველების თერაპევტები\, ფსიქოლოგები\, ადრეული განვითარების სპეციალისტი\, ოკუპაციური\, სენსორული\, ქცევითი თერაპევტები\, დამსწრეთ გააცნობენ სხვადასხვა დარგის სპეციალისტებთან თანამშრომლობისა და ერთობლივად მუშაობის შედეგებს კომუნიკაციის\, ენისა და მეტყველების სხვადასხვა დარღვევის დროს. \n6 მარტს\, ენისა და მეტყველების თერაპიის დღეს\, ყოველწლიურად აღნიშნავს ენისა და მეტყველების თერაპიის ევროპის ასოციაცია EUROPEAN SPEECH AND LANGUAGE THERAPY ASSOCIATION (ESLA). \nამ დღის მიზანია კომუნიკაციის\, ენისა და მეტყველების თერაპევტის როლის შესახებ საზოგადოებისა და მომიჯნავე სპეციალისტების ცნობიერების ამაღლება. \n2024 წლის თემაა მომიჯნავე სპეციალისტებსა და მშობლებთან თანამშრომლობა. \nდამატებითი ინფორმაციისთვის დარეკეთ ნომერზე: 595 69 99 91 \nსამუშაო ენა: ქართული \nდრო: 6 მარტი\, 13:30 სთ. \nადგილმდებარეობა: ილიას სახელმწიფო უნივერსიტეტის G106 აუდიტორია\, გ. წერეთლის ქ.N1 \nდასწრება თავისუფალია.
URL:https://events.iliauni.edu.ge/event/konpherentsia-enisa-da-metqhvelebis-therapevtebis-thanamshromloba-momijnave-dargebis-spetsialistebthan/
CATEGORIES:კონფერენციები
ATTACH;FMTTYPE=image/png:https://events.iliauni.edu.ge/wp-content/uploads/2024/02/Web-bavshvtha-ganvitharebis-inst.-1-3.png
END:VEVENT
BEGIN:VEVENT
DTSTART;TZID=Asia/Dubai:20240306T170000
DTEND;TZID=Asia/Dubai:20240306T180000
DTSTAMP:20260423T023144
CREATED:20240229T133422Z
LAST-MODIFIED:20240311T123036Z
UID:10005375-1709744400-1709748000@events.iliauni.edu.ge
SUMMARY:მონოგრაფიის „ირანული ზეგავლენა ქართველ დიდგვაროვანთა სამოსში XVI-XVII საუკუნეების დასავლეთ საქართველოს ფრესკების მიხედვით“ პრეზენტაცია
DESCRIPTION:6 მარტს\, 17:00 საათზე\, ილიას სახელმწიფო უნივერსიტეტის S201/202 აუდიტორიაში გაიმართება აღმოსავლეთმცოდნეობის ინსტიტუტის მკვლევრების\, თამარ დემეტრაშვილისა და თამარ ლეკვეიშვილის მონოგრაფიის „ირანული ზეგავლენა ქართველ დიდგვაროვანთა სამოსში XVI-XVII საუკუნეების დასავლეთ საქართველოს ფრესკების მიხედვით“ პრეზენტაცია. \nნაშრომში განხილულია დასავლეთ საქართველოში XVI-XVII საუკუნეების ქართული ქრისტიანული ტაძრების კედლის მხატვრობის (ფრესკების) ის ნიმუშები\, რომლებზე გამოსახულ ქტიტორთა\, მეფეთა\, დიდგვაროვანთა და მათი ოჯახების ჩაცმულობაში ასახულია ირანული გავლენა. განხილულია ისტორიული გარემო\, რაც განაპირობებდა ჩაცმულობაში ამგვარი ტენდენციის გაძლიერებას. გამახვილებულია ყურადღება ტანისამოსის ცალკეულ დეტალებსა და მათ სიმბოლურ დატვირთვაზე. \nმონოგრაფია გამოიცა შოთა რუსთაველის საქართველოს ეროვნული სამეცნიერო ფონდის მიერ დაფინანსებული ამავე სახელწოდების პროექტის (შიფრი NFR-19-118) ფარგლებში. \nსამუშაო ენა: ქართული \nდრო: 17:00 საათი \nადგილმდებარეობა: გ.წერეთლის აღმოსავლეთმცოდნეობის ინსტიტუტი\, S201/202 აუდიტორია\, გ. წერეთლის ქუჩა N3 \nდასწრება თავისუფალია. \n2024
URL:https://events.iliauni.edu.ge/event/monographiis-iranuli-zegavlena-qarthvel-didgvarovantha-samosshi-xvi-xvii-saukuneebis-dasavleth-saqarthvelos-phreskebis-mikhedvith-prezentatsia/
CATEGORIES:ღონისძიებები
ATTACH;FMTTYPE=image/png:https://events.iliauni.edu.ge/wp-content/uploads/2024/02/WEB-mets.-khelovneba-2.png
END:VEVENT
END:VCALENDAR