BEGIN:VCALENDAR
VERSION:2.0
PRODID:-//უნივერსიტეტის ღონისძიებების პორტალი - ECPv6.2.8.2//NONSGML v1.0//EN
CALSCALE:GREGORIAN
METHOD:PUBLISH
X-WR-CALNAME:უნივერსიტეტის ღონისძიებების პორტალი
X-ORIGINAL-URL:https://events.iliauni.edu.ge
X-WR-CALDESC:Events for უნივერსიტეტის ღონისძიებების პორტალი
REFRESH-INTERVAL;VALUE=DURATION:PT1H
X-Robots-Tag:noindex
X-PUBLISHED-TTL:PT1H
BEGIN:VTIMEZONE
TZID:Asia/Dubai
BEGIN:STANDARD
TZOFFSETFROM:+0400
TZOFFSETTO:+0400
TZNAME:+04
DTSTART:20230101T000000
END:STANDARD
END:VTIMEZONE
BEGIN:VEVENT
DTSTART;TZID=Asia/Dubai:20231220T170000
DTEND;TZID=Asia/Dubai:20231220T180000
DTSTAMP:20260421T203403
CREATED:20231218T100622Z
LAST-MODIFIED:20240202T102020Z
UID:10001628-1703091600-1703095200@events.iliauni.edu.ge
SUMMARY:"სამხრეთ კავკასიური ენების წარმოშობის დრო და ადგილი: რას გვაძლევს ცოდნა ადამიანთა ძველი საზოგადოებების\, ეკოსისტემებისა და პოპულაციური გენეტიკის შესახებ?"
DESCRIPTION:20 დეკემბერს\, 17:00 საათზე\, ილიას სახელმწიფო უნივერსიტეტის G106 აუდიტორიაში გაიმართება პროფესორ ალექსანდრე გავაშელიშვილის საჯარო ლექცია ქართველურ ენათა წარმოშობის დროისა და ადგილის შესახებ.  \nმომხსენებელი შეაჯამებს ილიას სახელმწიფო უნივერსიტეტის ეკოლოგიის ინსტიტუტში ინტერდისციპლინური მიმართულებით წლების განმავლობაში განხორციელებული კვლევების შედეგებს\, რომელთაც განსაკუთრებული მნიშვნელობა აქვს ქართველურ ენათა ოჯახის ისტორიისთვის.  \nკვლევის შედეგები გამოქვეყნდა მაღალრეიტინგულ სამეცნიერო ჟურნალში: Scientific Reports (იხ. https://doi.org/10.1038/s41598-023-45500-w). კვლევა ეფუძნება ბაიესური ფილოგენეტიკის (Bayesian phylogenetics) მეთოდოლოგიურ ჩარჩოს და ცდილობს ქართველურ ენათა წარმოშობის ადგილი დაადგინოს: \nა. იმ ცხოველებისა და მცენარეების (შესაბამისად\, მათი გავრცელების არეალის) მიხედვით\, რომელთა სახელები აღდგება წინარე ქართველურ ძირებამდე; \n ბ. წარსული კულტურების გავრცელების ადგილებით; \n გ. წარსულ და არსებულ ადამიანთა პოპულაციების გენეტიკური ვარიაციებით. \nკვლევის შედეგები თანხვდება ამ პრობლემატიკის აქამდელი კვლევის ფართოდ გაზიარებულ ტოპოლოგიას\, თუმცა\, გვთავაზობს უფრო ადრეულ საშუალო გაყოფის თარიღებს; კერძოდ\, სვანური და ქართო-ზანურის დაშორება უნდა მომხდარიყო ადრეული სპილენძის ხანაში\, ხოლო ქართულისა და ზანურის – ადრეული რკინის ხანაში. \nკვლევის მიხედვით ქართველურ ენათა სამშობლოდ მიიჩნევა ადგილი\, რომელიც მოიცავს კოლხურ მყინვარულ რეფუგიუმს.მათი დაყოფა დაკავშირებულია როგორც ტექნოლოგიების გავრცელების სიჩქარესთან სხვადასხვა ლანდშაფტში\, ისე სახელმწიფოს მიერ მართული თემების გაჩენასთან. \nსამუშაო ენა: ქართული \nდრო: 20 დეკემბერი\, 17:00 საათი \nადგილმდებარეობა: ილიას სახელმწიფო უნივერსიტეტის G106 აუდიტორია\, გ. წერეთლის ქ. N1 \nდასწრება თავისუფალია. \nლექციაზე დასწრებას შეძლებთ ზუმის ბმულის საშუალებით https://iliauni-edu-ge.zoom.us/j/81282489645 \n2023 წელი \n\n\n			\n				\n			\n		\n\n[wpai_display_imported_files_here]
URL:https://events.iliauni.edu.ge/event/samkhreth-kavkasiuri-enebis-tsarmoshobis-dro-da-adgili-ras-gvadzlevs-tsodna-adamiantha-dzveli-sazogadoebebis-ekosistemebisa-da-populatsiuri-genetikis-shesakheb/
CATEGORIES:ღონისძიებები
ATTACH;FMTTYPE=image/png:https://events.iliauni.edu.ge/wp-content/uploads/2024/02/81592.png
END:VEVENT
BEGIN:VEVENT
DTSTART;TZID=Asia/Dubai:20231221T150000
DTEND;TZID=Asia/Dubai:20231221T160000
DTSTAMP:20260421T203403
CREATED:20231220T071716Z
LAST-MODIFIED:20240202T102020Z
UID:10001629-1703170800-1703174400@events.iliauni.edu.ge
SUMMARY:ილიაუნის სტუდენტური თვითმმართველობის არჩევნები
DESCRIPTION:ილიას სახელმწიფო უნივერსიტეტის სტუდენტური თვითმმართველობის არჩევნები 2024 წლის 15 იანვარს გაიმართება. \nსაარჩევნო პროცესის სრულყოფილად წარმართვის მიზნით\, საქართველოს ცენტრალურ საარჩევნო კომისიასთან თანამშრომლობით და ამ უწყების კვალიფიციური სპეციალისტების მოწვევით/ჩართულობით დაკომპლექტდა უნივერსიტეტის სტუდენტური თვითმმართველობის უმაღლესი საარჩევნო კომისია 9 წევრის შემადგენლობით. \n21 დეკემბერს\, 15:00 საათზე\, ილიას სახელმწიფო უნივერსიტეტის E208 აუდიტორიაში  სტუდენტური თვითმმართველობის უმაღლესი საარჩევნო კომისია გამართავს შეხვედრას საარჩევნო პროცესში მონაწილეობის მიღების მსურველ სტუდენტური ორგანიზაციების წარმომადგენლებთან და დაინტერესებულ სტუდენტებთან საარჩევნო პროცესებისა და პროცედურების შესახებ ინფორმაციის მიწოდების მიზნით. \nშეხვედრას არაუმეტეს 2 წარმომადგენელი დაესწრება თითო ორგანიზაციიდან.  \nწერილობითი კომუნიკაცია უნივერსიტეტის უმაღლეს საარჩევნო კომისიასთან შესაძლებელია მეილზე: elections2023@iliauni.edu.ge \nსამუშაო ენა: ქართული \nდრო: 21 დეკემბერი\, 15:00 საათი \nადგილმდებარეობა: ილიას სახელმწიფო უნივერსიტეტის E208 აუდიტორია\, ქ. ჩოლოყაშვილის გამზ. N3/5 \nპატივისცემით\, \nუნივერსიტეტის სტუდენტური თვითმმართველობის უმაღლესი საარჩევნო კომისია“ \n2023 წელი \n\n			\n				\n			\n		\n\n[wpai_display_imported_files_here]
URL:https://events.iliauni.edu.ge/event/iliaunis-studenturi-thvithmmarthvelobis-archevnebi/
CATEGORIES:ღონისძიებები
ATTACH;FMTTYPE=image/png:https://events.iliauni.edu.ge/wp-content/uploads/2024/02/81603.png
END:VEVENT
BEGIN:VEVENT
DTSTART;TZID=Asia/Dubai:20231222T120000
DTEND;TZID=Asia/Dubai:20231222T130000
DTSTAMP:20260421T203403
CREATED:20231207T075637Z
LAST-MODIFIED:20240202T102020Z
UID:10001630-1703246400-1703250000@events.iliauni.edu.ge
SUMMARY:ორიგამის წეროების დამზადების ვორკშოპი
DESCRIPTION:22 დეკემბერს\, 12:00 საათზე\, ილიას სახელმწიფო უნივერსიტეტის G106 დარბაზში სტუდენტებისთვის გაიმართება ორიგამის წეროების დამზადების ვორკშოპი ილიას სახელმწიფო უნივერსიტეტისა და ნაგასაკის ატომური ბომბის მსხვერპლთა მშვიდობის ეროვნული მემორიალური დარბაზის მიერ ორგანიზებული ფოტოგამოფენის „იაპონიის ატომური დაბომბვა“ ფარგლებში. სტუდენტების დამზადებული ორიგამები განთავსდება საგამოფენო სივრცეში. \nვორკშოპს გამართავს ილიას სახელმწიფო უნივერსიტეტის იაპონური ენის ლექტორი რისა უჩიდა\, რომელიც საქართველოში JICA Japan-ის საზღვარგარეთული თანამშრომლობის მოხალისის სტატუსით იმყოფება. \nორიგამის წეროების შესახებ \nიაპონიაში წერო იღბლიან ფრინველად ითვლება. უძველესი პერიოდიდან იაპონელები ორიგამის წეროებს აკეთებდნენ\, რათა ღმერთებს მათი სურვილები შეესრულებინათ. \nმეორე მსოფლიო ომის მიწურულს ჰიროშიმაში ჩამოაგდეს ატომური ბომბი. დაბომბვის მსხვერპლი იაპონელი გოგონა რადიაციით გამოწვეული სხვადასხვა დაავადებით დასნეულდა. ტკივილისგან შეწუხებულმა გადაწყვიტა\, 1000 ქაღალდის წეროს გაკეთება. მას სწამდა\, რომ თუ ამას გააკეთებდა\, ღმერთები განკურნავდნენ. სამწუხაროდ გოგონა გარდაიცვალა\, თუმცა ეს ფაქტი საყოველთაოდ ცნობილი გახდა და ორიგამის წერო მშვიდობის სიმბოლოდ იქცა. ამჟამად არა მხოლოდ იაპონიაში\, არამედ ბევრ სხვა ქვეყანაშიც ქაღალდის წეროებს მშვიდობისთვის სალოცავად აკეთებენ. \nვორკშოპში მონაწილეობის მისაღებად გთხოვთ\, 19 დეკემბრის 18:00 საათამდე გაიაროთ რეგისტრაცია. მასზე დასწრებას შეძლებს პირველი 100 რეგისტრირებული სტუდენტი. \nრეგისტრაციისთვის მიჰყევით ბმულს. \nსამუშაო ენა: იაპონური\, უზრუნველყოფილი იქნება თანმიმდევრული თარგმანი ქართულად. \nდრო: 22 დეკემბერი\, 12:00 საათი \nადგილმდებარეობა: ილიას სახელმწიფო უნივერსიტეტის G106 დარბაზი\, გ. წერეთლის ქ.N1 \n2023 \n  \n  \n\n			\n				\n			\n		\n\n[wpai_display_imported_files_here]
URL:https://events.iliauni.edu.ge/event/origamis-tseroebis-damzadebis-vorkshopi/
CATEGORIES:ღონისძიებები
ATTACH;FMTTYPE=image/png:https://events.iliauni.edu.ge/wp-content/uploads/2024/02/81330.png
END:VEVENT
BEGIN:VEVENT
DTSTART;TZID=Asia/Dubai:20231222T190000
DTEND;TZID=Asia/Dubai:20231222T200000
DTSTAMP:20260421T203403
CREATED:20231218T130803Z
LAST-MODIFIED:20240315T085221Z
UID:10001632-1703271600-1703275200@events.iliauni.edu.ge
SUMMARY:ილიაუნის საახალწლო საღამო
DESCRIPTION:ძვირფასო სტუდენტებო\, 22 დეკემბერს\, 19:00 საათზე გელოდებით ილიაუნის საახალწლო საღამოზე. საშობაო ქალაქში დაგხვდებათ ცხელი გლინტვეინი\, სითბო და საახალწლო მუსიკა ილიაუნის მუსიკის ცენტრის სტუდენტებისა და კურსდამთავრებულებისგან. საღამოს დიჯეი ANNA SUE დაასრულებს. \nსაღამოს პროგრამა : \n\n19:00 – გახსნა\n19:30 – ილიაუნის ხალხური სიმღერის გუნდი\n19 :35 -ილიაუნის მუსიკალური ცენტრის ჯაზ-ვოკალის მიმართულების სტუდენტები: თათია კაპანაძე\, ცირა მორჩილაძე\, მარიამ კუპატაძე\, შაბან მამედოვი.\n20:00 – ილიაუნის კურსდამთავრებულები : ნინუცა გაბისონია და ბაჩი ვალიშვილი\n20:30 – ANNA SUE https://shorturl.at/pyE07\n\nდრო : 22 დეკემბერი\, 19:00 \nადგილმდებარეობა: ილიას სახელმწიფო უნივერსიტეტის T კორპუსის ეზო. \nგილოცავთ დამდეგ შობა- ახალ წელს და გელოდებით ! \n2023 \n 
URL:https://events.iliauni.edu.ge/event/iliaunis-saakhaltslo-saghamo/
CATEGORIES:ღონისძიებები
ATTACH;FMTTYPE=image/png:https://events.iliauni.edu.ge/wp-content/uploads/2024/02/81620.png
END:VEVENT
BEGIN:VEVENT
DTSTART;TZID=Asia/Dubai:20231223T135700
DTEND;TZID=Asia/Dubai:20231223T135700
DTSTAMP:20260421T203403
CREATED:20231223T095734Z
LAST-MODIFIED:20240201T143109Z
UID:10001634-1703339820-1703339820@events.iliauni.edu.ge
SUMMARY:პრაღაში  დატრიალებული უმძიმესი ტრაგედიის გამო  ილიას უნივერსიტეტი სამძიმარს უცხადებს კარლის  უნივერსიტეტს
DESCRIPTION:Condolences to the Charles University in Prague \nIn connection with the tragic events that took place at Charles University in Prague\, on behalf of Ilia State University\, we offer our deepest condolences and sympathy to students\, family members of the victims and the colleagues of the Charles University. \nWe are profoundly shocked over the tragic events at your campus and extend our solidarity and support in this most difficult of situations. It is inconceivable to believe that something so terrible could happen at a university\, a place dedicated to peaceful self-reflection\, pursuit of knowledge\, and cultivation of personal growth through education.  \nOur thoughts are with the families of the victims\, as well as those who have been injured in this senseless act of violence. \nPlease accept our solidarity and support in this tragic moment. \nWith heartfelt condolences\, \nRector Nino Doborjginidze \nIlia State University \n2023 \n\n			\n				\n			\n		\n\n[wpai_display_imported_files_here]
URL:https://events.iliauni.edu.ge/event/praghashi-datrialebuli-umdzimesi-tragediis-gamo-ilias-universiteti-samdzimars-utskhadebs-karlis-universitets/
CATEGORIES:განცხადებები
ATTACH;FMTTYPE=image/jpeg:https://events.iliauni.edu.ge/wp-content/uploads/2024/02/81628.jpg
END:VEVENT
END:VCALENDAR