BEGIN:VCALENDAR
VERSION:2.0
PRODID:-//უნივერსიტეტის ღონისძიებების პორტალი - ECPv6.2.8.2//NONSGML v1.0//EN
CALSCALE:GREGORIAN
METHOD:PUBLISH
X-ORIGINAL-URL:https://events.iliauni.edu.ge
X-WR-CALDESC:Events for უნივერსიტეტის ღონისძიებების პორტალი
REFRESH-INTERVAL;VALUE=DURATION:PT1H
X-Robots-Tag:noindex
X-PUBLISHED-TTL:PT1H
BEGIN:VTIMEZONE
TZID:Asia/Dubai
BEGIN:STANDARD
TZOFFSETFROM:+0400
TZOFFSETTO:+0400
TZNAME:+04
DTSTART:20230101T000000
END:STANDARD
END:VTIMEZONE
BEGIN:VEVENT
DTSTART;TZID=Asia/Dubai:20230711T101000
DTEND;TZID=Asia/Dubai:20230711T101000
DTSTAMP:20260423T025500
CREATED:20230707T091629Z
LAST-MODIFIED:20240201T111512Z
UID:10000025-1689070200-1689070200@events.iliauni.edu.ge
SUMMARY:საერთაშორისო ვორკშოფი „საქართველოს ისტორიული მყინვარული კერნი: საპილოტე პუბლიკაციები და შემდგომი ნაბიჯები"
DESCRIPTION:11-12 ივლისს ილიას სახელმწიფო უნივერსიტეტის კულტურული მემკვიდრეობის და გარემოს კვლევის ცენტრი\, საერთაშორისო პარტნიორებთან ერთად გეგმავს საერთაშორისო ვორკშოფს „საქართველოს ისტორიული მყინვარული კერნი: საპილოტე პუბლიკაციები და შემდგომი ნაბიჯები” (Georgia Historical Ice-Core Project (GHICP) Workshop: Pilot publications and next stages). \nვორკშოფი გაიმართება ჩვენს უნივერსიტეტსა და ნოტინგემის უნივერსიტეტს შორის გაფორმებული საგრანტო ხელშეკრულების ფარგლებში ვორკშოფში მონაწილეობას მიიღებენ მკვლევარები გაერთიანებული სამეფოდან\, აშშ\, გერმანია და საფრანგეთი\, ასევე მოწვეული სტუმრები\, სტუდენტები საქართველოდიან. \nვორკშოფის ძირითადი მიზანია საერთაშორისო კვლევითი კონსორციუმის დაფუძნება და ერთიანი კვლევითი საკითხის შეთანხმება EU-USA-UK პროექტისთვის “CESOC-Caucasus: Climate\, Environment and Social Change in the Caucasus”. \nდეტალური პროგრამა ხელმისაწვდომია ბმულზე: https://shorturl.at/oqX05 \n\nორგანიზატორები \n\n\n\n \n\n\nქრისტოფერ ლოვლაქი\, Prof. Dr.\nკლასიკური კვლევების და არქეოლოგიის განყოფილება\, ნოტინგემის უნივერსიტეტი\, UK\n\n\nანდრეი კურბატოვი\, Prof. Dr.\nკლიმატის ცვლილების ინსტიტუტი\, მეინის უნივერსიტეტია\, US\n\n\nლიზი გადრანი\, PhD student\nკლიმატის ცვლილების ინსტიტუტი\, მეინის უნივერსიტეტია\, US\n\n\nმიხეილ ელაშვილი\, Prof\, Dr.\nილიას სახელმწიფო უნივერსიტეტი\, GE\n\n\nლევან ტიელიძე\, Prof. Dr.\nილიას სახელმწიფო უნივერსიტეტი\, GE\, ველინგტონის ვიქტორიას უნივერსიეტი\, NZ\n\n\nჰელმუტ ბრუკნერი\, Prof. Dr.\nგეოგრაფიის ინსტიტუტი\, კიოლნის უნივერსიტეტი\, DE\n\n\nჰანეს ლაერმანსი\, Dr.\nგეოგრაფიის ინსტიტუტი\, კიოლნის უნივერსიტეტი\, DE\n\n\nანკა-ქრისტინა დან\, Prof. Dr.\nსამეცნეირო კვლევების ეროვნული ცენტრი\, Ecole Normale Superieure\, FR\n\n\nუდო შლოცჰაუერი\, Dr.\nგერმანიის არქეოლოგიის სკოლა (DAI)\, DE\n\n\nჰანს ფონ სუხოდოლეცი\, Dr.\nგეოგრაფიის ინსტიტუტი\, ლაიპციგის უნივერსიტეტი\, DE\n\n\nნათანიელ ერბ-სათურლო\, Prof\, Dr.\nქრენფილდის უნივერსიტეტი\, UK\n\n\n\n\nპირველი ორი დღე 11-12 ივლისი დაეთმობა მოხსენებებს და სამუშაო შეხვედრებს. 13 ივლისს დაგეგმილია საველე-კვლევითი გასვლა დმანისის მიმართულებით\, ხოლო 14- 18 ივლისს სამეგრელო-ზემო სვანეთის რეგიონში\, რომელიც სამომავლო კვლევების ძირითად არეალს წარმოადგენს. \nსამუშაო ენა: ინგლისური \nდრო: 11-12 ივლისი \nადგილმდებარეობა: ილიას სახელმწიფო უნივერსიტეტი\, E207 აუდიტორია\, ქ.ჩოლოყაშვილის გამზ. N3/5 \n2023 წელი \nhttps://iliauni.edu.ge/uploads/other/78/78801.pdf \n\n			\n				\n			\n		\n\n[wpai_display_imported_files_here]
URL:https://events.iliauni.edu.ge/event/saerthashoriso-vorkshophi-saqarthvelos-istoriuli-mqhinvaruli-kerni-sapilote-publikatsiebi-da-shemdgomi-nabijebi/
CATEGORIES:ღონისძიებები
ATTACH;FMTTYPE=image/png:https://events.iliauni.edu.ge/wp-content/uploads/2025/09/cover_default.png
END:VEVENT
BEGIN:VEVENT
DTSTART;TZID=Asia/Dubai:20230714T140000
DTEND;TZID=Asia/Dubai:20230714T140000
DTSTAMP:20260423T025500
CREATED:20230710T090601Z
LAST-MODIFIED:20240201T111509Z
UID:10000022-1689343200-1689343200@events.iliauni.edu.ge
SUMMARY:Back2Networking კონფერენცია
DESCRIPTION:14 ივლისს\, 14:00 საათზე\, ილიას სახელმწიფო უნივერსიტეტისა და კომპანია Greennet-ის ორგანიზებით გაიმართება Back2Networking კონფერენცია\, რომლის თითოეული სესია იქნება მინი-ვორშოპი – კონკრეტული ტექნოლოგიის განხილვა საფუძვლებიდან მისი იმპლემენტაციის მაგალითებამდე. \nთემებისა და მომხსენებლების შესახებ: \nდავით ირემაძე – „ქსელური ბრანდმაუერების წარმადობის ტესტირება“ \nდავით ირემაძე\, ქსელის ინჟინერი\, ამ სფეროში 15 წელია მოღვაწეობს. თავის საქმიანობაში აქცენტს აკეთებს მომავალი თაობის ბრანდმაუერებზე. დავითი ქსელური ბრანდმაუერების წარმადობის ტესტირების სესიაზე გაგიზიარებთ საუკეთესო პრაქტიკას ქსელური ბრანდმაურის წარმადობის შესაფასებლად. \nალექსანდრე ხიდეშელი – „ქსელის ტესტირების ავტომატიზაცია“ \nალექსანდრე ხიდეშელი ქსელური ინჟინერიის სფეროს ამომავალი ვარსკვლავია. მისმა მიდგომებმა და თანამედროვე ხედვამ ხელი შეუწყო მოკლე დროში დიდი განაწილებული ქსელების პრობლემების სწრაფ და ეფექტურ მოძიებასა და აღმოფხვრას. ქსელის ტესტირების ავტომატიზაცის სესიაზე იგი გაგიზიარებთ ქსელის ტესტირების თანამედროვე მიდგომებს. \nალექს ზნამენსკი – „LAN\, WAN და Cloud რესურსების ტესტირების მასშტაბირება“ \nალექს ზნამენსკი ქსელის პროფესიონალია 21-წლიანი გამოცდილებით. მისი კარიერის განმავლობაში წარმატებით ახორციელებდა დიდი განაწილებული ქსელების ადმინისტრირებას\, სწორედ ამიტომ\, იგი საინტერესო მომხსენებელია B2N აუდიტორიისთვის. LAN\, WAN და Cloud რესურსების ტესტირების მასშტაბირების სესიაზე ალექსი გაგიზიარებთ პრაქტიკულ გამოცდილებას თანამედროვე განაწილებულ ქსელში სხვადასხვა ქსელური სეგმენტის ტესტირების უზრუნველყოფის მიმართულებით. \nრატომ უნდა დაესწრო B2N-ს? \n\nდაუკავშირდები ქსელის ინჟინრებს\, რითაც შეძლებ  ნეთვორქინგის გაფართოებას;\nჩაერთვები დისკუსიებში და გაეცნობი პრაქტიკაზე დაფუძნებულ ექსპერტთა დაკვირვებებს;\nიმუშავებ მარკეტინგისგან თავისუფალი გარემოში\, რომელიც ორიენტირებულია ტექნიკური ცოდნის გაზიარებაზე.\n\nსარეგისტრაციო ბმული: https://b2n2023.ticketforevent.com/ \nსამუშაო ენა: ქართული \nდრო: 14 ივლისი\, 14:00 საათი \nადგილმდებარეობა: ილიას სახელმწიფო უნივერსიტეტი\, T102 საკონფერენციო დარბაზი\, ქ. ჩოლოყაშვილის გამზ. N3/5 \nდასწრება თავისუფალია. \n2023 \n\n			\n				\n			\n		\n\n[wpai_display_imported_files_here]
URL:https://events.iliauni.edu.ge/event/back2networking-konpherentsia/
CATEGORIES:ღონისძიებები
ATTACH;FMTTYPE=image/png:https://events.iliauni.edu.ge/wp-content/uploads/2025/09/cover_default.png
END:VEVENT
END:VCALENDAR