BEGIN:VCALENDAR
VERSION:2.0
PRODID:-//უნივერსიტეტის ღონისძიებების პორტალი - ECPv6.2.8.2//NONSGML v1.0//EN
CALSCALE:GREGORIAN
METHOD:PUBLISH
X-ORIGINAL-URL:https://events.iliauni.edu.ge
X-WR-CALDESC:Events for უნივერსიტეტის ღონისძიებების პორტალი
REFRESH-INTERVAL;VALUE=DURATION:PT1H
X-Robots-Tag:noindex
X-PUBLISHED-TTL:PT1H
BEGIN:VTIMEZONE
TZID:Asia/Dubai
BEGIN:STANDARD
TZOFFSETFROM:+0400
TZOFFSETTO:+0400
TZNAME:+04
DTSTART:20230101T000000
END:STANDARD
END:VTIMEZONE
BEGIN:VEVENT
DTSTART;TZID=Asia/Dubai:20230224T160000
DTEND;TZID=Asia/Dubai:20230224T160000
DTSTAMP:20260423T151650
CREATED:20230126T124157Z
LAST-MODIFIED:20240201T112421Z
UID:10000159-1677254400-1677254400@events.iliauni.edu.ge
SUMMARY:„ყველაფერი შაქრის შესახებ“ – სამეცნიერო-პოპულარული ლექცია ექსპერიმენტებით მოსწავლეებისთვის
DESCRIPTION:24 თებერვალს\, 16:00 საათზე\, ილიას სახელმწიფო უნივერსიტეტის საბუნებისმეტყველო მეცნიერებებისა და მედიცინის ფაკულტეტის პროფესორი ქეთევან კუპატაძე მოსწავლეებისთვის გამართავს სამეცნიერო-პოპულარულ ლექციას „ყველაფერი შაქრის შესახებ“ ექსპერიმენტებით. \nლექციაზე მოსწავლეებს ექნებათ შესაძლებლობა\, გაეცნონ შაქარს\, მის თვისებებს\, ასევე ჩაერთონ საინტერესო ლაბორატორიულ ექსპერიმენტებში შაქრის გამოყენებით. \nმომხსენებელი ისაუბრებს შემდეგ თემებზე: \n\nრას ფიქრობდა შაქარზე ავიცენა?\nროდის მიირთმევდნენ ევროპის მეფენი შაქარს?\nროგორ გავრცელდა შაქარი?\nვინ იყვნენ შაქრის ზომბები?\nრას წარმოადგენს შაქარი ქიმიური თვალსაზრისით\, როგორი თვისებები აქვს? რა ემართება ჩვენს ორგანიზმში?\nროგორ ამოვიცნოთ დაფარული შაქარი პროდუქტების ეტიკეტებში?\nრა საერთო აქვს და რით განსხვავდება შაქარი და თაფლი?\nრომელია ყველაზე უსაფრთხო ტკბილეული?\nრა საერთო აქვს შაქარს მარილთან და რას ნიშნავს „მარილის გემო“?\n\nვისთვის არის განკუთვნილი ლექცია?\nთემით დაინტერესებული მოსწავლეებისთვის. \nროგორ მივიღო მონაწილეობა?\nვორკშოპში მონაწილეობისთვის საჭიროა წინასწარი რეგისტრაცია. შესაძლებელია როგორც ინდივიდუალური\, ასევე ჯგუფური რეგისტრაცია. \nრეგისტრაციისთვის: https://bit.ly/3HdJGGu \nრეგისტრაციის ბოლო ვადა: 17 თებერვალი\, 23:59 საათი \nდრო: 24 თებერვალი\, 16:00 საათი \nსამუშაო ენა: ქართული \nადგილმდებარეობა: B 201 დარბაზი\, ილია ჭავჭავაძის გამზირი N32 \n2023 წელი \n\n			\n				\n			\n		\n\n[wpai_display_imported_files_here]
URL:https://events.iliauni.edu.ge/event/qhvelapheri-shaqris-shesakheb-sametsniero-popularuli-leqtsia-eqsperimentebith-mostsavleebisthvis/
CATEGORIES:ღონისძიებები
ATTACH;FMTTYPE=image/png:https://events.iliauni.edu.ge/wp-content/uploads/2023/01/74492.png
END:VEVENT
BEGIN:VEVENT
DTSTART;TZID=Asia/Dubai:20230224T160000
DTEND;TZID=Asia/Dubai:20230224T160000
DTSTAMP:20260423T151650
CREATED:20230221T070122Z
LAST-MODIFIED:20240201T112413Z
UID:10000154-1677254400-1677254400@events.iliauni.edu.ge
SUMMARY:პროფესორ კურტ შარის საჯარო მოხსენება ავსტრიული კულტურის ცენტრში
DESCRIPTION:24 თებერვალს\, 16:00 საათზე\, ილიას სახელმწიფო უნივერსიტეტის S507 სასემინარო დარბაზში საქართველოში ავსტრიის საელჩოსა და ავსტრიული კულტურის ცენტრის ორგანიზებით ინსბრუკის უნივერსიტეტის პროფესორი\, ისტორიკოსი კურტ შარი წაიკითხავს საჯარო მოხსენებას “Schaufeln-Schubkarren-Stacheldraht. Peter Demant – Erinnerungen eines Österreichers an Zwangsarbeitslager und Verbannung in der Sowjetunion” . \nღონისძიებას დაესწრება ავსტრიის ელჩი საქართველოში თომას მიულმანი. \nპროფესორი კურტ შარი ასევე გამართავს მოკლე პრეზენტაციას სასკოლო პროექტის შესახებ\, რომლის განხორციელება იგეგმება საქართველოს სკოლებთან თანამშრომლობით. \nსამუშაო ენა: გერმანული \nდრო: 24 თებერვალი\, 16:00 საათი \nადგილმდებარეობა: ილიას სახელმწიფო უნივერსიტეტი\, S507 სასემინარო დარბაზი (ავსტრიული ბიბლიოთეკა)\, გ. წერეთლის ქ. N3 \nდასწრება თავისუფალია. \n2023 წელი \n\n			\n				\n			\n		\n\n[wpai_display_imported_files_here]
URL:https://events.iliauni.edu.ge/event/prophesor-kurt-sharis-sajaro-mokhseneba-avstriuli-kulturis-tsentrshi/
CATEGORIES:ღონისძიებები
ATTACH;FMTTYPE=image/png:https://events.iliauni.edu.ge/wp-content/uploads/2023/02/74567.png
END:VEVENT
END:VCALENDAR