BEGIN:VCALENDAR
VERSION:2.0
PRODID:-//უნივერსიტეტის ღონისძიებების პორტალი - ECPv6.2.8.2//NONSGML v1.0//EN
CALSCALE:GREGORIAN
METHOD:PUBLISH
X-ORIGINAL-URL:https://events.iliauni.edu.ge
X-WR-CALDESC:Events for უნივერსიტეტის ღონისძიებების პორტალი
REFRESH-INTERVAL;VALUE=DURATION:PT1H
X-Robots-Tag:noindex
X-PUBLISHED-TTL:PT1H
BEGIN:VTIMEZONE
TZID:Asia/Dubai
BEGIN:STANDARD
TZOFFSETFROM:+0400
TZOFFSETTO:+0400
TZNAME:+04
DTSTART:20230101T000000
END:STANDARD
END:VTIMEZONE
BEGIN:VEVENT
DTSTART;TZID=Asia/Dubai:20230206T170000
DTEND;TZID=Asia/Dubai:20230206T170000
DTSTAMP:20260424T023723
CREATED:20230130T082343Z
LAST-MODIFIED:20240201T112354Z
UID:10000143-1675702800-1675702800@events.iliauni.edu.ge
SUMMARY:ALUMNI TALKS: შეხვედრა ნინო მახაშვილთან
DESCRIPTION:საერთაშორისო სადოქტორო სკოლის ორგანიზებით გრძელდება შეხვედრათა სერია „Alumni Talks” \n6 თებერვალს\, 17:00 საათზე\, წიგნის სახლში „ლიგამუსი“  ალუმნი საუბრების ფარგლებში სტუმარი იქნება ილიას სახელმწიფო უნივერსიტეტის ასოცირებული პროფესორი ნინო მახაშვილი. \nმომხსენებელი გაგვიზიარებს დოქტორანტურაში სწავლის გამოცდილებას\, ისაუბრებს   კვლევაზე მრავალწლიანი მუშაობისას დოქტორანტთა წარმატების გზებისა თუ გამოწვევების შესახებ. \nშეხვედრა ძირითადად კითხვა-პასუხის ფორმატში გაიმართება და მსმენელებს შესაძლებლობა ექნებათ\, პასუხები მიიღონ მათთვის საინტერესო საკითხებზე. \nპროფესორი ნინო მახაშვილი ხელმძღვანელობს ილიას სახელმწიფო უნივერსიტეტის ფსიქიკური ჯანმრთელობის რესურცენტრს. იგი ამავე უნივერსიტეტის ფსიქიკური ჯანმრთელობის სამაგისტრო პროგრამის ერთ-ერთი დამფუძნებელი და ლექტორია; 2017 წელს შეუერთდა ბიზნესის სკოლის სადოქტორო პროგრამას კურსით „თემზე დაფუძნებული მონაწილეობითი კვლევა“ (community-based participatory research). \nდეტალური ინფორმაცია ნინო მახაშვილის შესახებ იხილეთ: https://faculty.iliauni.edu.ge/business/nino-makhashvili/ \nგთხოვთ\, რეგისტრაცია გაიაროთ შემდეგი ბმულის მეშვეობით: https://bit.ly/3wFleJt  \nდრო: 6 თებერვალი\, 17:00 საათი \nადგილმდებარეობა: წიგნის სახლი ლიგამუსი\, ი. ჭავჭავაძის გამზ. N32 \n2023 წელი \n\n			\n				\n			\n		\n\n[wpai_display_imported_files_here]
URL:https://events.iliauni.edu.ge/event/alumni-talks-shekhvedra-nino-makhashvilthan/
CATEGORIES:ღონისძიებები
ATTACH;FMTTYPE=image/png:https://events.iliauni.edu.ge/wp-content/uploads/2023/01/74220.png
END:VEVENT
BEGIN:VEVENT
DTSTART;TZID=Asia/Dubai:20230207T140000
DTEND;TZID=Asia/Dubai:20230207T140000
DTSTAMP:20260424T023723
CREATED:20230206T083447Z
LAST-MODIFIED:20240201T112432Z
UID:10000168-1675778400-1675778400@events.iliauni.edu.ge
SUMMARY:დოქტორანტ სვეტლანა ბერიკაშვილის სადისერტაციო ნაშრომის დაცვა
DESCRIPTION:7 თებერვალს\, 14:00 საათზე\, ილიას სახელმწიფო უნივერსიტეტის G106 აუდიტორიაში გაიმართება ილიას სახელმწიფო უნივერსიტეტისა და გეორგ-აუგუსტის გიოტინგენის უნივერსიტეტის (გერმანია) ერთობლივი ტრანსდისციპლინური საერთაშორისო სადოქტორო პროგრამის კარლ ფრიდრიხ ლემან-ჰაუპტის საერთაშორისო სადოქტორო პროგრამის დოქტორანტ სვეტლანა ბერიკაშვილის სადოქტორო ნაშრომის „სუბიექტის დიფერენცირებული მარკირება ქართულში (Differential Subject Marking in Georgian)“ დაცვა. \nპროგრამა დოქტორანტს შესაძლებლობას აძლევს\, კოტუტელის პრინციპზე დაფუძნებული მოდელით დაიცვას ნაშრომი და მიიღოს ორმაგი სადოქტორო ხარისხი და ორივე უნივერსიტეტის დიპლომი. \nდოქტორანტი სუბიექტის დიფერენცირებულ მარკირებას (DSM) ქართულ ენაში იკვლევს გენერაციული სინტაქსის თეორიის ფარგლებში და ასკვნის\, რომ სუბიექტის ბრუნვების დიფერენციაცია არ არის მხოლოდ იმ ოპერაციების შედეგი\, რომელიც მორფოლოგიურ სტრუქტურაში (MS) ფონეტიკური ფორმის (PF) დონეზე სინტაქსური რეპრეზენტაციის შემდეგ ვლინდება\, პირიქით\, ბრუნვის მინიჭებაც და შეთანხმებაც მინიჭებული ბრუნვის (დამოკიდებული\, არამარკირებული და ა.შ.) საფუძველზე სინტაქსის ნაწილია. სადისერტაციო ნაშრომი სუბიექტის ე. წ. „არაკანონიკურად მარკირებული“ მოთხრობითი და მიცემითი ბრუნვების მინიჭებას ხსნის წმინდა დამოკიდებული ბრუნვის (pure DC) ალგორითმის მეშვეობით და ასკვნის\, რომ დამოკიდებული ბრუნვის თეორია (DCT) საკმარისია სტრუქტურული ბრუნვების მინიჭების გასაანალიზებლად. \nსამეცნიერო ხელმძღვანელები გეორგ-აუგუსტის გიოტინგენის უნივერსიტეტიდან: პროფესორი\, დოქტორი ჰედი ზაელსტრა (UGOE)\, პროფესორი\, დოქტორი ანკე ჰოლერი (UGOE) \nსამეცნიერო ხელმძღვანელები ილიას სახელმწიფო უნივერსიტეტიდან: \nპროფესორი\, დოქტორი ნინო დობორჯგინიძე (ISU)\, პროფესორი\, დოქტორი ირინა ლობჟანიძე (ISU) \nსამუშაო ენა: ინგლისური \nდრო: 7 თებერვალი\, 14:00 საათი \nადგილმდებარეობა: ილიას სახელმწიფო უნივერსიტეტის G106 აუდიტორია \n2023 წელი \n\n			\n				\n			\n		\n\n[wpai_display_imported_files_here]
URL:https://events.iliauni.edu.ge/event/doqtorant-svetlana-berikashvilis-sadisertatsio-nashromis-datsva/
CATEGORIES:ღონისძიებები
ATTACH;FMTTYPE=image/png:https://events.iliauni.edu.ge/wp-content/uploads/2023/02/74273.png
END:VEVENT
END:VCALENDAR