BEGIN:VCALENDAR
VERSION:2.0
PRODID:-//უნივერსიტეტის ღონისძიებების პორტალი - ECPv6.2.8.2//NONSGML v1.0//EN
CALSCALE:GREGORIAN
METHOD:PUBLISH
X-ORIGINAL-URL:https://events.iliauni.edu.ge
X-WR-CALDESC:Events for უნივერსიტეტის ღონისძიებების პორტალი
REFRESH-INTERVAL;VALUE=DURATION:PT1H
X-Robots-Tag:noindex
X-PUBLISHED-TTL:PT1H
BEGIN:VTIMEZONE
TZID:Asia/Dubai
BEGIN:STANDARD
TZOFFSETFROM:+0400
TZOFFSETTO:+0400
TZNAME:+04
DTSTART:20220101T000000
END:STANDARD
END:VTIMEZONE
BEGIN:VEVENT
DTSTART;TZID=Asia/Dubai:20221129T160000
DTEND;TZID=Asia/Dubai:20221129T160000
DTSTAMP:20260424T023655
CREATED:20221128T123835Z
LAST-MODIFIED:20240202T101239Z
UID:10000223-1669737600-1669737600@events.iliauni.edu.ge
SUMMARY:"ინტერაქტიული გამოფენის „სამყარო
DESCRIPTION:29 ნოემბერს\, 16:00 საათზე\, ილიას სახელმწიფო უნივერსიტეტის G106 აუდიტორიაში გოეთეს ინსტიტუტის ორგანიზებით მიმდინარე ინტერაქტიული გამოფენის „სამყარო\, ადამიანი\, ინტელექტი“ დახურვის ღონისძიების პარალელურად გაიმართება ამავე სახელწოდების პანელური დისკუსია. \nდისკუსიაზე ვიმსჯელებთ გერმანიაზე\, როგორც მსოფლიოს ერთ-ერთ მნიშვნელოვან კონტრიბუტორზე კვლევასა და განვითარებაში\, ასევე გერმანული ენის სწავლებისა და ცოდნის უპირატესობებზე გლობალური წარმატებისთვის\, როგორც გლობალურ\, ისე ადგილობრივ (საქართველოს\, ილიას სახელმწიფო უნივერსიტეტის) კონტექსტში. \nღონისძიება მოიცავს გახსნით ნაწილს\, ინტერაქტიულ შემეცნებით თამაშს მოსწავლეებისთვის და პანელურ დისკუსიას. \nღონისძიებას გახსნიან ილიას სახელმწიფო უნივერსიტეტის რექტორი\, პროფესორი ნინო დობორჯგინიძე\, გერმანიის ელჩის მოადგილე საქართველოში ტანია ჰუტი და გოეთეს ინსტიტუტის დირექტორის მოადგილე\, პროგრამების ხელმძღვანელი სუზან რადვანი. \nღონისძიების გახსნის შემდეგ მოსწავლეებისთვის გაიმართება ინტერაქტიული შემეცნებითი თამაში გამოფენის თემატიკაზე. გამოვლინდებიან გამარჯვებულები\, რომელთაც დააჯილდოებს გოეთეს ინსტიტუტი და ილიას სახელმწიფო უნივერსიტეტი. \nღონისძიების დასკვნით ეტაპზე ილიას სახელმწიფო უნივერსიტეტის პროფესორები\, მკვლევრები ფართო აუდიტორიას პანელური დისკუსიის ფორმატში წარუდგენენ უნივერსიტეტში გერმანიის მხარდაჭერით მიმდინარე სამეცნიერო-კვლევით პროექტებს\, საგანმანათლებლო პროგრამებსა და ინიციატივებს. \nსამუშაო ენა: გერმანული \nდრო: 29 ნოემბერი\, 16:00 საათი \nადგილმდებარეობა: G106 აუდიტორია\, გ.წერეთლის გამზ. N1 \nდასწრება თავისუფალია. \n2022 წელი \n  \n\n			\n				\n			\n		\n\n[wpai_display_imported_files_here]
URL:https://events.iliauni.edu.ge/event/interaqtiuli-gamophenis-samqharo/
CATEGORIES:ღონისძიებები
ATTACH;FMTTYPE=image/png:https://events.iliauni.edu.ge/wp-content/uploads/2025/09/cover_default.png
END:VEVENT
BEGIN:VEVENT
DTSTART;TZID=Asia/Dubai:20221201T101400
DTEND;TZID=Asia/Dubai:20221201T101400
DTSTAMP:20260424T023655
CREATED:20221129T061436Z
LAST-MODIFIED:20240201T112604Z
UID:10000221-1669889640-1669889640@events.iliauni.edu.ge
SUMMARY:ევროკავშირის საუკეთესო პრაქტიკის გაზიარება – სემინარი სტუდენტებისთვის
DESCRIPTION:1-ელ დეკემბერს\, 15:00 საათზე\, წიგნის სახლში „ლიგამუსი“ საქართველოს განათლებისა და მეცნიერების სამინისტროს პროგრამის „უმაღლესი საგანმანათლებლო დაწესებულებების ხელშეწყობის“ ქვეპროგრამის „სტუდენტების ფსიქოლოგიური და სოციალური სერვისის პლატფორმის მხარდაჭერის“ ფარგლებში გაიმართება სემინარი\, რომლის მიზანია სტუდენტებისთვის ევროკავშირის საუკეთესო პრაქტიკის გაზიარება ფსიქოლოგიური კონსულტაციის ცენტრების შესახებ. \nქვეპროგრამა ხორციელდება სოხუმის სახელმწიფო უნივერსიტეტის ბაზაზე და მისი მიზანია\, ხელი შეუწყოს საქართველოს უმაღლესი საგანმანათლებლო დაწესებულებებისთვის სტუდენტთა სოციალური და ფსიქოლოგიური მხარდაჭერის პლატფორმის შექმნას\, სტუდენტებისთვის ფსიქოლოგიური სერვისის მოდელის ფორმირებას. \nსემინარზე ილიას სახელმწიფო უნივერსიტეტი წარმოადგენს საკონსულტაციო ცენტრის მიღწევების მოკლე ანგარიშს. \nსამუშაო ენა: ქართული \nდრო: 1-ელი დეკემბერი\, 15:00 საათი \nადგილმდებარეობა: წიგნის სახლი „ლიგამუსი“\, ილიას სახელმწიფო უნივერსიტეტი\, ი. ჭავჭავაძის გამზ. N32 \nდასწრება თავისუფალია. \n2022 წელი \n  \n\n			\n				\n			\n		\n\n[wpai_display_imported_files_here]
URL:https://events.iliauni.edu.ge/event/evrokavshiris-sauketheso-praqtikis-gaziareba-seminari-studentebisthvis/
CATEGORIES:ღონისძიებები
ATTACH;FMTTYPE=image/png:https://events.iliauni.edu.ge/wp-content/uploads/2022/11/71678.png
END:VEVENT
BEGIN:VEVENT
DTSTART;TZID=Asia/Dubai:20221203T100000
DTEND;TZID=Asia/Dubai:20221203T100000
DTSTAMP:20260424T023655
CREATED:20221124T100002Z
LAST-MODIFIED:20240201T112601Z
UID:10000219-1670061600-1670061600@events.iliauni.edu.ge
SUMMARY:საქართველოს ბიოქიმიკოსთა ასოციაციის IV კონფერენცია
DESCRIPTION:3 დეკემბერს\, 10:00 საათზე\, ილიას სახელმწიფო უნივერსიტეტში საქართველოს ბიოქიმიკოსთა ასოციაციის IV კონფერენცია გაიხსნება. \nსაქართველოს ბიოქიმიკოსთა ასოციაცია ევროპის ბიოქიმიკოსთა საზოგადოებების ფედერაციის წევრია და 2017 წლიდან ატარებს კონფერენციებს. \n\nგანრიგი \nI სესია  \n10:00 -10:30\nრევაზ სოლომონია – მისალმება;\nევროპის ბიოქიმიკოსთა საზოგადოებების ფედერაციის (FEBS) ახალი ინიციატივების შესახებ \n10:30-11:00\nთამარ ბარბაქაძე\n„თიროიდული ჰორმონების მოქმედების ინტეგრინით გაშუალებული ეფექტები ჰიპოქსიის პირობებში“ \n11:00-11:30\nვლადიმირ ელისაშვილი\n„ბაზიდიალური სოკოები\, როგორც მრავალფუნქციური უჯრედული ფაბრიკა: არსებული მდგომარეობა და პერსპექტივები“ \n11:30-12:00\nმარიამ შენგელია\n„ფსიქო-ემოციური სტრესი და კრეატინის გავლენა PI3K/AKT/mTOR სასიგნალო გზაზე“ \n12:00-12:30\nყავის შესვენება\n_____________________________________________________________________________________________ \nII სესია \n12:30-13:00\nგვანცა ჭკადუა\n‘Na.K-ATPაზური სისტემის H2O2-ით რეგულაციის ზოგიერთი საკითხი” \n13:00-13:30\nადამ კოტორაშვილი\n„ძუძუს კიბოს დიაგნოზის მქონე პაციენტების გენეტიკური ანალიზი ახალი თაობის სექვენირების (NGS) ტექნოლოგიის გამოყენებით (პოპულაციური კვლევა)” \n13:30-14:15\nლანჩი\n_____________________________________________________________________________________________ \nIII სესია \n14:15-14:45 \nნანა კუნელაური\n„ქართული შინაური ცხოველების წარმოშობისა და მიგრაციის საკითხების შესწავლა\, მიტოქონდრიული დნმ-ის კვლევის საფუძველზე“ \n14:45-15:15\nგიორგი ზაალიშვილი\n“PARP_ის ინჰიბირება იწვევს TOP1_ის მოწამვლით გამოწვეული Caspase 3_ზე დამოკიდებული უჯრედის სიკვდილის შეფერხებას”. \n15:15-15:45\nევგენია ალიმბარაშვილი\n“In silico დიზაინით შექმნილი პეპტიდების ანტიმიკრობული პოტენციალისა და მოქმედების მექანიზმის შესწავლა გრამ-უარყოფით ბაქტერიებზე“. \n15:45-16:00\nყავის შესვენება\n_____________________________________________________________________________________________ \nIV სესია \n16:00-16:30\nნინა კულიკოვა\n„ამინომჟავა ლეიცინის საფუძველზე ფსევდო-პროტეინული ფირები როგორც პერსპექტიული ბიოსამედიცინო მასალები”\, \n16:30-17:00\nლია წვერავა\n„უჯრედული თერმული წანაცვლების მეთოდით ინოზიტოლის მოქმედების სამიზნე ცილების იდენტიფიკაცია. \n\nსამუშაო ენა: ქართული \nდრო: 3 დეკემბერი\, 10:00 საათი \nადგილმდებარეობა: ილიას სახელმწიფო უნივერსიტეტი\, T 102 საკონფერენციო\, ქ. ჩოლოყაშვილის გამზ. 3/5 \nკონფერენციის პროგრამა იხ.ბმულზე: https://bit.ly/3Es3a92 \n2022 წელი \n\n			\n				\n			\n		\n\n[wpai_display_imported_files_here]
URL:https://events.iliauni.edu.ge/event/saqarthvelos-bioqimikostha-asotsiatsiis-iv-konpherentsia/
CATEGORIES:კონფერენციები
ATTACH;FMTTYPE=image/png:https://events.iliauni.edu.ge/wp-content/uploads/2022/11/71497.png
END:VEVENT
BEGIN:VEVENT
DTSTART;TZID=Asia/Dubai:20221203T200000
DTEND;TZID=Asia/Dubai:20221203T200000
DTSTAMP:20260424T023655
CREATED:20221125T064900Z
LAST-MODIFIED:20240201T112556Z
UID:10000215-1670097600-1670097600@events.iliauni.edu.ge
SUMMARY:სპექტაკლი „უხერხემლო“
DESCRIPTION:დრამა 1 მოქმედებად \nროგორია საქართველოში ცხოვრება\, როდესაც განსხვავებული ხარ? რა უნდა დაუპირისპირო მეგობრების\, ოჯახის\, საზოგადოების\, ქვეყნის გულგრილობას? როგორ უნდა გადარჩე\, ან ღირს კი გადარჩენა\, როდესქაც არავის სჭირდები\, არავის ესმის შენი? ამ ერთ ტრაგიკულ ამბავში\, რომელიც დრამატურგმა ალექს ჩიღვინაძემ რეალურ ისტორიაზე დაფუძნებით დაწერა\, თითქოს მთელი საზოგადოების პრობლემებია გაერთიანებგული და დაფიქრებისკენ გვიბიძგებს\, როგორ შევცვალოთ ის ქვეყანა\, სადაც მშობლებს საკუთარი განსხვავებული ორიენტაციის შვილის დაკრძალვა მეზობლებისგან\, სოფლისგან\, ქვეყნისგან მალულად უწევთ. \nრეჟისორი – გელა გულიაშვილი (სადიპლომო ნაშრომი)\nმხატვარი – თეო კუხიანიძე\nტექნიკური რეჟისორი – მაკა მეტრეველი\nდადგმის ხელმძღვანელი – ვანო ხუციშვილი\, ილიას სახელმწიფო უნივერსიტეტის ასოცირებული პროფესორი \nმონაწილეობენ: \n\nმართა – მაიკო ხორნაული\nმამია – გიორგი ცერცვაძე\nნინო – ანიკო შურღაია\nდანიელი – გიორგი მაქაძე\n\nსპექტაკლის პრემიერა შედგა 2022 წლის 2 ივლისს \n\nიხილეთ ფოტო გალერეა\n\n\nდრო: 3 დეკემბერი\, 20:00 საათი \nხანგრძლივობა: 1 საათი და 30 წუთი \nადგილმდებარეობა: ილიას სახელმწიფო უნივერსიტეტის თეატრი\, ილია ჭავჭავაძის გამზირი N32 (უკანა ეზო) \n2022 წელი \n\n\n			\n				\n			\n		\n\n[wpai_display_imported_files_here]
URL:https://events.iliauni.edu.ge/event/speqtakli-ukherkhemlo-2/
CATEGORIES:ღონისძიებები
ATTACH;FMTTYPE=image/png:https://events.iliauni.edu.ge/wp-content/uploads/2022/11/71572.png
END:VEVENT
BEGIN:VEVENT
DTSTART;TZID=Asia/Dubai:20221204T200000
DTEND;TZID=Asia/Dubai:20221204T200000
DTSTAMP:20260424T023655
CREATED:20221125T065100Z
LAST-MODIFIED:20240201T112553Z
UID:10000213-1670184000-1670184000@events.iliauni.edu.ge
SUMMARY:სპექტაკლი „მარატ-სადი“
DESCRIPTION:ჟან-პოლ მარატის დევნა და მკვლელობა\, შარანტონის თავშესაფრის მსახიობთა მიერ დადგმული მარკიზ დე სადის ხელმძღვანელობით \n1 მოქმედებად \nშესაძლებელია კი სრული თანასწორობის მიღწევა რევოლუციის საშუალებით? არის კი რევოლუცია გზა\, რომელიც თავისუფლებისა და ძმობის შეგრძნებებს მოგვიტანს და სურვილებს დაგვიკმაყოფილებს? სწორედ ამ კითხვებზე პასუხების ძიებაში პიესის მთავარი გმირი\, მარკიზ დე სადი შარანტონის საგიჟეთში\, პაციენტების მონაწილეობით ექსპერიმენტულ სპექტაკლს დგამს და შედეგი\, რომელსაც ის მიიღებს\, საკმაოდ მოულოდნელია. \nახალგაზრდა დამწყებმა რეჟისორმა\, საბა ასლამაზიშვილმაც თავისი სადებიუტო სპექტაკლისთვის ექსპერიმენტის გზა აირჩია და წარმოდგენა არა ტრადიციულ სივრცეში\, არამედ თეატრის ფოიეში დადგა. ორი საათით ილიაუნის თეატრი შარანტონის თავშესაფარის იერს მიიღებს და მსახიობები მაყურებელთან ერთად შეეცდებიან საფრანგეთის რევოლუციის პერიპეტიების გახსენებისას მონახონ პახუხები იმ კითხვებზე\, რომელნიც დღესაც ესოდენ საჭირბოროტოა. \nამ სპექტაკლით რეჟისორი წარდგენილი გახლდათ წინანდლის პრემიაზე \nავტორი: პეტერ ვაისი \nრეჟისორი: საბა ასლამაზიშვილი\nმხატვარი: თეო კუხიანიძე\nტექნიკური რეჟისორი: თამუნა კამლაძე\nსპექტაკლისთვის მუსიკა სპეციალურად დაწერა კონსტანტინე ეჯიბაშივლმა\nსპექტაკლში გამოყენებულია ჯემალ ჭელიძის თარგმანი \nმოქმედი პირნი და შემსრულებელნი: \n\nჟან-პოლ მარატი – ბაჩო ჩაჩიბაია\nმარკიზ დე სადი – ამირან ქაჩიბაია\nშარლოტა კორდე – ანი იმნაძე\nსიმონა ევრარი – ანიკო შურღაია\nკულმიე – გივიკო ბარათაშვილი\nდიუპრე – ვლადიმერ ვაშაკიძე\nმღვდელი ჟაკრუ – კონსტანტინე ეჯიბაშივლი\nმაცნე – ანდრია ვაჭრიძე\nმედდა – ლიკა ზარნაძე\,\nსანიტარი –  ლუკა ახალაძე\nპაციენტები – თორნიკე კაკულია\, გაგა არაბული\, პაატა ბაბლუანი\, გიორგი მაქაძე\, მარიამ ბალახაძე\, ელენე დაბრუნდაშვილი\n\nსპექტაკლის პრემიერა შედგა 2018 წლის 10 მაისს \nსპექტაკლი დაიდგა თბილისის მერიის ფინანსური ხელშეწყობით \n\nიხილეთ ფოტო გალერეა\nიხილეთ ვიდეო\n\n\nდრო: 4\, 16 დეკემებრი\, 20:00 საათი \nხანგრძლივობა: 1 საათი და 50 წუთი ანტრაქტის გარეშე \nადგილმდებარეობა: ილიას სახელმწიფო უნივერსიტეტის თეატრი\, ილია ჭავჭავაძის გამზირი N32 (უკანა ეზო) \n\n2022\n\n			\n				\n			\n		\n\n[wpai_display_imported_files_here]
URL:https://events.iliauni.edu.ge/event/speqtakli-marat-sadi/
CATEGORIES:ღონისძიებები
ATTACH;FMTTYPE=image/jpeg:https://events.iliauni.edu.ge/wp-content/uploads/2022/11/71569.jpg
END:VEVENT
END:VCALENDAR