BEGIN:VCALENDAR
VERSION:2.0
PRODID:-//უნივერსიტეტის ღონისძიებების პორტალი - ECPv6.2.8.2//NONSGML v1.0//EN
CALSCALE:GREGORIAN
METHOD:PUBLISH
X-ORIGINAL-URL:https://events.iliauni.edu.ge
X-WR-CALDESC:Events for უნივერსიტეტის ღონისძიებების პორტალი
REFRESH-INTERVAL;VALUE=DURATION:PT1H
X-Robots-Tag:noindex
X-PUBLISHED-TTL:PT1H
BEGIN:VTIMEZONE
TZID:Asia/Dubai
BEGIN:STANDARD
TZOFFSETFROM:+0400
TZOFFSETTO:+0400
TZNAME:+04
DTSTART:20220101T000000
END:STANDARD
END:VTIMEZONE
BEGIN:VEVENT
DTSTART;TZID=Asia/Dubai:20220727T153100
DTEND;TZID=Asia/Dubai:20220727T153100
DTSTAMP:20260425T204256
CREATED:20220718T112841Z
LAST-MODIFIED:20240201T113015Z
UID:10000325-1658935860-1658935860@events.iliauni.edu.ge
SUMMARY:ჰიბრიდული კონფერენცია  2022 – კვლევიდან პრაქტიკამდე
DESCRIPTION:27-29 ივლისს ილიას სახელმწიფო უნივერსიტეტი უმასპინძლებს საუნივერსიტეტო სწავლების გაუმჯობესების (IUT) პროგრამის მიერ ორგანიზებულ 48-ე ყოველწლიურ საერთაშორისო კონფერენციას „კვლევიდან პრაქტიკამდე“. \nკონფერენციაზე მსოფლიოს წამყვანი უნივერსიტეტების მკვლევრები პროფესიული დიალოგის ფორმით ისაუბრებენ შემდეგ საკითხებზე: როგორ გავაუმჯობესოთ სასწავლო პრაქტიკა კვლევის შედეგებზე დაყრდნობით? როგორ ჩავრთოთ სტუდენტები საკუთარი სწავლის პროცესის გაუმჯობესების პროცესში? როგორ შეგვიძლია უკეთ დავეხმაროთ სტუდენტებს ძლიერი და გასაუმჯობესებელი მხარეების იდენტიფიცირებასა და სირთულეებთან გამკლავებაში და სხვ. \nკონფერენცია გაიმართება ჰიბრიდულ რეჟიმში. \nკონფერენციაზე ვირტუალურად დასწრების მსურველებს ჯერ კიდევ შეუძლიათ გაიარონ რეგისტრაცია ბმულზე: https://bit.ly/3znFrWp \nკონფერენციის სრული განრიგი შეგიძლიათ იხილოთ ვებგვერდზე: iutconference.com \n2022 წელი \n\n			\n				\n			\n		\n\n[wpai_display_imported_files_here]
URL:https://events.iliauni.edu.ge/event/hibriduli-konpherentsia-2022-kvlevidan-praqtikamde/
CATEGORIES:კონფერენციები
ATTACH;FMTTYPE=image/png:https://events.iliauni.edu.ge/wp-content/uploads/2022/07/67036.png
END:VEVENT
END:VCALENDAR