BEGIN:VCALENDAR
VERSION:2.0
PRODID:-//უნივერსიტეტის ღონისძიებების პორტალი - ECPv6.2.8.2//NONSGML v1.0//EN
CALSCALE:GREGORIAN
METHOD:PUBLISH
X-ORIGINAL-URL:https://events.iliauni.edu.ge
X-WR-CALDESC:Events for უნივერსიტეტის ღონისძიებების პორტალი
REFRESH-INTERVAL;VALUE=DURATION:PT1H
X-Robots-Tag:noindex
X-PUBLISHED-TTL:PT1H
BEGIN:VTIMEZONE
TZID:Asia/Dubai
BEGIN:STANDARD
TZOFFSETFROM:+0400
TZOFFSETTO:+0400
TZNAME:+04
DTSTART:20220101T000000
END:STANDARD
END:VTIMEZONE
BEGIN:VEVENT
DTSTART;TZID=Asia/Dubai:20220628T190000
DTEND;TZID=Asia/Dubai:20220628T190000
DTSTAMP:20260425T160750
CREATED:20220624T105517Z
LAST-MODIFIED:20241122T110929Z
UID:10000361-1656442800-1656442800@events.iliauni.edu.ge
SUMMARY:პროფესორ ელენა შევჩენკოს საჯარო ლექცია „რუსეთ-უკრაინის ურთიერთობები: ისტორია და თანამედროვეობა“
DESCRIPTION:28 ივნისს\, 19:00 საათზე\, ილიას სახელმწიფო უნივერსიტეტში კიევის ტარას შევჩენკოს სახელობის ეროვნული უნივერსიტეტის პროფესორი ელენა შევჩენკო წაიკითხავს საჯარო ლექციას თემაზე: „რუსეთ-უკრაინის ურთიერთობები: ისტორია და თანამედროვეობა“. \nმომხსენებელი ისაუბრებს რუსეთის მიერ წარმოებულ ჰიბრიდულ ომზე\, ე.წ. „რუსული სამყაროს“ იდეოლოგიაზე\, მის სამიზნე აუდიორიასა და იდეოლოგიის გავრცელების გზებსა და ინსტრუმენტებზე\, ასევე რუსულ საინფორმაციო ომთან ბრძოლის უკრაინულ სტრატეგიაზე. \nსამუშაო ენა: ინგლისური \nლექციაზე დასწრება თავისუფალია. \nლექცია გაიმართება ჰიბრიდულ ფორმატში პლატფორმა ზუმის დახმარებით. \nზუმის შეხვედრის ბმული: https://bit.ly/39N7FzR \nსწრაფი ბმულები:  \n\nლექციათა სერია „ყველაფერი უკრაინის შესახებ“\n\n2022 წელი \n\n			\n				\n			\n		\n\n[wpai_display_imported_files_here]
URL:https://events.iliauni.edu.ge/event/prophesor-elena-shevchenkos-sajaro-leqtsia-ruseth-ukrainis-urthierthobebi-istoria-da-thanamedroveoba/
CATEGORIES:ღონისძიებები
ATTACH;FMTTYPE=image/png:https://events.iliauni.edu.ge/wp-content/uploads/2022/06/66447.png
END:VEVENT
BEGIN:VEVENT
DTSTART;TZID=Asia/Dubai:20220629T120000
DTEND;TZID=Asia/Dubai:20220629T120000
DTSTAMP:20260425T160750
CREATED:20220626T091932Z
LAST-MODIFIED:20240201T113128Z
UID:10000359-1656504000-1656504000@events.iliauni.edu.ge
SUMMARY:ტექნოლოგიის სკოლის ღია კარის დღე
DESCRIPTION:29 ივნისს ილიას სახელმწიფო უნივერსიტეტისა და საგანმანათლებლო ორგანიზაცია კინგსის ერთობლივი პროექტის „არჩევანი შენია“ ფარგლებში გაიმართება ტექნოლოგიის სკოლის ღია კარის დღე მოსწავლეებისთვის. \nღია კარის დღეზე  ტექნოლოგიის სკოლის მიმართულებების\, პროფესიების მნიშვნელობასა და ამ მიმართულებით ილიას სახელმწიფო უნივერსიტეტში არსებული შესაძლებლობების შესახებ მოსწავლეებს ინფორმაციას გააცნობენ ილიაუნის პროფესორები: \n\nმერაბ სვანაძე\, პროფესორი\, ილიას სახელმწიფო უნივერსიტეტის მათემატიკის პროგრამის ხელმძღვანელი\, სტენფორდის უნივერსიტეტის რეიტინგით მსოფლიოს მასშტაბით დარგის ყველაზე გავლენიან მეცნიერთა 2%-შია;\nია კუპატაძე\, ილიას სახელმწიფო უნივერსიტეტის ასოცირებული პროფესორი\, არქიტექტურის პროგრამის ხელმძღვანელი;\nვახტანგ ბალავაძე\, ილიას სახელმწიფო უნივერსიტეტის პროფესორი სამოქალაქო ინჟინერიის მიმართულებით\, ამერიკის სამოქალაქო ინჟინერთა საზოგადოების ნამდვილი წევრი\, ილიაუნის ტექნოლოგიის სკოლის ხელმძღვანელი (მ.შ.);\nგიორგი ვეშაპიძე\, ილიას სახელმწიფო უნივერსიტეტის ელექტრული და ელექტრონული ინჟინერიის პროგრამის ხელმძღვანელი;\nერეკლე მაღრაძე\, ილიაუნის ასოცირებული პროფესორი კომპიუტერული მეცნიერების მიმართულებით\, ილიაუნის გამოთვლითი ცენტრის ხელმძღვანელი.\n\nშეხვედრაზე გაეცნობით პროგრამის სტრუქტურას\, სწავლების ფორმატსა და მეთოდებს\, მიღების პროცედურებს\, გაცვლით პროგრამებსა და დასაქმების შესაძლებლობებს. ასევე გექნებათ შესაძლებლობა\, დასვათ შეკითხვები და მიიღოთ ამომწურავი პასუხები. \nშეხვედრა გაიმართება ჰიბრიდულად\, როგორც ადგილზე\, ასევე პლატფორმა ზუმის მეშვეობით. მასზე დასწრების მსურველებმა უნდა შეავსოთ მარტივი სარეგისტრაციო ფორმა: https://bit.ly/3A0Nid3 \nგელოდებით ტექნოლოგიის სკოლის მიმართულებებით დაინტერესებულ მოსწავლეებს მთელი საქართველოდან 29 ივნისს. \nშეხვედრების განრიგი \n\n12:00 საათი \nმათემატიკის საბაკალავრო პროგრამა \nვრცლად პროგრამის შესახებ ინფორმაცია იხილეთ ბმულზე: https://bit.ly/3HUctQz \n\n12:45 საათი \nარქიტექტურის საბაკალავრო პროგრამა \nვრცლად პროგრამის შესახებ ინფორმაცია იხილეთ ბმულზე: https://bit.ly/39RbUKy \n\n13:30 საათი \nსამოქალაქო ინჟინერია ENG \nვრცლად პროგრამის შესახებ ინფორმაცია იხილეთ ბმულზე: https://bit.ly/3bpO7Sq \n\n14:15 საათი \nელექტრული და ელექტრონული ინჟინერია ENG \nვრცლად პროგრამის შესახებ ინფორმაცია იხილეთ ბმულზე: https://bit.ly/3A6VEzQ \n\n15:00 საათი \nკომპიუტერული მეცნიერება ENG \nვრცლად პროგრამის შესახებ ინფორმაცია იხილეთ ბმულზე: https://bit.ly/3A1Sw8t \nკომპიუტერული ინჟინერია ENG \nვრცლად პროგრამის შესახებ ინფორმაცია იხილეთ ბმულზე: https://bit.ly/3OL2NKq \n2022 წელი \n\n			\n				\n			\n		\n\n[wpai_display_imported_files_here]
URL:https://events.iliauni.edu.ge/event/teqnologiis-skolis-ghia-karis-dghe/
CATEGORIES:ღონისძიებები
ATTACH;FMTTYPE=image/png:https://events.iliauni.edu.ge/wp-content/uploads/2022/06/66454.png
END:VEVENT
BEGIN:VEVENT
DTSTART;TZID=Asia/Dubai:20220629T160000
DTEND;TZID=Asia/Dubai:20220629T160000
DTSTAMP:20260425T160750
CREATED:20220624T111145Z
LAST-MODIFIED:20240201T113123Z
UID:10000356-1656518400-1656518400@events.iliauni.edu.ge
SUMMARY:შეხვედრა ამერიკელ მწერლებთან – საზღვრები და სივრცეები
DESCRIPTION:29 ივნისს\, 16:00 საათზე\, ილიას სახელმწიფო უნივერსიტეტში უნივერსიტეტის აკადემიურ პერსონალთან\, სტუდენტებსა და კურსდამთავრებულებთან შეხვედრას გამართავენ ცნობილი ამერიკელი მწერლები: კრისტოფერ მერილი\, ენჯი კრუზი\, აიანა მათისი და როზა ალკალა. \nმოდერატორი: ნილუფარ თალები\, ფულბრაიტის მეცნიერი ილიას სახელმწიფო უნივერსიტეტში \nშეხვედრის შესახებ \nამერიკელი მწერლები აშშ-ის სახელმწიფო დეპარტამენტის განათლებისა და კულტურულ საქმეთა ბიუროსთან\, საერთაშორისო სამწერლო პროგრამასთან პარტნიორობით საქართველოში აწყობენ კითხვის ტურს\, რომლის მიზანია თანამედროვე ლიტერატურული კავშირების გაღრმავება. ტურის დროს დაგეგმილია საჯარო კითხვა\, ვიზიტები ლიტერატურულ დაწესებულებებში\, შეხვედრები კულტურის წარმომადგენლებსა და მედიასთან\, იმ ადგილებში\, რომლებიც მათ რეგიონის იტორიული და მიმდინარე მოვლენების უკეთ გაცნობაში დაეხმარება\, მათ შორის ილიას სახელმწიფო უნივერსიტეტის აკადემიურ პერსონალთან\, სტუდენტებსა და კურსდამთავრებულებთან. \nმწერლების შესახებ \nკრისტოფერ მერილი (1957) ამერიკელი პოეტი\, ესეისტი\, ჟურნალისტი და მთარგმნელია. მას გამოქვეყნებული აქვს პოეზიის ექვსი კრებული\, მათ შორის “Watch Fire”\, რომლისთვისაც პიტერ ი. ბ. ლავანის ახალგაზრდა პოეტების ჯილდო მიიღო. მან გამოაქვეყნა არაერთი თარგმანი\, მისი რედაქტირებით გამოიცა რამდენიმე ტომეული და მრავალი არამხატვრული წიგნი\, რომელთაგან ორი უოლტ უიტმენს ეძღვნება. კრიტიკოსების მიერ აღიარებული წიგნი “Only the Nails Remain: Scenes from the Balkan Wars” ასახავს 1992-1996 წლებში მწერლის ბალკანეთის ქვეყნებში ომის დროინდელ ათ მოგზაურობას. ამჟამად იგი აიოვას უნივერსიტეტის საერთაშორისო სამწერლო პროგრამის დირექტორია. \nენჯი კრუზი (1982) ნიუ-იორკში დაბადებული დომინიკანელია\, რომელმაც განვითარების\, პიროვნებად ჩამოყალიბების წლები უმეტესად ნიუ-იორკიდან დომინიკის რესპუბლიკაში და დომინიკის რესპუბლიკიდან ნიუ-იორკში მოგზაურობაში გაატარა. მისი რომანი “Dominicana” საინაუგურაციო წიგნი იყო GMA-ს წიგნის კლუბისთვის და დასახელდა როგორც 2019/2020 წლების “Wordup Uptown Read”. კრუზის მეოთხე რომანი\, “How Not To Drown in A Glass of Water”\, 2022 წლის შემოდგომაზე გამოქვეყნდება. იგი არაერთი ჯილდოს მფლობელი ლიტერატურული ჟურნალის Aster(ix) დამფუძნებელი და მთავარი რედაქტორია. ამჟამად არის პიტსბურგის უნივერსიტეტის პროფესორი. დროს პიტსბურგს\, ნიუ-იორკსა და ტურინს შორის ატარებს. \nროზა ალკალა\, პოეტი და მთარგმნელი\, პატერსონში\, ნიუ ჯერსიში\, ესპანელი ემიგრანტების ოჯახში დაიბადა. სამკითხველო\, სასაუბრო ლექციები და ვორკშოპები ჩატარებული აქვს როგორც აშშ-ში\, ასევე ლათინურ ამერიკაში. მისი ლექსები მრავალ ანთოლოგიასა და ჟურნალში გვხვდება\, ხოლო უახლესი პოეტური კრებული “MyOTHER TONGUE” (2017) New York Times-ში აღწერილია\, როგორც „არეული ემოციები და გაუგებრობები\, რომლებიც გადაადგილდება ენებს შორის“. ხელოვნების ეროვნული ფონდის მთარგმნელობითი სტიპენდიისა და თარგმანის ჯილდო PEN-ის მეორე ადგილის მფლობელი\, კრეატიული წერის პროფესორია ტეხასის უნივერსიტეტ ელ-პასოში\, სადაც ის ჰუმანიტარული მეცნიერებების ორენოვანი სამაგისტრო პროგრამის ფარგლებში ასწავლის. \nაიანა მათისის პირველი რომანი “The Twelve Tribes of Hattie” New York Times-ის ბესტსელერად იქცა და ოპრას წიგნების კლუბის არჩევანი იყო. წიგნი მოგვითხრობს დიდი მიგრაციის პერიოდის ბავშვების ისტორიას\, ადამიანთა ყველაზე დიდ მოძრაობას აშშ-ის ისტორიაში\, როდესაც დაახლოებით 6 მილიონი შავკანიანი მე-20 საუკუნეში ამერიკის სამხრეთიდან ჩრდილოეთის\, შუა დასავლეთისა და დასავლეთის შტატებში გადასახლდა რასიზმისგან თავის დასაღწევად და ამერიკული ოცნების მისაღწევად. ამჟამად მწერალი მასპინძლობს და კურირებს “Black Arts Dialogues”\, სასაუბრო სერიას\, რომელიც ორიენტირებულია ხელოვნებაზე\, რომელსაც კოლუმბიის უნივერსიტეტის აფროამერიკული და აფრიკული დიასპორული კვლევების დეპარტამენტი მასპინძლობს. ამავდროულად მეორე რომანზე მუშაობს. \nდრო: 29 ივნისი\, ოთხშაბათი\, 16:00 საათი \nსამუშაო ენები: ინგლისური\, ქართული (უზრუნველყოფილი იქნება სინქრონული თარგმანი) \nდასწრება: თავისუფალი ილიას სახელმწიფო უნივერსიტეტის აკადემიური პერსონალისთვის\, სტუდენტებისა და კურსდამთავრებულებისთვის წინასწარი რეგისტრაციით \nრეგისტრაციისთვის მიჰყევით ბმულს: https://bit.ly/39NUcI2 \nრეგისტრაციის ბოლო ვადა: 27 ივნისი\, 23:59 საათი \nღონისძიების ჩატარების ადგილმდებარეობაზე ინფორმაციას მიიღებენ ის მონაწილეები\, რომლებიც 27 ივნისის ჩათვლით დაგვიდასტურებენ შეხვედრაზე დასწრების სურვილს ელექტრონული მეილითა და მოკლე ტექსტური შეტყობინებით. \n2022 წელი \n  \n\n			\n				\n			\n		\n\n[wpai_display_imported_files_here]
URL:https://events.iliauni.edu.ge/event/shekhvedra-amerikel-mtserlebthan-sazghvrebi-da-sivrtseebi/
CATEGORIES:ღონისძიებები
ATTACH;FMTTYPE=image/png:https://events.iliauni.edu.ge/wp-content/uploads/2022/06/66453.png
END:VEVENT
BEGIN:VEVENT
DTSTART;TZID=Asia/Dubai:20220629T190000
DTEND;TZID=Asia/Dubai:20220629T190000
DTSTAMP:20260425T160750
CREATED:20220624T110128Z
LAST-MODIFIED:20241122T110929Z
UID:10000355-1656529200-1656529200@events.iliauni.edu.ge
SUMMARY:პროფესორ ელენა შევჩენკოს საჯარო ლექცია „უკრაინის ურთიერთობები პოსტსაბჭოთა ქვეყნებთან“
DESCRIPTION:29 ივნისს\, 19:00 საათზე\, ილიას სახელმწიფო უნივერსიტეტში კიევის ტარას შევჩენკოს სახელობის ეროვნული უნივერსიტეტის პროფესორი ელენა შევჩენკო წაიკითხავს საჯარო ლექციას თემაზე: „უკრაინის ურთიერთობები პოსტსაბჭოთა ქვეყნებთან“. \nმომხსენებელი შეეხება შემდეგ თემებს: \n\nდსთ-ის ჩამოყალიბება და განვითარება; დსთ-ის პროექტები;\nუკრაინის ინიციატივები: GUAM;\nურთიერთობები პოსტსაბჭოთა ქვეყნებთან.\n\nლექციაზე დასწრება თავისუფალია. \nლექცია გაიმართება ჰიბრიდულ ფორმატში პლატფორმა ზუმის დახმარებით. \nზუმის შეხვედრის ბმული: https://bit.ly/3HMs04N \nსწრაფი ბმულები:  \n\nსაჯარო ლექციათა ციკლი „უკრაინის საგარეო პოლიტიკა 1991 წლიდან დღემდე”\n\n2022 წელი \n\n			\n				\n			\n		\n\n[wpai_display_imported_files_here]
URL:https://events.iliauni.edu.ge/event/prophesor-elena-shevchenkos-sajaro-leqtsia-ukrainis-urthierthobebi-postsabtchotha-qveqhnebthan/
CATEGORIES:ღონისძიებები
ATTACH;FMTTYPE=image/png:https://events.iliauni.edu.ge/wp-content/uploads/2022/06/66445.png
END:VEVENT
BEGIN:VEVENT
DTSTART;TZID=Asia/Dubai:20220630T100000
DTEND;TZID=Asia/Dubai:20220630T100000
DTSTAMP:20260425T160750
CREATED:20220627T090924Z
LAST-MODIFIED:20241122T110929Z
UID:10000352-1656583200-1656583200@events.iliauni.edu.ge
SUMMARY:საერთაშორისო სტუდენტური კონფერენცია „უკრაინა თანამედროვე პერსპექტივიდან“
DESCRIPTION:30 ივნისს ილიას სახელმწიფო უნივერსიტეტი უმასპინძლებს საერთაშორისო სტუდენტურ კონფერენციას „უკრაინა თანამედროვე პერსპექტივიდან“. კონფერენცია გაიმართება ჰიბრიდულ რეჟიმში (Zoom საშუალებით და ადგილზე\, ილიას სახელმწიფო უნივერსიტეტში) და  მონაწილეობას მიიღებენ როგორც ქართველი\, ასევე უკრაინელი სტუდენტები. \nბოლო პერიოდში უკრაინაში განვითარებულმა მოვლენებმა უფრო მეტად გააღვივა ინტერესი ამ ქვეყნის\, მისი ისტორიის\, ეკონომიკის\, პოლიტიკის\, საზოგადოებისა და კულტურის მიმართ. სტუდენტური კონფერენციის მიზანიც უკრაინის შესახებ ცნობიერების ამაღლება\, უკრაინული საკითხის სხვადასხვა პერსპექტივიდან დანახვა და გაანალიზებაა. \nკონფერენცია იყოფა სამ სექციად: \n\nპოლიტიკა და საზოგადოება;\nუკრაინის საგარეო პოლიტიკა;\nჰიბრიდული ომი და პროპაგანდა.\n\nკონფერენციის დღის წესრიგი იხილეთ აქ. \nსამუშაო ენა: ინგლისური \nკონფერენციის გახსნა: 10:00 საათი \nადგილმდებარეობა: G106 საკონფერენციო დარბაზი (მის.: გ. წერეთლის N1) \nდასწრება თავისუფალია. \n2022 წელი \n\n			\n				\n			\n		\n\n[wpai_display_imported_files_here]
URL:https://events.iliauni.edu.ge/event/saerthashoriso-studenturi-konpherentsia-ukraina-thanamedrove-perspeqtividan/
CATEGORIES:ღონისძიებები
ATTACH;FMTTYPE=image/png:https://events.iliauni.edu.ge/wp-content/uploads/2022/06/66462.png
END:VEVENT
BEGIN:VEVENT
DTSTART;TZID=Asia/Dubai:20220630T104700
DTEND;TZID=Asia/Dubai:20220630T104700
DTSTAMP:20260425T160750
CREATED:20220630T064700Z
LAST-MODIFIED:20240201T113111Z
UID:10000350-1656586020-1656586020@events.iliauni.edu.ge
SUMMARY:გასვლითი ვორკშოპი ყაზბეგში \,\,კულტურები და სისტემები“
DESCRIPTION:ილიას სახელმწიფო უნივერსიტეტის უმაღლესი კვლევების ცენტრი ჰუმანიტარული და სოციალური მეცნიერების სტუდენტებისთვის აცხადებს კონკურსს ვორკშოპში „კულტურები და სისტემები“ მონაწილეობისთვის. ვორკშოპი ჩატარდება 12-14 ივლისს ილიას სახელმწიფო უნივერსიტეტის სტეფანწმინდის (ყაზბეგი) სასწავლო ბაზაზე. \nვორკშოპის მთავარი თემები იქნება: \n\nქართველ სტუდენტთა ღირებულებები;\nფანტასტიკის ჟანრის ლიტერატურა.\n\nვორკშოპში მონაწილეობა შეუძლიათ ილიას სახელმწიფო უნივერსიტეტის მეცნიერებათა და ხელოვნების ფაკულტეტის საბაკალავრო საფეხურის პირველი\, მეორე და მესამე კურსის სტუდენტებს. მისი დასრულების შემდეგ მონაწილეებს გადაეცემათ სერტიფიკატები. \nკონკურსში მონაწილეობის მისაღებად საჭიროა წინასწარი რეგისტრაცია. რეგისტრაციისას ვორკშოპის თემებიდან უნდა შეარჩიოთ ერთ-ერთი და ისაუბროთ\, რატომ გაინტერესებთ ეს საკითხი. \nრეგისტრაციისთვის მიჰყევით ბმულს: https://bit.ly/39XB8al \nგთხოვთ\, რეგისტრაციისთვის გამოიყენოთ ილიაუნის ელ.ფოსტა. \nგანაცხადის მიღების ბოლო ვადა: 6 ივლისი \nდამატებითი კითხვების შემთხვევაში მოგვმართეთ: cas@iliauni.edu.ge \n2022 წელი \n  \n  \n  \n  \n  \n\n			\n				\n			\n		\n\n[wpai_display_imported_files_here]
URL:https://events.iliauni.edu.ge/event/gasvlithi-vorkshopi-qhazbegshi-kulturebi-da-sistemebi/
CATEGORIES:ღონისძიებები
ATTACH;FMTTYPE=image/png:https://events.iliauni.edu.ge/wp-content/uploads/2022/06/66483.png
END:VEVENT
BEGIN:VEVENT
DTSTART;TZID=Asia/Dubai:20220701T150000
DTEND;TZID=Asia/Dubai:20220701T150000
DTSTAMP:20260425T160750
CREATED:20220621T084557Z
LAST-MODIFIED:20240201T113109Z
UID:10000348-1656687600-1656687600@events.iliauni.edu.ge
SUMMARY:საჯარო ლექცია და ვებინარის „სამედიცინო კანაბინოიდების გამოყენება სამკურნალოდ – საერთაშორისო გამოცდილება“ ლაივსთრიმი
DESCRIPTION:1 ივლისს\, 15:00 საათზე\, ილიას სახელმწიფო უნივერსიტეტში ადიქციის კვლევების სამაგისტრო პროგრამის სამუშაო ჯგუფისა და ტომაშ ზაბრანსკის სახ. ადიქტოლოგიის ინსტიტუტის ინიციატივით დაგეგმილი საზაფხულო ვებინარების სერიის ფარგლებში გაიმართება საჯარო ლექცია და ვებინარის „სამედიცინო კანაბინოიდების გამოყენება სამკურნალოდ – ევროპული გამოცდილება“ ლაივსთრიმი. \nმომხსენებელი – კირსტენ მიულერ-ვალი\, ნევროლოგ-ფსიქიატრი\, ჰანოვერის უნივერსიტეტის პროფესორი \nმოდერატორი – ასოცირებული პროფესორი დავით ოთიაშვილი\, ილიას სახელმწიფო უნივერსიტეტი \nდრო: 1 ივლისი\, 15:00 საათი \nვებინარზე დასასწრებად საჭიროა წინასწარი რეგისტრაცია. რეგისტრაციისას მითითებულ საკონტაქტო მისამართზე გამოგეგზავნებათ ღონისძიებაზე დასასწრებად საჭირო ინფორმაცია. \nსარეგისტრაციო ფორმა: https://bit.ly/38hSvlj \nLive – ღონისძიების ბმული: https://bit.ly/3OVR6Am \n2022 წელი \n  \n  \n\n			\n				\n			\n		\n\n[wpai_display_imported_files_here]
URL:https://events.iliauni.edu.ge/event/sajaro-leqtsia-da-vebinaris-sameditsino-kanabinoidebis-gamoqheneba-samkurnalod-saerthashoriso-gamotsdileba-laivsthrimi/
CATEGORIES:ღონისძიებები
ATTACH;FMTTYPE=image/png:https://events.iliauni.edu.ge/wp-content/uploads/2022/06/66402.png
END:VEVENT
END:VCALENDAR