BEGIN:VCALENDAR
VERSION:2.0
PRODID:-//უნივერსიტეტის ღონისძიებების პორტალი - ECPv6.2.8.2//NONSGML v1.0//EN
CALSCALE:GREGORIAN
METHOD:PUBLISH
X-ORIGINAL-URL:https://events.iliauni.edu.ge
X-WR-CALDESC:Events for უნივერსიტეტის ღონისძიებების პორტალი
REFRESH-INTERVAL;VALUE=DURATION:PT1H
X-Robots-Tag:noindex
X-PUBLISHED-TTL:PT1H
BEGIN:VTIMEZONE
TZID:Asia/Dubai
BEGIN:STANDARD
TZOFFSETFROM:+0400
TZOFFSETTO:+0400
TZNAME:+04
DTSTART:20220101T000000
END:STANDARD
END:VTIMEZONE
BEGIN:VEVENT
DTSTART;TZID=Asia/Dubai:20220607T190000
DTEND;TZID=Asia/Dubai:20220607T190000
DTSTAMP:20260425T195237
CREATED:20220606T071650Z
LAST-MODIFIED:20241122T110928Z
UID:10000383-1654628400-1654628400@events.iliauni.edu.ge
SUMMARY:პროფესორ ელენა შევჩენკოს საჯარო ლექცია „პოლიტიკური სისტემის ჩამოყალიბება დამოუკიდებელ უკრაინაში“
DESCRIPTION:7 ივნისს\, 19:00 საათზე\, ილიას სახელმწიფო უნივერსიტეტში გაიმართება კიევის ტარას შევჩენკოს სახელობის ეროვნული უნივერსიტეტის პროფესორ ელენა შევჩენკოს საჯარო ლექცია თემაზე: „პოლიტიკური სისტემის ჩამოყალიბება დამოუკიდებელ უკრაინაში“. \nმომხსენებელი შეეხება უკრაინის პოლიტიკური სისტემის ფორმირების პროცესს პრეზიდენტ ლეონიდ კუჩმას მმართველობის პერიოდიდან დღემდე\, ასევე ისაუბრებს იმ ფაქტორებზე\, რომლებმაც სხვადასხვა პერიოდში გავლენა მოახდინა უკრაინის შიდა პოლიტიკური კურსის ჩამოყალიბებაზე. \nსამუშაო ენა: ინგლისური \nლექციაზე დასწრება თავისუფალია. \nლექცია გაიმართება ჰიბრიდულ ფორმატში\, პლატფორმა ზუმის დახმარებით. \nზუმის შეხვედრის ბმული: https://bit.ly/3zA6JJF \nსწრაფი ბმულები: \n\nლექციათა სერია „ყველაფერი უკრაინის შესახებ“\n\n2022 წელი \n  \n\n			\n				\n			\n		\n\n[wpai_display_imported_files_here]
URL:https://events.iliauni.edu.ge/event/prophesor-elena-shevchenkos-sajaro-leqtsia-politikuri-sistemis-chamoqhalibeba-damoukidebel-ukrainashi/
CATEGORIES:ღონისძიებები
ATTACH;FMTTYPE=image/png:https://events.iliauni.edu.ge/wp-content/uploads/2022/06/66286.png
END:VEVENT
BEGIN:VEVENT
DTSTART;TZID=Asia/Dubai:20220608T180000
DTEND;TZID=Asia/Dubai:20220608T180000
DTSTAMP:20260425T195237
CREATED:20220606T144046Z
LAST-MODIFIED:20240201T113048Z
UID:10000338-1654711200-1654711200@events.iliauni.edu.ge
SUMMARY:ვებინარი „ადიქციის კვლევების პროგრამის კურსდამთავრებულთა უახლესი კვლევები – ნარკოვითარება საქართველოში\, ნარკოტიკების მოხმარება ღამის ცხოვრებაში და  კოვიდის პირობებში“
DESCRIPTION:8 ივნისს\, 18:00 საათზე\, ილიას სახელმწიფო უნივერსიტეტში ადიქციის კვლევების სამაგისტრო პროგრამის სამუშაო ჯგუფისა და ტომაშ ზაბრანსკის სახ. ადიქტოლოგიის ინსტიტუტის ინიციატივით დაგეგმილი საზაფხულო ვებინარების სერიის ფარგლებში გაიმართება ვებინარი თემაზე: „ადიქციის კვლევების კურსდამთავრებულთა მიერ შესრულებული უახლესი კვლევები: ნარკოვითარება საქართველოში\, ნარკოტიკების მოხმარება ღამის ცხოვრებაში და კოვიდის პირობებში“. \nმომხსენებლები \nილიას სახელმწიფო უნივერსიტეტის ადიქციის კვლევების სამაგისტრო პროგრამის კურსდამთავრებულები: \n\nსათემო ალიანსის პროგრამის მენეჯერი ადა ბესელია;\nდამოკიდებულების კვლევითი ცენტრის „ალტერნატივა ჯორჯიას“ მკვლევარი თამარ მღებრიშვილი;\nიუსტიციის სამინისტროს საერთაშორისო ნარკოვითარების მონიტორინგის ეროვნული ცენტრის წარმომადგენლები – ირაკლი ნაცვლიშვილი და ლევან სალამაძე.\n\nთანამონაწილეები – ზვიად ზალიკიანი\, ირმა კირთაძე\, ჯანა ჯავახიშვილი \nმოდერატორი – ასოცირებული პროფესორი დავით ოთიაშვილი\, ილიას სახელმწიფო უნივერსიტეტი \nდრო: 8 ივნისი\, 18:00-19:00 \nფორმატი: ჰიბრიდული\, წინასწარი რეგისტრაციის საფუძველზე \nვებინარზე დასასწრებად საჭიროა წინასწარი რეგისტრაცია. რეგისტრაციისას მითითებულ საკონტაქტო მისამართზე გამოგეგზავნებათ ღონისძიებაზე დასასწრებად საჭირო ინფორმაცია. \nსარეგისტრაციო ფორმა: https://bit.ly/38hSvlj \nLive – ღონისძიების ბმული: https://bit.ly/3mkh5Fk \n2022 წელი \n\n			\n				\n			\n		\n\n[wpai_display_imported_files_here]
URL:https://events.iliauni.edu.ge/event/vebinari-adiqtsiis-kvlevebis-programis-kursdamthavrebultha-uakhlesi-kvlevebi-narkovithareba-saqarthveloshi-narkotikebis-mokhmareba-ghamis-tskhovrebashi-da-kovidis-pirobebshi/
CATEGORIES:ღონისძიებები
ATTACH;FMTTYPE=image/png:https://events.iliauni.edu.ge/wp-content/uploads/2022/06/66296.png
END:VEVENT
BEGIN:VEVENT
DTSTART;TZID=Asia/Dubai:20220608T190000
DTEND;TZID=Asia/Dubai:20220608T190000
DTSTAMP:20260425T195237
CREATED:20220606T073815Z
LAST-MODIFIED:20241122T110928Z
UID:10000381-1654714800-1654714800@events.iliauni.edu.ge
SUMMARY:პროფესორ ელენა შევჩენკოს საჯარო ლექცია „უკრაინა-ევროკავშირის ურთიერთობები და ევროინტეგრაციის პროცესი“
DESCRIPTION:8 ივნისს\, 19:00 საათზე\, ილიას სახელმწიფო უნივერსიტეტში გაიმართება კიევის ტარას შევჩენკოს სახელობის ეროვნული უნივერსიტეტის პროფესორ ელენა შევჩენკოს საჯარო ლექცია თემაზე: „უკრაინა-ევროკავშირის ურთიერთობები და ევროინტეგრაციის პროცესი“. \nმომხსენებელი შეეხება დამოუკიდებლობის მოპოვების შემდგომ უკრაინასა და ევროპის ეკონომიკურ საზოგადოებას შორის ურთიერთობების დამყარების პირველ მცდელობებს\, ნარინჯისფერი რევოლუციის შემდეგ განვითარებულ ურთიერთობებს\, აღმოსავლეთ პარტნიორობის ფორმატს\, ასოცირების ხელშეკრულებას და ა.შ. ასევე ისაუბრებს უკრაინის ევროკავშირში გაწევრიანების პერსპექტივებსა და გამოწვევებზე. \nსამუშაო ენა: ინგლისური \nლექციაზე დასწრება თავისუფალია. \nლექცია გაიმართება ჰიბრიდულ ფორმატში\, პლატფორმა ზუმის დახმარებით. \nზუმის შეხვედრის ბმული: https://bit.ly/3GQ5GXv \nსწრაფი ბმულები:  \n\nსაჯარო ლექციათა ციკლი „უკრაინის საგარეო პოლიტიკა 1991 წლიდან დღემდე”\n\n2022 წელი \n\n			\n				\n			\n		\n\n[wpai_display_imported_files_here]
URL:https://events.iliauni.edu.ge/event/prophesor-elena-shevchenkos-sajaro-leqtsia-ukraina-evrokavshiris-urthierthobebi-da-evrointegratsiis-protsesi/
CATEGORIES:ღონისძიებები
ATTACH;FMTTYPE=image/png:https://events.iliauni.edu.ge/wp-content/uploads/2022/06/66291.png
END:VEVENT
END:VCALENDAR