BEGIN:VCALENDAR
VERSION:2.0
PRODID:-//უნივერსიტეტის ღონისძიებების პორტალი - ECPv6.2.8.2//NONSGML v1.0//EN
CALSCALE:GREGORIAN
METHOD:PUBLISH
X-ORIGINAL-URL:https://events.iliauni.edu.ge
X-WR-CALDESC:Events for უნივერსიტეტის ღონისძიებების პორტალი
REFRESH-INTERVAL;VALUE=DURATION:PT1H
X-Robots-Tag:noindex
X-PUBLISHED-TTL:PT1H
BEGIN:VTIMEZONE
TZID:Asia/Dubai
BEGIN:STANDARD
TZOFFSETFROM:+0400
TZOFFSETTO:+0400
TZNAME:+04
DTSTART:20220101T000000
END:STANDARD
END:VTIMEZONE
BEGIN:VEVENT
DTSTART;TZID=Asia/Dubai:20220525T150000
DTEND;TZID=Asia/Dubai:20220525T150000
DTSTAMP:20260425T164551
CREATED:20220520T135444Z
LAST-MODIFIED:20240201T113231Z
UID:10000399-1653490800-1653490800@events.iliauni.edu.ge
SUMMARY:ერიკა ბენერის საჯარო ლექცია „სჭირდება თუ არა დემოკრატიას ნაციონალიზმი?“
DESCRIPTION:25 მაისს\, 15:00 საათზე\, ილიას სახელმწიფო უნივერსიტეტში გაიმართება მწერლისა და მკვლევრის ერიკა ბენერის ლექცია „სჭირდება თუ არა დემოკრატიას ნაციონალიზმი?“ \nლექციას მოდერაციას გაუწევს ილიას სახელმწიფო უნივერსიტეტის ასოცირებული პროფესორი ჰანს გუტბროდი. \nდასწრების მსურველებმა რეგისტრაცია უნდა გაიარონ არაუგვიანეს 23 მაისისა. \nრეგისტრაციისთვის მიჰყევით ბმულს: https://bit.ly/38JePnX \nლექციის შესახებ: \nუკიდურესი ნაციონალიზმის აღზევება დღეს ერთ-ერთი უდიდესი გამოწვევაა დემოკრატიისთვის. მაგრამ როდესაც ლიბერალური დემოკრატიის დამცველთა უმეტეს ნაწილს სურს ნაციონალიზმის ჩამოშორება პოლიტიკური ასპარეზიდან\, ზოგიერთი ამტკიცებს\, რომ დემოკრატიებმა უნდა მიიღოს ეროვნული ღირებულებები და გააძლიეროს ეროვნული იდენტობები\, თუ მათ გადარჩენა სურთ. არიან ისინი მართლები? რა რისკებს შეიცავს ნაციონალიზმზე დაყრდნობა ჩვენს დაზიანებულ დემოკრატიათა აღსადგენად? \nერიკა ბენერის ბიოგრაფია \nმწერალი და მეცნიერი ერიკა ბენერი მორალურ და პოლიტიკურ აზროვნებაზე მუშაობს. ასწავლიდა ოქსფორდში\, ლონდონის ეკონომიკის სკოლასა და ცენტრალური ევროპის უნივერსიტეტში. მან ახლახან გამოსცა არაერთი ცნობილი წიგნი მაკიაველის შესახებ (იხ. http://www.ericabenner.com/). 1990-იანი წლების დასაწყისიდან მუშაობდა ნაციონალიზმზე. ოქსფორდის უნივერსიტეტის მეცნიერებათა დოქტორია. \nსამუშაო ენა: ინგლისური \nდრო: 25 მაისი\, 15:00 საათი \nLive – ღონისძიების ბმული: https://bit.ly/3ahS2jI \n2022 \n\n			\n				\n			\n		\n\n[wpai_display_imported_files_here]
URL:https://events.iliauni.edu.ge/event/erika-beneris-sajaro-leqtsia-stchirdeba-thu-ara-demokratias-natsionalizmi/
CATEGORIES:ღონისძიებები
ATTACH;FMTTYPE=image/png:https://events.iliauni.edu.ge/wp-content/uploads/2022/05/65586.png
END:VEVENT
BEGIN:VEVENT
DTSTART;TZID=Asia/Dubai:20220525T171000
DTEND;TZID=Asia/Dubai:20220525T171000
DTSTAMP:20260425T164551
CREATED:20220525T130401Z
LAST-MODIFIED:20240201T113238Z
UID:10000405-1653498600-1653498600@events.iliauni.edu.ge
SUMMARY:ვებინარების სერია: ადიქციის კვლევები – თეორია და პრაქტიკა
DESCRIPTION:ილიას სახელმწიფო უნივერსიტეტის ადიქციის კვლევების სამაგისტრო პროგრამა და ტომაშ ზაბრანსკის სახ. ადიქტოლოგიის ინსტიტუტი გთავაზობთ საგაზაფხულო ვებინარების სერიას „ადიქციის კვლევები: თეორია და პრაქტიკა”. \nვებინარები ეხება ადიქტოლოგიის მეცნიერებისა და პრაქტიკის აქტუალური თემების განხილვას თანამედროვე კვლევებზე დაყრდნობით. \nვებინარები ჩატარდება ჰიბრიდულ ფორმატში როგორც ფიზიკურ სივრცეში\, ისე ონლაინ. მონაწილეობისთვის საჭირო წინასწარი რეგისტრაცია და დასწრების სასურველი ფორმატის მითითება. ვებინარზე ფიზიკურ სივრცეში დასწრების მსურველები მიიღებენ ინფორმაციას ღონისძიების ჩატარების ადგილმდებარეობაზე\, ხოლო ღონისძიებაზე ონლაინ დასწრების მსურველები – შეხვედრის ბმულს. \nრეგისტრაციისთვის მიჰყევით ბმულს: https://bit.ly/38hSvlj \n\nგანრიგი \nკანაფის პოლიტიკა და თანამედროვე კვლევები \nვებინარის მომხსენებელი – ასოცირებული პროფესორი დავით ოთიაშვილი\, ილიას სახელმწიფო უნივერსიტეტი \nთანამონაწილეები – ირმა კირთაძე და ზვიად ზალიკიანი \nმოდერატორი – პროფესორი ჯანა ჯავახიშვილი\, ილიას სახელმწიფო უნივერსიტეტი \nდრო: 1 ივნისი\, 18:00-19:00 \nვრცლად: https://bit.ly/3M6wnZ7\n_____________________________________________________________________________________________ \nადიქციის კვლევების კურსდამთავრებულთა მიერ შესრულებული უახლესი კვლევები: ნარკოვითარება საქართველოში\, ნარკოტიკების მოხმარება ღამის ცხოვრებაში და კოვიდის პირობებში \nვებინარის მომხსენებლები \nილიას სახელმწიფო უნივერსიტეტის ადიქციის კვლევების სამაგისტრო პროგრამის კურსდამთავრებულები: \n\nსათემო ალიანსის პროგრამის მენეჯერი ადა ბესელია;\nდამოკიდებულების კვლევითი ცენტრის „ალტერნატივა ჯორჯიას“ მკვლევარი თამარ მღებრიშვილი;\nიუსტიციის სამინისტროს საერთაშორისო ნარკოვითარების მონიტორინგის ეროვნული ცენტრის წარმომადგენლები – ირაკლი ნაცვლიშვილი და ლევან სალამაძე.\n\nთანამონაწილეები – ზვიად ზალიკიანი\, ირმა კირთაძე\, ჯანა ჯავახიშვილი \nმოდერატორი – ასოცირებული პროფესორი დავით ოთიაშვილი\, ილიას სახელმწიფო უნივერსიტეტი \nდრო: 8 ივნისი\, 18:00-19:00 \nვრცლად: https://bit.ly/3xpdzQw \n_____________________________________________________________________________________________ \nადიქციის კვლევების კურსდამთავრებულთა დასაქმების შესაძლებლობები \nვებინარის მომხსენებლები \n\nდაავადებათა კონტროლისა და საზოგადოებრივი ჯანმრთელობის ეროვნული ცენტრის არაგადამდებ დაავადებათა დეპარტამენტის თავმჯდომარე ლელა სტურუა\nბუპრენორფინის ჩანაცვლებითი თერაპიის ხელმძღვანელი ქეთევან სიხარულიძე;\nსათემო ალიანსის პროექტ „მანდალას“ ხელმძღვანელი თემურ ხატიაშვილი.\n\nვებინარის თანამონაწილეები – ილიას სახელმწიფო უნივერსიტეტის პროფესორები – ირმა კირთაძე\, დავით ოთიაშვილი\, ჯანა ჯავახიშვილი \nმოდერატორი – ზვიად ზალიკიანი \nდრო: 15 ივნისი\, 18:00-19:00 \nვრცლად: https://bit.ly/3MNnuUi\n_____________________________________________________________________________________________ \nფსიქოაქტიური საშუალებების მოხმარების პრევენცია \nვებინარის მომხსენებელი – პროფესორი ჯანა ჯავახიშვილი\, ილიას სახელმწიფო უნივერსიტეტი; \nთანამონაწილეები – დავით ოთიაშვილი და ზვიად ზალიკიანი; \nმოდერატორი – ირმა კირთაძე. \nდრო: 22 ივნისი\, 16:00-17:00 \nვრცლად: https://bit.ly/3tBCC0e\n_____________________________________________________________________________________________ \nსაჯარო ლექცია და ვებინარის „სამედიცინო კანაბინოიდების გამოყენება სამკურნალოდ – საერთაშორისო გამოცდილება“ ლაივსთრიმი \nდრო: 1 ივლისი\, 15:00 საათი \nმომხსენებელი – კირსტენ მიულერ-ვალი\, ნევროლოგ-ფსიქიატრი\, ჰანოვერის უნივერსიტეტის პროფესორი \nმოდერატორი – ასოცირებული პროფესორი დავით ოთიაშვილი\, ილიას სახელმწიფო უნივერსიტეტი \nვრცლად: https://bit.ly/3xGgGT2 \n2022 წელი \n\n			\n				\n			\n		\n\n[wpai_display_imported_files_here]
URL:https://events.iliauni.edu.ge/event/vebinarebis-seria-adiqtsiis-kvlevebi-theoria-da-praqtika/
CATEGORIES:ღონისძიებები
ATTACH;FMTTYPE=image/png:https://events.iliauni.edu.ge/wp-content/uploads/2022/05/65651.png
END:VEVENT
BEGIN:VEVENT
DTSTART;TZID=Asia/Dubai:20220525T190000
DTEND;TZID=Asia/Dubai:20220525T190000
DTSTAMP:20260425T164551
CREATED:20220427T052234Z
LAST-MODIFIED:20240201T113235Z
UID:10000403-1653505200-1653505200@events.iliauni.edu.ge
SUMMARY:ერიკ ლის საჯარო ლექცია „რატომ არის მნიშვნელოვანი ქართული ექსპერიმენტი“
DESCRIPTION:25 მაისს\, 19:00 საათზე\, საქართველოს დამოუკიდებლობის თარიღთან დაკავშირებით ამერიკელი მწერალი და ჟურნალისტი ერიკ ლი ილიას სახელმწიფო უნივერსიტეტში წაიკითხავს საჯარო ლექციას თემაზე ”Why the Georgian Experiment Matters” (რატომ იყო მნიშვნელოვანი ქართული ექსპერიმენტი).   \nმწერალი საქართველოში მწერალთა სახლისა და ამერიკის საელჩოს ერთობლივი სარეზიდენციო პროგრამის – Writer-in-Residence – ფარგლებში ილიას სახელმწიფო უნივერსიტეტის მხარდაჭერით იმყოფება. \nლექციის შემდეგ ერიკ ლის ილიას სახელმწიფო უნივერსიტეტის საპატიო დოქტორის წოდება მიენიჭება. \nლექციის შესახებ \n1917 წლამდე დიდი იყო მოლოდინი\, რომ სოციალისტური პარტიის გამარჯვება მსოფლიოს ნებისმიერ წერტილში ადამიანებს მეტ თავისუფლებას მოუტანდა. სწორედ ეს იყო ყველა სოციალისტის დაპირება კარლ მარქსის ცნობილი სიტყვების „რევოლუციის პირველი ნაბიჯი … [არის] დემოკრატიის ბრძოლის მოგება“ შემდეგ. მაგრამ რუსეთში კომუნისტების გამარჯვების შემდეგ დემოკრატიის ნაცვლად მსოფლიოში პირველი თანამედროვე ტოტალიტარული სახელმწიფო ჩამოყალიბდა. რა მოხდა? – ნიშნავდა თუ არა სოციალიზმი ტირანიის ახალ ფორმას? და არსებობდა თუ არა ლენინის\, ტროცკისა და სტალინის მიერ დამყარებული დიქტატურის ალტერნატივა? \nპირველი ქართული რესპუბლიკა\, რომელმაც სულ რაღაც სამი წელი იარსება\, სოციალ-დემოკრატიულმა ლიდერებმა\, მათ შორის კარლ კაუცკიმ\, აღტაცებით მიიღეს როგორც ბოლშევიზმის ალტერნატივა. ევროპელი სოციალ-დემოკრატიული ლიდერების დელეგაციამ\, რომელიც საქართველოში 1920 წლის შემოდგომაზე ჩამოვიდა\, და მათი ხელმძღვანელობის ქვეშ მყოფმა პარტიებმა\, სოციალისტური საზოგადოების შესახებ ახალი ხედვა ჩამოაყალიბეს იმის ფონზე\, რაც რუსეთსა და საქართველოში შეიქმნა.  ხოლო საქართველოში 1924 წლის აჯანყების ჩახშობის შემდეგ ორი ბანაკი\, რომლებიც ევროპულ მემარცხენეებში თანაარსებობდა\, დაიშალა და ერთ მხარეს – კომუნისტები\, მეორე მხარეს კი სოციალისტები აღმოჩნდნენ. \nმიუხედავად იმისა\, რომ ისტორიული მეხსიერება საქართველოს რესპუბლიკის შესახებ ევროპაში დიდწილად გაქრა\, მათი ხედვა „დემოკრატიული სოციალიზმის“ როგორც კომუნიზმის ალტერნატივის შესახებ კიდევ უფრო მნიშვნელოვანი გახდა\, განსაკუთრებით ცივი ომის დროს. განმათავისუფლებელი და დემოკრატიული სოციალიზმის ეს ხედვა დღესაც აქტუალური რჩება. \nმომხსენებლის შესახებ \nერიკ ლი (დ. 1955) ამერიკელი მწერალი\, ჟურნალისტი და პროფკავშირული აქტივისტია. მის მიერ დაფუძნებული ვებგვერდი LabourStart\, რომლის უცვლელი რედაქტორია\, აშუქებს პროფკავშირული მოძრაობის სიახლეებსა და კამპანიებს მთელი მსოფლიოს მასშტაბით. \nერიკ ლიმ ოცდაათი წელი მიუძღვნა საქართველოს ისტორიის სხვადასხვა ასპექტის კვლევას და დაწერა ორი წიგნი: \n\nThe Experiment: Georgia’s Forgotten Revolution 1918-1921 (Zed\, 2017) წიგნი ასევე გამოქვეყნებულია ქართულად (გამომცემლობა „პოეზია“\, 2018) და რუსულად.\nNight of the Bayonets: The Texel Uprising and Hitler’s revenge (GreenHill Books\, 2020) წიგნი „ქართული ამბოხი ტექსელზე: ბოლო ბრძოლა ევროპაში“ ასევე გამოქვეყნებულია ქართულად (გამომცემლობა „პოეზია“\, 2020)\, ჰოლანდიურად და ჩეხურად.\n\nგარდა ამ წიგნებისა\, ერიკ ლი ავტორია ოთხი წიგნისა: \n\nBritain’s Plot to Kill Hitler: The True Story of Operation Foxley and SOE (GreenHill Books\, 2022)\nOperation Basalt: The British Raid on Sark and Hitler’s Commando Order (The History Press\, 2016)\nThe Labour Movement and the Internet: The New Internationalism (Pluto Press\, 1996)\nSaigon to Jerusalem: Conversations with Israel’s Vietnam Veterans (McFarland\, 1992)\n\nფორმატი   \nსაჯარო ლექცია და ცერემონია ჩატარდება ჰიბრიდულ ფორმატში. მონაწილეებს წინასწარი რეგისტრაციის საფუძველზე თავად შეუძლიათ აირჩიონ დასწრების სასურველი ფორმატი. \nრეგისტრაციისთვის მიჰყევით ბმულს: https://bit.ly/3EVcsua \nსამუშაო ენა \nინგლისური (უზრუნველყოფილი იქნება სინქრონული თარგმანი) \nდრო: 25 მაისი\, 19:00 საათი \n2022 წელი \n\n			\n				\n			\n		\n\n[wpai_display_imported_files_here]
URL:https://events.iliauni.edu.ge/event/erik-lis-sajaro-leqtsia-ratom-aris-mnishvnelovani-qarthuli-eqsperimenti/
CATEGORIES:ღონისძიებები
ATTACH;FMTTYPE=image/png:https://events.iliauni.edu.ge/wp-content/uploads/2022/04/65343.png
END:VEVENT
BEGIN:VEVENT
DTSTART;TZID=Asia/Dubai:20220525T190000
DTEND;TZID=Asia/Dubai:20220525T190000
DTSTAMP:20260425T164551
CREATED:20220523T160530Z
LAST-MODIFIED:20241122T110927Z
UID:10000401-1653505200-1653505200@events.iliauni.edu.ge
SUMMARY:ყველაფერი უკრაინის შესახებ:  "უკრაინის ისტორია: უძველესი დროიდან დღემდე"
DESCRIPTION:ილიას სახელმწიფო უნივერსიტეტი გთავაზობთ საჯარო ლექციათა სერიას „ყველაფერი უკრაინის შესახებ“. სერიის მიზანია\, დაინტერესებულმა პირებმა მეტი ინფორმაცია მიიღონ უკრაინის\, კერძოდ\, მისი ისტორიის\, ენის\, ლიტერატურის\, კულტურის\, პოლიტიკური სისტემის\, საგარეო პოლიტიკის\, ეკონომიკისა და იმ გამოწვევების შესახებ\, რომელთა წინაშეც ბოლო პერიოდში ქვეყანა აღმოჩნდა. \nკურსს გაუძღვებიან კიევის ტარას შევჩენკოს სახელობის ეროვნული უნივერსიტეტის პროფესორი ელენა შევჩენკო და უკრაინის ეროვნული საავიაციო უნივერსიტეტის პროფესორი ალლა გოლოვნია. მომხსენებლები 2022 წლის მაისიდან შემოუერთდნენ ილიას სახელმწიფო უნივერსიტეტს უკრაინის სამეცნიერო საზოგადოებისადმი მხარდაჭერის მიზნით გამოცხადებული პროგრამის Ukrainian Academics at Risk ფარგლებში. \nლექციათა სერიის ფარგლებში 25 მაისს\, 19:00 საათზე ილიას სახელმწიფო უნივერსიტეტის G106 აუდიტორიაში გაიმართება პირველი შეხვედრა თემაზე: “უკრაინის ისტორია: უძველესი დროიდან დღემდე” \nლექციაზე დისტანციურად დასწრება ასევე შესაძლებელია Zoom-ის მეშვეობით. \nგთხოვთ\, ეწვიოთ ბმულს. \nდრო: 25 მაისი\, 19:00 საათი \n2022 წელი \n\n			\n				\n			\n		\n\n[wpai_display_imported_files_here]
URL:https://events.iliauni.edu.ge/event/qhvelapheri-ukrainis-shesakheb-ukrainis-istoria-udzvelesi-droidan-dghemde/
CATEGORIES:ღონისძიებები
ATTACH;FMTTYPE=image/png:https://events.iliauni.edu.ge/wp-content/uploads/2025/09/cover_default.png
END:VEVENT
BEGIN:VEVENT
DTSTART;TZID=Asia/Dubai:20220526T110000
DTEND;TZID=Asia/Dubai:20220526T110000
DTSTAMP:20260425T164551
CREATED:20220516T104053Z
LAST-MODIFIED:20240201T113229Z
UID:10000397-1653562800-1653562800@events.iliauni.edu.ge
SUMMARY:პირველი ბიობლიცი თბილისში
DESCRIPTION:26 მაისს\, საქართველოს დამოუკიდებლობის დღეს\, 11:00-დან 17:00 საათამდე საქართველოს ეროვნული ბოტანიკური ბაღის ღია სადღესასწაულო სივრცეში (event square) კავკასიის სიცოცხლის ბარკოდირების (CaBOL) პროექტის ფარგლებში გაიმართება ღონისძიება ბიობლიცი. \nღონისძიების მონაწილეებს შესაძლებლობა ექნებათ\, ახლოდან გაიცნონ საქართველოში მობინადრე ცოცხალი ორგანიზმები და სურვილისამებრ ჩაერთონ სხვადასხვა სამუშაო ჯგუფში: \n\nმფრინავი მწერები\nნიადაგის უხერხემლოები\nწყლის უხერხემლოები\nმცენარეები\nქვეწარმავლები და ფრინველები\n\nსამუშაო ჯგუფები ერთსაათიანი შუალედით გავლენ ბოტანიკური ბაღის ტერიტორიაზე და ამ დროის განმავლობაში შეგროვების ტექნიკის გაცნობის გარდა\, მიიღებენ საინტერესო და მნიშვნელოვან ინფორმაციას უხერხემლო ორგანიზმების საჭიროებისა და მათი როლის შესახებ. მონაწილეებს საშუალება მიეცემათ მნიშვნელოვანი თეორიული ინფორმაციის გაცნობასთან ერთად ჩაერთონ მცირე საველე სამუშაოებში\, რაც მოიცავს ბოტანიკური ბაღის ტერიტორიაზე სხვადასხვა ტიპის სინჯის შეგროვების ტექნიკას და ასევე ამ სინჯების დამუშავების სხვადასხვა ვარიანტს. \nღონისძიების მიზანია მონაწილეებში ველური ბუნებისადმი ინტერესის გაღრმავება და მასზე დაკვირვებისა და კვლევის მეთოდების გაცნობა. \nღონისძიებას გაუძღვებიან ილიას სახელმწიფო უნივერსიტეტის ეკოლოგიის ინსტიტუტის მკვლევრები და პროექტში ჩართული სტუდენტები. \nდასწრება თავისუფალია. \nსამუშაო ჯგუფებში მონაწილეობის მსურველებმა უნდა გაიარონ წინასწარი რეგისტრაცია ბმულზე: https://bit.ly/3sOpJQ9 \nღონისძიებაზე დასწრება ბოტანიკურ ბაღში მოსული დამთვალიერებლებისთვის უფასოა. გაითვალისწინეთ რომ ბოტანიკურ ბაღში შესვლა ფასიანია. იხილეთ დამატებითი ინფორმაცია ვებგვერდზე: https://nbgg.ge/index.html \n2022 წელი \n\n			\n				\n			\n		\n\n[wpai_display_imported_files_here]
URL:https://events.iliauni.edu.ge/event/pirveli-bioblitsi-thbilisshi/
CATEGORIES:ღონისძიებები
ATTACH;FMTTYPE=image/png:https://events.iliauni.edu.ge/wp-content/uploads/2022/05/65564.png
END:VEVENT
END:VCALENDAR