BEGIN:VCALENDAR
VERSION:2.0
PRODID:-//უნივერსიტეტის ღონისძიებების პორტალი - ECPv6.2.8.2//NONSGML v1.0//EN
CALSCALE:GREGORIAN
METHOD:PUBLISH
X-WR-CALNAME:უნივერსიტეტის ღონისძიებების პორტალი
X-ORIGINAL-URL:https://events.iliauni.edu.ge
X-WR-CALDESC:Events for უნივერსიტეტის ღონისძიებების პორტალი
REFRESH-INTERVAL;VALUE=DURATION:PT1H
X-Robots-Tag:noindex
X-PUBLISHED-TTL:PT1H
BEGIN:VTIMEZONE
TZID:Asia/Dubai
BEGIN:STANDARD
TZOFFSETFROM:+0400
TZOFFSETTO:+0400
TZNAME:+04
DTSTART:20230101T000000
END:STANDARD
END:VTIMEZONE
BEGIN:VEVENT
DTSTART;TZID=Asia/Dubai:20231225T160000
DTEND;TZID=Asia/Dubai:20231226T180000
DTSTAMP:20260421T155511
CREATED:20231220T123142Z
LAST-MODIFIED:20240202T102019Z
UID:10001635-1703520000-1703613600@events.iliauni.edu.ge
SUMMARY:ილიაუნის სამეცნიერო-კვლევითი ფორუმი 2023
DESCRIPTION:25-26 დეკემბერს ილიას სახელმწიფო უნივერსიტეტში გაიმართება საუნივერსიტეტო სამეცნიერო ფორუმი\, რომელიც ეძღვნება ილიაუნის პროფესორ-ემერიტუსის\, ზურაბ კიკნაძის 90 წლის იუბილეს.   \nფორუმზე ილიაუნის სოციალური და კულტურის კვლევების  ინსტიტუტისა და გიორგი წერეთლის აღმოსავლეთმცოდნეობის ინსტიტუტის პროფესორები თავიანთ პრეზენტაციებში ისაუბრებენ ზურაბ კიკნაძის კვლევითი და საგანმანათლებლო საქმიანობის შესახებ. \nილიას უმაღლესი კვლევების ცენტრი წარმოადგენს ცენტრის სერიის „ილიაუნის გზამკვლევის“ ფარგლებში  ზურაბ კიკნაძის ავტორობით გამოცემულ ნაშრომს „ამირანიანი“. \n26 დეკემბერს უნივერსიტეტის სამეცნიერო კვლევითი ინსტიტუტები დაინტერესებულ საზოგადოებას  წარუდგენენ  უნივერსიტეტში მიმდინარე სამეცნიერო-კვლევითი საქმიანობის შესახებ მოხსენებებს. \nიხილეთ ფორუმის გრაფიკი: https://rb.gy/ix63yv \nსამუშაო ენა: ქართული \nდრო: 25 დეკემბერი\, 16:00-18:00 საათი \n26 დეკემბერი\, 11:30-18:00 საათი \nადგილმდებარეობა: ილიას სახელმწიფო უნივერსიტეტის G106 აუდიტორია\, გ. წერეთლის ქ. N1) \nდასწრება თავისუფალია. \n2023 წელი \n\n[wpai_display_imported_files_here]
URL:https://events.iliauni.edu.ge/event/iliaunis-sametsniero-kvlevithi-phorumi-2023/
CATEGORIES:ღონისძიებები
ATTACH;FMTTYPE=image/png:https://events.iliauni.edu.ge/wp-content/uploads/2024/02/81606.png
END:VEVENT
END:VCALENDAR