BEGIN:VCALENDAR
VERSION:2.0
PRODID:-//უნივერსიტეტის ღონისძიებების პორტალი - ECPv6.2.8.2//NONSGML v1.0//EN
CALSCALE:GREGORIAN
METHOD:PUBLISH
X-WR-CALNAME:უნივერსიტეტის ღონისძიებების პორტალი
X-ORIGINAL-URL:https://events.iliauni.edu.ge
X-WR-CALDESC:Events for უნივერსიტეტის ღონისძიებების პორტალი
REFRESH-INTERVAL;VALUE=DURATION:PT1H
X-Robots-Tag:noindex
X-PUBLISHED-TTL:PT1H
BEGIN:VTIMEZONE
TZID:Asia/Dubai
BEGIN:STANDARD
TZOFFSETFROM:+0400
TZOFFSETTO:+0400
TZNAME:+04
DTSTART:20230101T000000
END:STANDARD
END:VTIMEZONE
BEGIN:VEVENT
DTSTART;TZID=Asia/Dubai:20230620T190000
DTEND;TZID=Asia/Dubai:20230620T190000
DTSTAMP:20260423T025532
CREATED:20230619T070641Z
LAST-MODIFIED:20240201T111403Z
UID:10000015-1687287600-1687287600@events.iliauni.edu.ge
SUMMARY:FrontSpot MeetUp
DESCRIPTION:20 ივნისს FrontSpot Georgia-სა და ილიას სახელმწიფო უნივერსიტეტის ორგანიზებით გაიმართება შეხვედრა IT მიმართულების სტუდენტებისა და ამ სფეროთი დაინტერესებული პროფესიონალებისთვის. \n\nსპიკერების შესახებ: \n\nისკანდერ შარიპოვი\, პროგრამული უზრუნველყოფის ინჟინერი\n\nთემა – JS necromancy: re-animating dead images using shaders \nპრეზენტაციის შინაარსი: სპიკერი განიხილავს ფრაგმენტების ჩრდილებს\, რას აკეთებს და როგორ შეგვიძლია მათი გამოყენება. თქვენ შექმნით სხვადასხვა ეფექტს ჩრდილებისა და WebGL-ის გამოყენებით\, ასევე ნახავთ\, როგორ არის ინტეგრირებული ჩრდილები JS თამაშის ძრავებში\, მაგალითად\, pixiJS-ში. \n\nალიაქსანდრ ერახავეცი\, უფროსი პროგრამული უზრუნველყოფის ინჟინერი\n\nთემა – OAuth 2.0. How secure is your mobile login? \nპრეზენტაციის შინაარსი: დღეს\, mobile world-ის ეპოქაში\, სულ უფრო რთულდება მომხმარებლის მონაცემთა დაცვა\, შესაბამისად იზრდება მოთხოვნა უსაფრთხო აპლიკაციებზე. ამიტომ აუცილებელია\, არ ჩამორჩეთ სიახლეებს და ფლობდეთ ინფორმაციას OAth 2.0-ის განვითარებისა და საუკეთესო პრაქტიკების შესახებ. \nმომხსენებელი განიხილავს OAuth 2.0 სამუშაო პროცესს და ინტეგრაციას\, ისაუბრებს შეცდომებზე\, რომელთაც ყოველდღიურად ვუშვებთ ცხოვრებაში მონაცემთა დაცვის დროს\, და ბოლოს: შეისწავლით საუკეთესო პრაქტიკას მობილური აპლიკაციების უსაფრთხოებისთვის. \n\nსამუშაო ენა: ინგლისური \nდრო: 20 ივნისი\, 19:00 საათი \nადგილმდებარეობა: ილიას სახელმწიფო უნივერსიტეტი\, T102 საკონფერენციო დარბაზი\, ქ. ჩოლოყაშვილის გამზ. N3/5 \nდასწრება თავისუფალია. \n2023 წელი \n\n[wpai_display_imported_files_here]
URL:https://events.iliauni.edu.ge/event/frontspot-meetup/
CATEGORIES:ღონისძიებები
ATTACH;FMTTYPE=image/png:https://events.iliauni.edu.ge/wp-content/uploads/2023/06/77391.png
END:VEVENT
BEGIN:VEVENT
DTSTART;TZID=Asia/Dubai:20230623T163000
DTEND;TZID=Asia/Dubai:20230623T163000
DTSTAMP:20260423T025532
CREATED:20230619T082305Z
LAST-MODIFIED:20240201T111348Z
UID:10000013-1687537800-1687537800@events.iliauni.edu.ge
SUMMARY:შეხვედრა აშშ-ის ბირთვული შეიარაღების ლაბორატორიის პირველ ქალ ხელმძღვანელთან\, ჯილ მარი ჰრუბთან
DESCRIPTION:23 ივნისს\, 16:30 საათზე\, საქართველოში ამერიკის შეერთებული შტატების საელჩოს ორგანიზებით ილიას სახელმწიფო უნივერსიტეტის სტუდენტებთან შეხვედრას გამართავს ჯილ მარი ჰრუბი\, აშშ-ის ბირთვული შეირაღების ლაბორატორიის პირველი ქალი ხელმძღვანელი\, აშშ-ის ენერგეტიკის დეპარტამენტის მდივნის მოადგილე ბირთვული უსაფრთხოების საკითხებში. \nშეხვედრაზე ჯილ ჰრუბი\, პროფესიით მექანიკური ინჟინერი\, სტუდენტებს ესაუბრება თავის კარიერასა და საქმიანობაზე. \nშეხვედრა წარიმართება კითხვა-პასუხის რეჟიმში. \nშეხვედრაზე დასასწრებად საჭიროა წინასწარი რეგისტრაცია. რეგისტრაციის ბოლო ვადა – 2023 წლის 22 ივნისი\, 18:00 საათი. \nრეგისტრაციისთვის მიჰყევით ბმულს: https://forms.gle/A4YcK2cReaicj1pn7 \nმომხსენებლის შესახებ \nჯილ მარი ჰრუბი პროფესიით მექანიკური ინჟინერია. 2021 წლის 26 ივლისიდან აშშ-ის ენერგეტიკის დეპარტამენტის მდივნის მოადგილეა ბირთვული უსაფრთხოების საკითხებში\, უკავია თანამდებობა\, რომელსაც სენატი ამტკიცებს. \n2015-2017 წლებში იყო სანდრიას ეროვნული ლაბორატორიის დირექტორი და ისტორიაში შევიდა\, როგორც აშშ-ის ბირთვული შეიარაღების ლაბორატორიის პირველი ხელმძღვანელი ქალი. \nეს დაწესებულება\, აშშ-ის ენერგეტიკის დეპარტამენტის/ეროვნული ბირთვული უსაფრთხოების ადმინისტრაციის დაქვემდებარებაში არსებული ეროვნული ლაბორატორია\, უზრუნველყოფს ეროვნული უსაფრთხოების დარგში განსაზღვრული სხვადასხვა ამოცანის შესრულებას\, მათ შორის ბირთვული შეიარაღების\, კიბერსივრცის\, ენერგეტიკის\, მასობრივი განადგურების იარაღის გაუვრცელებლობის\, ბიოლოგიური საფრთხისგან თავდაცვისა და კოსმოსის კვლევის მიმართულებით. \nდრო: 23 ივნისი\, 16:30 საათი \nადგილმდებარეობა: T406\, კიბერლაბორატორია უნილაბი\, ილიას სახელმწიფო უნივერსიტეტის ტექნოლოგიის კორპუსი (ქ. ჩოლოყაშვილის გამზ. N3/5\, ვაკის პარკის გადმოსწვრივ) \nსამუშაო ენა: ინგლისური \nშეხვედრაზე დასასწრებად საჭიროა წინასწარი რეგისტრაცია. რეგისტრაციის ბოლო ვადა – 2023 წლის 22 ივნისი\, 18:00 საათი. \nრეგისტრაციისთვის მიჰყევით ბმულს: https://forms.gle/A4YcK2cReaicj1pn7 \n2023 წელი \n\n[wpai_display_imported_files_here]
URL:https://events.iliauni.edu.ge/event/shekhvedra-ashsh-is-birthvuli-sheiaraghebis-laboratoriis-pirvel-qal-khelmdzghvanelthan-jil-mari-hrubthan/
CATEGORIES:ღონისძიებები
ATTACH;FMTTYPE=image/png:https://events.iliauni.edu.ge/wp-content/uploads/2023/06/77399.png
END:VEVENT
BEGIN:VEVENT
DTSTART;TZID=Asia/Dubai:20230623T170000
DTEND;TZID=Asia/Dubai:20230623T170000
DTSTAMP:20260423T025532
CREATED:20230621T065600Z
LAST-MODIFIED:20240201T111330Z
UID:10000011-1687539600-1687539600@events.iliauni.edu.ge
SUMMARY:აშშ-ის საელჩოს ატაშეს\, მარიო მონტოიას\, ფოტოგამოფენა „არნახული ამერიკა“
DESCRIPTION:23 ივნისს ილიას სახელმწიფო უნივერსიტეტი უმასპინძლებს ამერიკის შეერთებული შტატების საელჩოს ატაშეს\, მარიო მონტოიას\, ფოტოგამოფენას „არნახული ამერიკა / Unseen America“. \nგამოფენის ფარგლებში ამერიკის შეერთებული შტატების საგანგებო და სრულუფლებიანი ელჩი საქართველოში კელი დეგნანი გამართავს შეხვედრას სტუდენტებთან\, რომელიც კითხვა-პასუხის ფორმატში წარიმართება. \nშეხვედრაზე დასასწრებად საჭიროა წინასწარი რეგისტრაცია. რეგისტრაციის ბოლო ვადა – 2023 წლის 22 ივნისი\, 21:00 საათი. \nრეგისტრაციისთვის მიჰყევით ბმულს: https://forms.gle/DkExyTNg8EF2nggXA \nპროექტის შესახებ \n„არნახული ამერიკა / Unseen America”\, დოკუმენტური ფოტოგრაფიის ინსტალაცია\, დამთვალიერებლებს აჩვენებს შეერთებული შტატების საზოგადოებისთვის ნაკლებად ცნობილ მხარეებს. \nპროექტი Unseen America 2019 წლის მარტში გაიხსნა კიევში (უკრაინა)\, ამერიკის სახლის კულტურულ სივრცეში\, და დაფინანსებული იყო უკრაინაში აშშ-ის საელჩოს მიერ. ამასთან პროექტი განიხილებოდა ესპანური მემკვიდრეობის თვის ფარგლებში ვირტუალურ საგანმანათლებლო სერიაში “Siesta Americana” 2020 წელს კიევში. \nგამოფენა ასევე დააფინანსა საქართველოში აშშ-ის საელჩომ და წარმოდგენილი იყო ყვარლის ამერიკულ სივრცეში. \nმარიო მონტოიას შესახებ \nმარიო მონტოია დაიბადა ალბურკში\, ნიუ მექსიკოში. ცხოვრობდა შვიდ სხვადასხვა ქვეყანაში. საქართველოში ახლახან კიევიდან დაბრუნდა. 10 წელია\, რაც დოკუმენტურმა ფოტოგრაფიამ გაიტაცა. მარიოს ფოტოგრაფია წარმოდგენილია ვაშინგტონის სამხატვრო გალერეებში\, კიევის გამოფენებსა და საერთაშორისო ჟურნალებში. \nდრო: 23 ივნისი\, 17:00 საათი \nადგილმდებარეობა: G106 აუდიტორია\, ილიას სახელმწიფო უნივერსიტეტი\, გ. წერეთლის ქ.N1 \nსამუშაო ენა: ინგლისური \n2023 წელი \n\n[wpai_display_imported_files_here]
URL:https://events.iliauni.edu.ge/event/ashsh-is-saelchos-atashes-mario-montoias-photogamophena-arnakhuli-amerika/
CATEGORIES:ღონისძიებები
ATTACH;FMTTYPE=image/png:https://events.iliauni.edu.ge/wp-content/uploads/2023/06/77420.png
END:VEVENT
END:VCALENDAR