BEGIN:VCALENDAR
VERSION:2.0
PRODID:-//უნივერსიტეტის ღონისძიებების პორტალი - ECPv6.2.8.2//NONSGML v1.0//EN
CALSCALE:GREGORIAN
METHOD:PUBLISH
X-ORIGINAL-URL:https://events.iliauni.edu.ge
X-WR-CALDESC:Events for უნივერსიტეტის ღონისძიებების პორტალი
REFRESH-INTERVAL;VALUE=DURATION:PT1H
X-Robots-Tag:noindex
X-PUBLISHED-TTL:PT1H
BEGIN:VTIMEZONE
TZID:Asia/Dubai
BEGIN:STANDARD
TZOFFSETFROM:+0400
TZOFFSETTO:+0400
TZNAME:+04
DTSTART:20230101T000000
END:STANDARD
END:VTIMEZONE
BEGIN:VEVENT
DTSTART;TZID=Asia/Dubai:20230609T100000
DTEND;TZID=Asia/Dubai:20230609T100000
DTSTAMP:20260423T025912
CREATED:20230602T065600Z
LAST-MODIFIED:20240201T111846Z
UID:10000043-1686304800-1686304800@events.iliauni.edu.ge
SUMMARY:„ჭკვიანი ქალაქები“ – მაიკლ ქინდალის საჯარო ლექცია
DESCRIPTION:9 ივნისს\, 10:00 საათზე\, ილიას სახელმწიფო უნივერსიტეტის ტექნოლოგიების კორპუსის 102 აუდიტორიაში მაიკლ ქინდალი წაიკითხავს საჯარო ლექციას „ჭკვიანი ქალაქები“. \nლექციის შესახებ \nზოგიერთი ქალაქი ისეა დაგეგმარებული\, რომ სატრანსპორტო მოძრაობასთან დაკავშირებულ მზარდ გამოწვევევებს ვერ პასუხობს ან რთულია მათი ტრანფორმირება. შესაბამისად\, საჭიროა პრობლემის კომპლექსურად შესწავლა და გამოსავლის პოვნა. \nმაიკლ ქინდალი აუდიტორიას წარუდგენს პროექტის იდეას\, რომელიც გულისხმობს ქალაქში „ჭკვიანი პარკირების“ ტექნოლოგიის დანერგვასა და განხორციელებას\, რომელიც ხელს შეუწყობს\, ზოგადად\, ტრანსპორტის მოძრაობის\, კერძოდ კი საჯარო ტრანსპორტის ნაკადების მონიტორინგსა და რეგულირებას. პროექტის სწორი განხორციელების შედეგად გამონაბოლქვი მკვეთრად შემცირდება\, ასევე პარკირების მაძიებელ სატრანსპორტო საშუალებათა ნაკადის დარეგულირებას შეუწყობს ხელს. \nმომხსენებლის შესახებ \nშვედი ბიზნესმენი მაიკლ ქინდალი ამჟამად მუშაობს „ჭკვიანი ქალაქის“ კონცეფციის განვითარებასა და სატრანსპორტო მოძრაობის მენეჯმენტზე. იგი დაინტერესებულია სატრანსპორტო ნაკადების რეგულირებით\, საზოგადოებისთვის ქალაქში უკეთესი გარემოს შექმნით\, გამონაბოლქვის შემცირებითა და\, ზოგადად\, ქალაქში გადაადგილების გაუმჯობესებით. \nსამუშაო ენა: ინგლისური \nდრო: 9 ივნისი\, 10:00 საათი \nადგილმდებარეობა: T102 აუდიტორია\, ქ. ჩოლოყაშვილის გამზ. N3/5\, ილიას სახელმწიფო უნივერსიტეტი \nდასწრება თავისუფალია. \n2023 \n\n[wpai_display_imported_files_here]
URL:https://events.iliauni.edu.ge/event/tchkviani-qalaqebi-maikl-qindalis-sajaro-leqtsia/
CATEGORIES:ღონისძიებები
ATTACH;FMTTYPE=image/png:https://events.iliauni.edu.ge/wp-content/uploads/2023/06/76846.png
END:VEVENT
END:VCALENDAR