BEGIN:VCALENDAR
VERSION:2.0
PRODID:-//უნივერსიტეტის ღონისძიებების პორტალი - ECPv6.2.8.2//NONSGML v1.0//EN
CALSCALE:GREGORIAN
METHOD:PUBLISH
X-WR-CALNAME:უნივერსიტეტის ღონისძიებების პორტალი
X-ORIGINAL-URL:https://events.iliauni.edu.ge
X-WR-CALDESC:Events for უნივერსიტეტის ღონისძიებების პორტალი
REFRESH-INTERVAL;VALUE=DURATION:PT1H
X-Robots-Tag:noindex
X-PUBLISHED-TTL:PT1H
BEGIN:VTIMEZONE
TZID:Asia/Dubai
BEGIN:STANDARD
TZOFFSETFROM:+0400
TZOFFSETTO:+0400
TZNAME:+04
DTSTART:20230101T000000
END:STANDARD
END:VTIMEZONE
BEGIN:VEVENT
DTSTART;TZID=Asia/Dubai:20230516T110000
DTEND;TZID=Asia/Dubai:20230516T110000
DTSTAMP:20260423T025534
CREATED:20230510T082232Z
LAST-MODIFIED:20240201T111932Z
UID:10000064-1684234800-1684234800@events.iliauni.edu.ge
SUMMARY:სისხლის უანგარო დონაციის დღე ილიაუნიში
DESCRIPTION:16 მაისს\,  ილიას სახელმწიფო უნივერსიტეტის სტუდენტურ საქმეთა დეპარტამენტის ორგანიზებით ილიაუნის A და T კორპუსებში გაიმართება სისხლის უანგარო დონაციის დღე. \nაქციის ფარგლებში ორგანიზაციების „ნატალია კვანტალიანის სისხლის ცენტრალური ბანკი“ და „სიცოცხლე“ პროფესიონალი\, გამოცდილი ექიმებით დაკომპლექტებული მობილური გუნდები მსურველებს შესთავაზებენ\, უანგაროდ გაიღონ სისხლი და ამით გამოხატონ თანადგომა იმ ადამიანთა მიმართ\, რომელთაც დახმარება სჭირდებათ. \nსისხლის დონორი შეიძლება გახდეთ ნებისმიერი ადამიანი 18-დან 65 წლამდე\, თუ: \n\nკორონავირუსის გადატანიდან გასულია 2 კვირაზე მეტი\nკორონავირუსის საწინააღმდეგო ვაქცინის გაკეთებიდან გასულია 2 კვირაზე მეტი\nთქვენი წონა – 50-კგ და მეტია;\nარ გაქვთ გადატანილი ვირუსული ჰეპატიტები B და C;\nსიფილისი\, ტუბერკულოზი;\nარ ხართ ინფიცირებული აივ ინფექციით;\nარ გაქვთ სისხლის ან ონკოლოგიური დაავადებები;\nარ ხართ ნარკოტიკების მომხმარებელი;\nარ გქონიათ გადატანილი ქირურგიული ოპერაცია\, არ გაგიკეთებიათ ტეტანუსისა და ცოფის საწინააღმდეგო აცრა ბოლო 1 წლის განმავლობაში;\nარ გაგიკეთებიათ ტატუ ბოლო 6 თვის განმავლობაში;\nარ გქონიათ სხვის სისხლთან კონტაქტი;\nბოლო 6 თვის მანძილზე არ ყოფილხართ ორსულად;\nდონაციის დღეს დონორი უნდა იყოს პრაქტიკულად ჯანმრთელი – არ უნდა ჰქონდეს სიცხე\, სურდო\, კატარი\, სხვა გრიპოზული მოვლენები.\n\nმათ\, ვინც მონაწილეობას მიიღებს საქველმოქმედო აქციაში\, უფასოდ მიეწოდებათ შემდეგი კვლევის შედეგები: \n\nსისხლის საერთო ანალიზი\nჯგუფი\, რეზუსი\, ფენოტიპი\nB და C ჰეპატიტი\, სიფილისი\, ციტომეგალო და შიდსის ვირუსი\n\nადამიანმა\, ვინც დონორობას აპირებს\, უნდა იცოდეს შემდეგი: \n\nსისხლის დონაცია იოლი\, უსაფრთხო და უმტკივნეულო პროცესია;\nსისხლის დონაციისას იხმარება მხოლოდ ერთჯერადი მასალა და დონორი დაცულია ინფიცირებისაგან;\nსისხლის დონორობა აბსოლუტურად უსაფრთხოა ჯანმრთელობისათვის;\nსისხლის ჩაბარება რეკომენდებულია დღის პირველ ნახევარში;\nსისხლის ჩაბარების დღეს უმჯობესია\, დილით მსუბუქად წაიხემსოთ და დალიოთ ტკბილი ჩაი. თავი უნდა შეიკავოთ თამბაქოსა და ანალგეტიკების მიღებისაგან;\nსისხლის ხელმეორედ ჩაბარება შეიძლება 2 თვის შემდეგ;\nთან იქონიოს პირადობის მოწმობის დამადასტურებელი საბუთი.\n\nდრო: 16 მაისი\, 11:00-16:00 საათი \nადგილმდებარეობა: \nნატალია კვანტალიანის სახელობის ცენტრალური ბანკი – ილიაუნის A კორპუსი. სტუდენტური სივრცე\, ი. ჭავჭავაძის გამზ. N32 \nსისხლის ბანკი „სიცოცხლე“ – ილიაუნის T კორპუსი\, სტუდენტური სივრცე\, ჩოლოყაშვილის გამზ. N3/5 \n2023  წელი \n\n[wpai_display_imported_files_here]
URL:https://events.iliauni.edu.ge/event/siskhlis-uangaro-donatsiis-dghe-iliaunishi/
CATEGORIES:ღონისძიებები
ATTACH;FMTTYPE=image/png:https://events.iliauni.edu.ge/wp-content/uploads/2023/05/76166.png
END:VEVENT
BEGIN:VEVENT
DTSTART;TZID=Asia/Dubai:20230516T200000
DTEND;TZID=Asia/Dubai:20230516T200000
DTSTAMP:20260423T025534
CREATED:20230427T082000Z
LAST-MODIFIED:20240201T111923Z
UID:10000062-1684267200-1684267200@events.iliauni.edu.ge
SUMMARY:სპექტაკლი „მარატ-სადი“
DESCRIPTION:ჟან-პოლ მარატის დევნა და მკვლელობა\, შარანტონის თავშესაფრის მსახიობთა მიერ დადგმული მარკიზ დე სადის ხელმძღვანელობით \n1 მოქმედებად \nშესაძლებელია კი სრული თანასწორობის მიღწევა რევოლუციის საშუალებით? არის კი რევოლუცია გზა\, რომელიც თავისუფლებისა და ძმობის შეგრძნებებს მოგვიტანს და სურვილებს დაგვიკმაყოფილებს? სწორედ ამ კითხვებზე პასუხების ძიებაში პიესის მთავარი გმირი\, მარკიზ დე სადი შარანტონის საგიჟეთში\, პაციენტების მონაწილეობით ექსპერიმენტულ სპექტაკლს დგამს და შედეგი\, რომელსაც ის მიიღებს\, საკმაოდ მოულოდნელია. \nახალგაზრდა დამწყებმა რეჟისორმა\, საბა ასლამაზიშვილმაც თავისი სადებიუტო სპექტაკლისთვის ექსპერიმენტის გზა აირჩია და წარმოდგენა არა ტრადიციულ სივრცეში\, არამედ თეატრის ფოიეში დადგა. ორი საათით ილიაუნის თეატრი შარანტონის თავშესაფარის იერს მიიღებს და მსახიობები მაყურებელთან ერთად შეეცდებიან საფრანგეთის რევოლუციის პერიპეტიების გახსენებისას მონახონ პახუხები იმ კითხვებზე\, რომელნიც დღესაც ესოდენ საჭირბოროტოა. \nამ სპექტაკლით რეჟისორი წარდგენილი გახლდათ წინანდლის პრემიაზე \n\nრეჟისორი: საბა ასლამაზიშვილი\nმხატვარი: თეო კუხიანიძე\nტექნიკური რეჟისორი: თამუნა კამლაძე\n\nსპექტაკლისთვის მუსიკა სპეციალურად დაწერა კონსტანტინე ეჯიბაშივლმა \nსპექტაკლში გამოყენებულია ჯემალ ჭელიძის თარგმანი \nმოქმედი პირნი და შემსრულებელნი: \n\nჟან-პოლ მარატი – ბაჩო ჩაჩიბაია\nმარკიზ დე სადი – ამირან ქაჩიბაია\nშარლოტა კორდე – ანი იმნაძე\nსიმონა ევრარი – ანიკო შურღაია\nკულმიე – გივიკო ბარათაშვილი\nდიუპრე – ვლადიმერ ვაშაკიძე\nმღვდელი ჟაკრუ – კონსტანტინე ეჯიბაშივლი\nმაცნე – ანდრია ვაჭრიძე\nმედდა – ლიკა ზარნაძე\,\nსანიტარი –  ლუკა ახალაძე\nპაციენტები – თორნიკე კაკულია\, გაგა არაბული\, პაატა ბაბლუანი\, გიორგი მაქაძე\, მარიამ ბალახაძე\, ელენე დაბრუნდაშვილი\n\nსპექტაკლის ხანგრძლივობა – 1 საათი და 50 წუთი ანტრაქტის გარეშე \nსპექტაკლის პრემიერა შედგა 2018 წლის 10 მაისს \nსპექტაკლი დაიდგა თბილისის მერიის ფინანსური ხელშეწყობით \n\nიხილეთ ფოტო გალერეა\nიხილეთ ვიდეო\n\n\n\nდრო: 16 მაისი\, 20:00 საათი \nხანგრძლივობა: 1 საათი და 50 წუთი ანტრაქტის გარეშე \nადგილმდებარეობა: ილიას სახელმწიფო უნივერსიტეტის თეატრი\, ილია ჭავჭავაძის გამზირი N32 (უკანა ეზო) \n\n2023\n\n\n[wpai_display_imported_files_here]
URL:https://events.iliauni.edu.ge/event/speqtakli-marat-sadi-3/
CATEGORIES:ღონისძიებები
ATTACH;FMTTYPE=image/jpeg:https://events.iliauni.edu.ge/wp-content/uploads/2023/04/75787.jpg
END:VEVENT
BEGIN:VEVENT
DTSTART;TZID=Asia/Dubai:20230517T200000
DTEND;TZID=Asia/Dubai:20230517T200000
DTSTAMP:20260423T025534
CREATED:20230427T060421Z
LAST-MODIFIED:20240201T111918Z
UID:10000060-1684353600-1684353600@events.iliauni.edu.ge
SUMMARY:სპექტაკლი „საპნის ოპუსი"
DESCRIPTION:დრამა 1 მოქმედებად \nმეორე მსოფლიო ომი გერმანიამ მოიგო. მთელ მსოფლიოზე მესამე რაიხი ბატონობს. საქართველო\, ისევე როგორც დანარჩენი ევროპა\, საკონცენტრაციო ბანაკებითაა სავსე. ერთ-ერთ მათგანში\, აბასთუმანში\, ქეთევანი\, ნესტანი\, სალომე და მედეა არიან გამოკეტილები. მათი საქმე წმინდა არიული რასის გამრავლება და “სამშობლოსთვის” შვილების გაჩენაა. \n\n\nავტორი: დავით გაბუნია\nრეჟისორი: იოანე (ვანო) ხუციშვილი\nმხატვარი: თეო კუხიანიძე\nმუსიკალური გაფორმება: გიორგი ჯიქია\nტექნიკური რეჟისორი: თამუნა კამლაძე\n\n\nმოქმედი პირნი და შემსრულებელნი:\n\n\n\n\nქეთევანი – ნუკა ქევხიშვილი\nნესტანი – ანკა დიდმანიძე\nსალომე – ანიკო შურღაია\nმედიკო – ნუცა სულაბერიძე\nექთანი – თამუნა თევზაძე\n\n\n\nსპექტაკლი დაიდგა ილიას სახელმწიფო უნივერსიტეტის სამაგისტრო პროგრამის “ცოცხალი თეატრის ხელოვნება: დადგმა და თამაში” ფარგლებში \n\nსპექტაკლის ხანგრძლივობაა 1 საათი და 20 წუთი ანტრაქტის გარეშე\n\n\nსპეტაკლის პრემიერა შედგა 2023 წლის 3 მაისს \n\n\n\n\nიხილეთ ფოტო გალერეა\nიხილეთ ვიდეო\n\n\nდრო: 3\,4 და 17 მაისი\, 20:00 საათი \nხანგრძლივობა:  1 საათი და 20 წუთი \nადგილმდებარეობა: ილიას სახელმწიფო უნივერსიტეტის თეატრი\, ილია ჭავჭავაძის გამზირი N32 (უკანა ეზო) \n2023 წელი \n\n\n\n[wpai_display_imported_files_here]
URL:https://events.iliauni.edu.ge/event/speqtakli-sapnis-opusi/
CATEGORIES:ღონისძიებები
ATTACH;FMTTYPE=image/png:https://events.iliauni.edu.ge/wp-content/uploads/2023/04/75794.png
END:VEVENT
BEGIN:VEVENT
DTSTART;TZID=Asia/Dubai:20230519T180000
DTEND;TZID=Asia/Dubai:20230519T180000
DTSTAMP:20260423T025534
CREATED:20230518T111528Z
LAST-MODIFIED:20240201T111910Z
UID:10000056-1684519200-1684519200@events.iliauni.edu.ge
SUMMARY:საქართველოში პირველად მარკეტინგული ღონისძიება Copy Break გაიმართება
DESCRIPTION:19 მაისს\, 18:00 საათზე\, წიგნის სახლში „ლიგამუსი“ ილიას სახელმწიფო უნივერსიტეტის საზოგადოებასთან ურთიერთობის სამაგისტრო პროგრამის სტუდენტების ორგანიზებით საქართველოში პირველად გაიმართება მარკეტინგული ღონისძიება Copy Break –ქოფირაითინგული შესვენება. \nქოფირაითინგი ქართულ ბაზარზე ახლახანს შემოსული ცნებაა\, ამიტომ პროექტის მიზანია დაინტერესებულ აუდიტორიას გააცნოს მარკეტინგისა და პიარის ეს კონკრეტული მიმართულება\, წარმოაჩინოს მისი მნიშვნელობა კრეატიულ ინდუსტრიასა და სტრატეგიულ კომუნიკაციებში\, კერძოდ\, სარეკლამო რგოლების იდეისა და სცენარის შექმნის\, ვებსაიტების აგების\, ციფრული სამყაროს ჩამოყალიბების პროცესში. \nღონისძიების სპიკერები: ბრენდინგისა და კომუნიკაციების წამყვანი სპეციალისტები – თორნიკე გურული\, ალექს ჩიქოვანი; UI/UX ქოფირაითერები – ქეთი დიასამიძე\, მარიტა ფილაური\, კრეატიული სააგენტოების – Leavingstone\, JWT Metro\, McCann Tbilisi\, Kraken\, Ogilvy Georgia\, Redberry – ქოფირაითერები. \nისინი ისაუბრებენ ქოფირაითინგის სხვადასხვა მიმართულებაზე და განიხილავენ თავიანთ წარმატებულ კამპანიებსაც. \nდრო: 19 მაისი\, 18:00 საათი \nადგილმდებარეობა: წიგნის სახლი „ლიგამუსი“\, ილიას სახელმწიფო უნივერსიტეტი (ი. ჭავჭავაძის გამზ. N32) \nდასწრება თავისუფალია. \n2023 \n\n[wpai_display_imported_files_here]
URL:https://events.iliauni.edu.ge/event/saqarthveloshi-pirvelad-marketinguli-ghonisdzieba-copy-break-gaimartheba/
CATEGORIES:ღონისძიებები
ATTACH;FMTTYPE=image/png:https://events.iliauni.edu.ge/wp-content/uploads/2023/05/76227.png
END:VEVENT
END:VCALENDAR