BEGIN:VCALENDAR
VERSION:2.0
PRODID:-//უნივერსიტეტის ღონისძიებების პორტალი - ECPv6.2.8.2//NONSGML v1.0//EN
CALSCALE:GREGORIAN
METHOD:PUBLISH
X-WR-CALNAME:უნივერსიტეტის ღონისძიებების პორტალი
X-ORIGINAL-URL:https://events.iliauni.edu.ge
X-WR-CALDESC:Events for უნივერსიტეტის ღონისძიებების პორტალი
REFRESH-INTERVAL;VALUE=DURATION:PT1H
X-Robots-Tag:noindex
X-PUBLISHED-TTL:PT1H
BEGIN:VTIMEZONE
TZID:Asia/Dubai
BEGIN:STANDARD
TZOFFSETFROM:+0400
TZOFFSETTO:+0400
TZNAME:+04
DTSTART:20230101T000000
END:STANDARD
END:VTIMEZONE
BEGIN:VEVENT
DTSTART;TZID=Asia/Dubai:20230412T200000
DTEND;TZID=Asia/Dubai:20230412T200000
DTSTAMP:20260423T154806
CREATED:20230407T121831Z
LAST-MODIFIED:20240201T112231Z
UID:10000105-1681329600-1681329600@events.iliauni.edu.ge
SUMMARY:სპექტაკლი „დარისპანის გასაჭირი“
DESCRIPTION:ერთ მოქმედებად \nთქვენ წინაშეა საუკუნის წინანდელი ამბავი იმის შესახებ\, დარისპანი ოთხი გასათხოვარი ქალიშვილიდან ერთ-ერთს როგორ დაატარებს წინ და უკან მეგობრებსა და ნათესავებში\, მოყვრებსა და მეზობლებში\, რათა როგორმე უპოვოს შესაფერისი ქმარი და უზრუნველყოს მისი მომავალი. \nეს ამბავი\, ერთდროულად ტრაგიკული და ღიმილის მომგვრელი\, უზარმაზარი სიყვარულითაა გაჟღენთილი ქვეყნის მიმართ\, რომელსაც „ჰკლავდნენ და არ კვდებოდა“. ამბავი გაჭრილი ვაშლივით ჰგავს ჩვენი ქვეყნის ბედს\, რომელიც დარისპანივით გამოსავალს სხვაგან ეძებს – სხვების დახმარებაში\, სხვაზე „მითხოვებაში“\, დალხენილი ყოფის ილუზიაში\, რომელიც ბუმერანგივით ბრუნდება და კიდევ უფრო დიდ უიმედობას ბადებს. \nრა უფრო მნიშვნელოვანია – თავისუფლება თუ უზრუნველი ცხოვრება? \nრეჟისორი და მსახიობები მაყურებელთან ერთად ეცდებიან იპოვონ გზა\, რომელიც ხელს შეუწყობს დარისპანის ოჯახისა და\, ამავდროულად\, საქართველოს მომავლის გადარჩენას. \nრეჟისორი – საბა ასლამაზიშვილი\nსცენოგრაფია – მარიამ კალატოზიშვილი\nკოსტუმების მხატვარი – სანდრო მარგველაშვილი\nმუსიკალური გაფორმება – ნინო სიხარულიძე\nქორეოგრაფი – დეა აბაკელია\nმუსიკალური კონსულტანტი – ივანე ხაჩიძე\nტექნიკური რეჟისორი– თამუნა კამლაძე \nმოქმედი პირნი და შემსრულებელნი: \n\nდარისპანი – სლავა ნათენაძე\nმართა – ლილი ხურითი\nპელაგია – მაია ხორნაული\nნატალია – ნინა ყიფშიძე\nკაროჟნა – მაშიკო თვალაბეიშვილი\nოსიკო – თორნიკე კაკულია\n\nსპექტაკლი დაიდგა თბილისის მერიის ფინანსური ხელშეწყობით. \nსპექტაკლის ხანგრძლივობაა 1 საათი და 10 წუთი. \nდრო: 12\, 13\, 21 აპრილი\, 20:00 საათი \nადგილმდებარეობა: ილიას სახელმწიფო უნივერსიტეტის თეატრი\, ილია ჭავჭავაძის გამზირი N32 (უკანა ეზო) \n2023 \n  \n\n[wpai_display_imported_files_here]
URL:https://events.iliauni.edu.ge/event/speqtakli-darispanis-gasatchiri/
CATEGORIES:ღონისძიებები
ATTACH;FMTTYPE=image/png:https://events.iliauni.edu.ge/wp-content/uploads/2023/04/75514.png
END:VEVENT
END:VCALENDAR