BEGIN:VCALENDAR
VERSION:2.0
PRODID:-//უნივერსიტეტის ღონისძიებების პორტალი - ECPv6.2.8.2//NONSGML v1.0//EN
CALSCALE:GREGORIAN
METHOD:PUBLISH
X-WR-CALNAME:უნივერსიტეტის ღონისძიებების პორტალი
X-ORIGINAL-URL:https://events.iliauni.edu.ge
X-WR-CALDESC:Events for უნივერსიტეტის ღონისძიებების პორტალი
REFRESH-INTERVAL;VALUE=DURATION:PT1H
X-Robots-Tag:noindex
X-PUBLISHED-TTL:PT1H
BEGIN:VTIMEZONE
TZID:Asia/Dubai
BEGIN:STANDARD
TZOFFSETFROM:+0400
TZOFFSETTO:+0400
TZNAME:+04
DTSTART:20230101T000000
END:STANDARD
END:VTIMEZONE
BEGIN:VEVENT
DTSTART;TZID=Asia/Dubai:20230202T170000
DTEND;TZID=Asia/Dubai:20230202T170000
DTSTAMP:20260423T121025
CREATED:20230117T115933Z
LAST-MODIFIED:20240201T112335Z
UID:10000135-1675357200-1675357200@events.iliauni.edu.ge
SUMMARY:პროფესორ გარი ჰემერის საჯარო ლექცია „ლიდერობა მედიცინასა და მეცნიერებაში“
DESCRIPTION:2 თებერვალს\, 17:00 საათზე\, G 106 აუდიტორიაში მიჩიგანის უნივერსიტეტის ენდოკრინული ონკოლოგიის პროგრამის დირექტორი\, ამერიკის ენდოკრინული საზოგადოების (Endocrine Society) ყოფილი პრეზიდენტი (დეტროიტი\, აშშ)\, პროფესორი გარი ჰემერი გამართავს საჯარო ლექციას თემაზე „ლიდერობა მედიცინასა და მეცნიერებაში“. \nლექციის შესახებ \nმოტივაციური და ინსპირაციული ლექცია დაფუძნებულია თავად პროფესორ გარი ჰემერის გამოცდილებასა და მეცნიერებასა და მედიცინაში მის მიერ განვლილ კარიერულ გზაზე. მომხსენებელი ისაუბრებს\, როგორ შეუძლია საკუთარი მოწყვლადობის გაცნობიერებას\, გახდეს ინსპირაციის წყარო\, რათა სამყარო უკეთესობისკენ შევცვალოთ\, გავითავისოთ კონცეფცია აქ და ახლა. ვიცხოვროთ ამჟამინდელ დროში\, დრო და სივრცე გამოვიყენოთ განვითარებისთვის\, სხვების შთაგონებისა და ჩვენ ირგვლივ არსებული გარემოსა და სამყაროს უკეთესობისკენ შესაცვლელად. მომხსენებელი ასევე შეეხება ექიმსა და პაციენტს შორის ურთიერთობას\, იმ კავშირს\, ნდობასა და ურთიერთგაგებას\, რაც აუცილებელია ექიმსა და პაციენტს შორის სრულყოფილი ურთიერთობის ჩამოყალიბებისა და განვითარებისთვის ხანგრძლივ პერსპექტივაში. \nმომხსენებლის შესახებ \nგარი ჰემერი\, MD\, PhD\, მიჩიგანის უნივერსიტეტის შინაგანი მედიცინის\, უჯრედული და განვითარების ბიოლოგიისა და მოლეკულური და ინტეგრაციული ფიზიოლოგიის დეპარტამენტის პროფესორია. ამჟამად როგორც ენდოკრინული ონკოლოგიის პროგრამის დირექტორი მოღვაწეობს როგელის კიბოს ცენტრში\, სადაც უკავია პროფესორის თანამდებობა თირკმელზედა ჯირკვლის სიმსივნეების მიმართულებით. \nმან MD და PhD ხარისხი ნეირომეცნიერებებში მიიღო ტუფტის უნივერსიტეტში\, ხოლო რეზიდენტური – შინაგან მედიცინაში\, შემდეგ – ენდოკრინოლოგიაში\, დიპლომის შემდგომი განათლება კი – კალიფორნიის უნივერსიტეტში (სან-ფრანცისკო). \nპროფ. გარი ჰემერმა ხელი შეუწყო მიჩიგანის თირკმელზედა ჯირკვლის მეცნიერთა გუნდის საქმიანობის ბოლოდროინდელ აღორძინებას. გუნდი აერთიანებს თირკმელზედა ჯირკვლის დაავადებათა შემსწავლელ მეცნიერებს. \nმან UofM Jerome Conn-ის ჯილდო მიიღო შინაგანი მედიცინის გამორჩეული კვლევისთვის\, ენდოკრინული საზოგადოების ედვინ ბ. ასთვუდის ჯილდო – კი გამორჩეული კვლევისთვის. გარი ჰემერი ASCI-ისა და AAP-ის წევრია. \nვრცელი ბიოგრაფია ხელმისაწვდომია ბმულზე: https://bit.ly/3Xiq3UG \nსამუშაო ენა: ინგლისური \nდრო: 2 თებერვალი\, 17:00 საათი \nადგილმდებარეობა: G106 აუდიტორია\, გ. წერეთლის გამზ. N1 \nდასწრება თავისუფალია. \n2023 წელი \n  \n\n[wpai_display_imported_files_here]
URL:https://events.iliauni.edu.ge/event/prophesor-gari-hemeris-sajaro-leqtsia-lideroba-meditsinasa-da-metsnierebashi/
CATEGORIES:ღონისძიებები
ATTACH;FMTTYPE=image/png:https://events.iliauni.edu.ge/wp-content/uploads/2023/01/73874.png
END:VEVENT
BEGIN:VEVENT
DTSTART;TZID=Asia/Dubai:20230205T200000
DTEND;TZID=Asia/Dubai:20230205T200000
DTSTAMP:20260423T121025
CREATED:20230131T125702Z
LAST-MODIFIED:20240201T112322Z
UID:10000132-1675627200-1675627200@events.iliauni.edu.ge
SUMMARY:სპექტაკლი „უხერხემლო“
DESCRIPTION:დრამა 1 მოქმედებად \nროგორია საქართველოში ცხოვრება\, როდესაც განსხვავებული ხარ? რა უნდა დაუპირისპირო მეგობრების\, ოჯახის\, საზოგადოების\, ქვეყნის გულგრილობას? როგორ უნდა გადარჩე\, ან ღირს კი გადარჩენა\, როდესქაც არავის სჭირდები\, არავის ესმის შენი? ამ ერთ ტრაგიკულ ამბავში\, რომელიც დრამატურგმა ალექს ჩიღვინაძემ რეალურ ისტორიაზე დაფუძნებით დაწერა\, თითქოს მთელი საზოგადოების პრობლემებია გაერთიანებგული და დაფიქრებისკენ გვიბიძგებს\, როგორ შევცვალოთ ის ქვეყანა\, სადაც მშობლებს საკუთარი განსხვავებული ორიენტაციის შვილის დაკრძალვა მეზობლებისგან\, სოფლისგან\, ქვეყნისგან მალულად უწევთ. \nრეჟისორი – გელა გულიაშვილი (სადიპლომო ნაშრომი)\nმხატვარი – თეო კუხიანიძე\nტექნიკური რეჟისორი – მაკა მეტრეველი\nდადგმის ხელმძღვანელი – ვანო ხუციშვილი\, ილიას სახელმწიფო უნივერსიტეტის ასოცირებული პროფესორი \nმონაწილეობენ:\nმართა – მაიკო ხორნაული\nმამია – გიორგი ცერცვაძე\nნინო – ანიკო შურღაია\nდანიელი – გიორგი მაქაძე \nსპექტაკლის ხანგრძლივობაა 1 საათი და 30 წუთი\nსპექტაკლის პრემიერა შედგა 2022 წლის 2 ივლისს \n\nიხილეთ ფოტო გალერეა\n\n\nდრო: 5\, 18 თებერვალი\, 20:00 საათი \nხანგრძლივობა: 1 საათი და 15 წუთი \nადგილმდებარეობა: ილიას სახელმწიფო უნივერსიტეტის თეატრი\, ილია ჭავჭავაძის გამზირი N32 (უკანა ეზო) \n2023 წელი \n\n\n[wpai_display_imported_files_here]
URL:https://events.iliauni.edu.ge/event/speqtakli-ukherkhemlo-4/
CATEGORIES:ღონისძიებები
ATTACH;FMTTYPE=image/png:https://events.iliauni.edu.ge/wp-content/uploads/2023/01/74239.png
END:VEVENT
END:VCALENDAR