BEGIN:VCALENDAR
VERSION:2.0
PRODID:-//უნივერსიტეტის ღონისძიებების პორტალი - ECPv6.2.8.2//NONSGML v1.0//EN
CALSCALE:GREGORIAN
METHOD:PUBLISH
X-ORIGINAL-URL:https://events.iliauni.edu.ge
X-WR-CALDESC:Events for უნივერსიტეტის ღონისძიებების პორტალი
REFRESH-INTERVAL;VALUE=DURATION:PT1H
X-Robots-Tag:noindex
X-PUBLISHED-TTL:PT1H
BEGIN:VTIMEZONE
TZID:Asia/Dubai
BEGIN:STANDARD
TZOFFSETFROM:+0400
TZOFFSETTO:+0400
TZNAME:+04
DTSTART:20230101T000000
END:STANDARD
END:VTIMEZONE
BEGIN:VEVENT
DTSTART;TZID=Asia/Dubai:20230110T120800
DTEND;TZID=Asia/Dubai:20230110T120800
DTSTAMP:20260424T024016
CREATED:20230110T080800Z
LAST-MODIFIED:20240201T112448Z
UID:10000176-1673352480-1673352480@events.iliauni.edu.ge
SUMMARY:ილიაუნიმ კინგსის ოლიმპიადებში გამარჯვებული მოსწავლეების დაჯილდოების ცერემონიას უმასპინძლა
DESCRIPTION:ილიას სახელმწიფო უნივერსიტეტსა და საგანმანათლებლო ორგანიზაცია კინგსს თანამშრომლობის ათწლიანი ისტორია აკავშირებს. მათი თანამშრომლობით ათეულობით წარმატებული საგანმანათლებლო პროექტი განხორციელდა\, მათ შორის ყოველწლიურად ხორციელდებოდა პროექტი „არჩევანი შენია“ მოსწავლეების პროფესიული ორიენტაციის მიმართულებით და სხვ. 10 იანვარს ილიას სახელმწიფო უნივერსიტეტმა უმასპინძლა კინგსის საგნობრივ ოლიმპიადებში გამარჯვებული მოსწავლეების დაჯილდოების ცერემონიას. \nდააჯილდოვეს საქართველოს მასშტაბით თითოეულ საგანში (ქართული ენა\, ინგლისური\, მათემატიკა\, ინტელექტის ოლიმპიადა) თითოეული ასაკობრივი კატეგორიიდან 3 მოსწავლე: I\, II\, III ადგილის მფლობელები. \nდაჯილდოების ცერემონიაში მონაწილეობა მიიღო ილიას სახელმწიფო უნივერსიტეტის რექტორის მოადგილემ\, პროფესორმა გიორგი გვალიამ. \nსაგანმანათლებლო ორგანიზაცია კინგსის შესახებ \nკინგსი განათლების სფეროში 2012 წლიდან საქმიანობს. ორგანიზაციის მისიაა აამაღლოს ზოგადი განათლების დონე სწავლისადმი მოტივაციის გაზრდითა და მუდმივგანახლებადი საგანმანათლებლო ტექნოლოგიების დანერგვით. \nკინგსის ერთ-ერთი ძირითადი საქმიანობაა საგანმანათლებლო საგნობრივი ოლიმპიადების ორგანიზება II-XII კლასელებისთვის შემდეგ საგნებში: ქართული\, მათემატიკა\, ინგლისური და ინტელექტი. \nგარდა საგნობრივი ოლიმპიადებისა\, 2018 წლიდან ორგანიზაცია აქტიურად ახორციელებს სხვადასხვა სახის საგანმანათლებლო პროექტს საქართველოს მასშტაბით. \n2023 წელი \n\n[wpai_display_imported_files_here]
URL:https://events.iliauni.edu.ge/event/iliaunim-kingsis-olimpiadebshi-gamarjvebuli-mostsavleebis-dajildoebis-tseremonias-umaspindzla/
CATEGORIES:ღონისძიებები
ATTACH;FMTTYPE=image/png:https://events.iliauni.edu.ge/wp-content/uploads/2023/01/73618.png
END:VEVENT
BEGIN:VEVENT
DTSTART;TZID=Asia/Dubai:20230113T190000
DTEND;TZID=Asia/Dubai:20230113T190000
DTSTAMP:20260424T024016
CREATED:20221227T074400Z
LAST-MODIFIED:20240201T112441Z
UID:10000172-1673636400-1673636400@events.iliauni.edu.ge
SUMMARY:წლის შემაჯამებელი ღონისძიება ილიაუნის საახალწლო ქალაქში
DESCRIPTION:ძვირფასო სტუდენტებო\, 13 იანვარს\, პარასკევს\, 19:00 საათზე გელოდებით ილიას სახელმწიფო უნივერსიტეტის საახალწლო ქალაქში წლის შემაჯამებელ ღონისძიებაზე. \nგანრიგი \n19:00 – 20:00 – გახსნა\n20:00 – 22:00 – საახალწლო კონცერტი \nღონისძიების პარალელურად გაიმართება საქართველოში მცხოვრები უკრაინელების მხარდასაჭერი უნიმარკეტი და გვექნება შესაძლებლობა\, დავეხმაროთ მათ\, ვისაც ეს ყველაზე მეტად სჭირდებათ. \nგილოცავთ დამდეგ ახალ წელს და გელოდებით საახალწლო ქალაქში წლის შემაჯამებელ ღონისძიებაზე. \nდრო: 13 იანვარი\, 19:00 – 22:00 \nადგილმდებარეობა: ილიას სახელმწიფო უნივერსიტეტის E კორპუსის შიდა ეზო. \n2022 წელი \n  \n  \n\n[wpai_display_imported_files_here]
URL:https://events.iliauni.edu.ge/event/tslis-shemajamebeli-ghonisdzieba-iliaunis-saakhaltslo-qalaqshi/
CATEGORIES:ღონისძიებები
ATTACH;FMTTYPE=image/png:https://events.iliauni.edu.ge/wp-content/uploads/2022/12/73231.png
END:VEVENT
BEGIN:VEVENT
DTSTART;TZID=Asia/Dubai:20230113T190000
DTEND;TZID=Asia/Dubai:20230113T190000
DTSTAMP:20260424T024016
CREATED:20230109T111557Z
LAST-MODIFIED:20240201T112428Z
UID:10000163-1673636400-1673636400@events.iliauni.edu.ge
SUMMARY:უნიმარკეტი STAND WITH UKRAINE
DESCRIPTION:ილიას სახელმწიფო უნივერსიტეტის ორგანიზებით წლის შემაჯამებელი ღონისძიების ფარგლებში 13 იანვარს\, პარასკევს\, 19:00-დან 22:00 საათამდე გაიმართება უნიმარკეტი #STANDWITHUKRAINE  უკრაინის მხარდასაჭერად. \nუნიმარკეტზე ნებისმიერ მსურველს ექნება საშუალება: \nსაქველმოქმედო ყუთში ჩააგდოს ნებისმიერი რაოდენობის შემოწირულება; \nშეიძინოს საინტერესო ნივთები\, გამოცემები\, რომელთაც ჩვენი სტუდენტები და ლექტორები უკრაინელი ხალხის სოლიდარობის ნიშნად გასაყიდად გამოიტანენ; \nდარეგისტრირდეს უნიმარკეტის მონაწილედ\, ჩვენგან მოითხოვოს ინვენტარით მხარდაჭერა და გაყიდოს ნივთები\, შემოსული თანხა კი შემოწირულების საქველმოქმედო ყუთში მოათავსოს. \n ილიას სახელმწიფო უნივერსიტეტის ადმინისტრაცია შეგროვებული თანხით უკრაინელთა დასახმარებლად შეიძენს აუცილებელ მედიკამენტებს\, სამედიცინო აღჭურვილობას და უზრუნველყოფს მათ ტრანსპორტირებას. \nთუ გსურთ უნიმარკეტზე ნივთების გასაყიდად გამოტანა და ამ ფორმით უკრაინის მხარდაჭერა\, შეავსეთ აპლიკაცია და თქვენს საჭიროებათა შესაბამისად მოწყობილ სივრცეს დაგახვედრებთ. \n აპლიკაცია ხელმისაწვდომია ბმულზე: https://bit.ly/3VVqHpB \n ადგილმდებარეობა: ილიაუნის E კორპუსის შიდა ეზო\, ქაქუცა ჩოლოყაშვილის გამზ. N3/5 \nდამატებითი შეკითხვებისთვის\n577 75 59 86\npr@iliauni.edu.ge \n2023 წელი \n\n[wpai_display_imported_files_here]
URL:https://events.iliauni.edu.ge/event/unimarketi-stand-with-ukraine-2/
CATEGORIES:ღონისძიებები
ATTACH;FMTTYPE=image/png:https://events.iliauni.edu.ge/wp-content/uploads/2023/01/73427.png
END:VEVENT
END:VCALENDAR