BEGIN:VCALENDAR
VERSION:2.0
PRODID:-//უნივერსიტეტის ღონისძიებების პორტალი - ECPv6.2.8.2//NONSGML v1.0//EN
CALSCALE:GREGORIAN
METHOD:PUBLISH
X-WR-CALNAME:უნივერსიტეტის ღონისძიებების პორტალი
X-ORIGINAL-URL:https://events.iliauni.edu.ge
X-WR-CALDESC:Events for უნივერსიტეტის ღონისძიებების პორტალი
REFRESH-INTERVAL;VALUE=DURATION:PT1H
X-Robots-Tag:noindex
X-PUBLISHED-TTL:PT1H
BEGIN:VTIMEZONE
TZID:Asia/Dubai
BEGIN:STANDARD
TZOFFSETFROM:+0400
TZOFFSETTO:+0400
TZNAME:+04
DTSTART:20220101T000000
END:STANDARD
END:VTIMEZONE
BEGIN:VEVENT
DTSTART;TZID=Asia/Dubai:20221226T120000
DTEND;TZID=Asia/Dubai:20221226T120000
DTSTAMP:20260424T011036
CREATED:20221220T083144Z
LAST-MODIFIED:20240201T112457Z
UID:10000180-1672056000-1672056000@events.iliauni.edu.ge
SUMMARY:რობოტების სასკოლო შეჯიბრება
DESCRIPTION:26 დეკემბერს ილიას სახელმწიფო უნივერსიტეტის ტექნოლოგიური მეწარმეობისა და ინოვაციების განვითარების ცენტრი ამერიკის საელჩოსა და EPAM Georgia-სთან თანამშრომლობით საქართველოს საჯარო და კერძო სკოლების IX-XII კლასების მოსწავლეებისთვის რობოტების სასკოლო შეჯიბრებას გამართავს. \nშეჯიბრება ახალ სპორტის სასახლეში გაიმართება და მასში თბილისისა და რეგიონის საჯარო და კერძო სკოლების უფროსკლასელებისგან შემდგარი გუნდები იასპარეზებენ. \nრობოტების სასკოლო შეჯიბრებაში მონაწილეობის პირობები: \nშეჯიბრებაში მონაწილეობა შეუძლია საქართველოს ნებისმიერ საჯარო და კერძო სკოლას\, რომელსაც სურს მონაწილეობა და აქვს შესაბამისი აღჭურვილობა. \nშეჯიბრება ჩატარდება სამი მიმართულებით რობოტთა ორ განსხვავებულ კატეგორიაში – mBot და 4WD Smart Robot Car. \nგასათვალისწინებელია\, რომ ყველა დავალებას რობოტი უნდა ასრულებდეს დამოუკიდებლად\, პროგრამული კოდის გამოყენებით. დაუშვებელია შეჯიბრების დროს მონაწილემ რობოტი დისტანციურად მართოს. \nსკოლას რობოტის ორი სახეობიდან ერთ-ერთი მაინც უნდა ჰქონდეს\, რათა შეძლოს შეჯიბრების შესაბამის კატეგორიაში მონაწილეობა. \nინფორმაცია რობოტის სახეობების შესახებ: \n\nmBot რობოტი: https://bit.ly/3iZIM7W\n4WD Smart Robot Car: https://bit.ly/3FMlzPW\n\nსკოლამ უნდა წარმოადგინოს მოსწავლეებით დაკომპლექტებული გუნდი\, რომელშიც მოსწავლეების მინიმალური რაოდენობა იქნება 2\, ხოლო მაქსიმალური – 4. \nსასკოლო გუნდი დაკომპლექტებული უნდა იყოს IX-XII კლასების მოსწავლეებით. \nსკოლას შეუძლია შეჯიბრებისთვის რამდენიმე გუნდის დარეგისტრირება. \nმონაწილეობის პირობები \nპროექტში მონაწილეობა სკოლებისთვის უფასოა\, თუმცა პროექტი არ ფარავს მონაწილეთა ტრანსპორტირების ხარჯებს ღონისძიების ადგილამდე და უკან. \nრობოტების სასკოლო შეჯიბრების კატეგორიები: \nდეტალური ინფორმაციისთვის იხილეთ აღწერები ბმულებზე. \nკატეგორია I: სწორ ხაზზე მოძრაობა – https://bit.ly/3Pjjiyx\nკატეგორია II: ზიგზაგზე მოძრაობა – https://bit.ly/3hns81F\nკატეგორია III: ლაბირინთში სიარული – https://bit.ly/3iRmFke \nერთი რობოტისთვის სავალდებულოა\, რომ ყველა კატეგორიაში მიიღოს მონაწილეობა \nროგორ უნდა გახდეს სკოლა პროექტის მონაწილე? \nუნდა შეავსოს ელექტრონული სააპლიკაციო ფორმა არა უგვიანეს 2022 წლის 23 დეკემბრისა. \nსააპლიკაციო ფორმა: https://bit.ly/3WrjSws \nრეგისტრაციის დასრულების შემდეგ სკოლებს დავუკავშირდებით და მონაწილეობასთან დაკავშირებულ დეტალურ ინფორმაციას მივაწვდით არა უგვიანეს 2022 წლის 25 დეკემბრისა. \nაღნიშნული პროგრამა დაფინანსებულია ამერიკის საელჩოს საქართველოში 2021 წლის დემოკრატიის კომისიის მცირე გრანტების პროგრამის ფარგლებში. \nპროექტის მხარდამჭერია EPAM Georgia. \nღონისძიების ჩატარების ადგილმდებარეობა: თბილისი\, ახალი სპორტის სასახლე \nდრო: 26 დეკემბერი\, 12:00 საათი \nდამატებითი ინფორმაციისთვის: \nhttps://www.facebook.com/FabLabIliauni/\nfablabtraining@iliauni.edu.ge\n558147202 \n2022 წელი \n\n[wpai_display_imported_files_here]
URL:https://events.iliauni.edu.ge/event/robotebis-saskolo-shejibreba/
CATEGORIES:ღონისძიებები
ATTACH;FMTTYPE=image/png:https://events.iliauni.edu.ge/wp-content/uploads/2022/12/72956.png
END:VEVENT
END:VCALENDAR