BEGIN:VCALENDAR
VERSION:2.0
PRODID:-//უნივერსიტეტის ღონისძიებების პორტალი - ECPv6.2.8.2//NONSGML v1.0//EN
CALSCALE:GREGORIAN
METHOD:PUBLISH
X-WR-CALNAME:უნივერსიტეტის ღონისძიებების პორტალი
X-ORIGINAL-URL:https://events.iliauni.edu.ge
X-WR-CALDESC:Events for უნივერსიტეტის ღონისძიებების პორტალი
REFRESH-INTERVAL;VALUE=DURATION:PT1H
X-Robots-Tag:noindex
X-PUBLISHED-TTL:PT1H
BEGIN:VTIMEZONE
TZID:Asia/Dubai
BEGIN:STANDARD
TZOFFSETFROM:+0400
TZOFFSETTO:+0400
TZNAME:+04
DTSTART:20220101T000000
END:STANDARD
END:VTIMEZONE
BEGIN:VEVENT
DTSTART;TZID=Asia/Dubai:20221220T180000
DTEND;TZID=Asia/Dubai:20221220T180000
DTSTAMP:20260424T011033
CREATED:20221219T065310Z
LAST-MODIFIED:20240201T112535Z
UID:10000197-1671559200-1671559200@events.iliauni.edu.ge
SUMMARY:სამეცნიერო-კვლევითი საქმიანობის ანგარიში 2022
DESCRIPTION:20-21 დეკემბერს ილიას სახელმწიფო უნივერსიტეტი დაინტერესებულ საზოგადოებას მიმდინარე სამეცნიერო-კვლევითი საქმიანობის ანგარიშს წარუდგენს. \nსამეცნიერო-კვლევითი პროექტების პრეზენტაციების სერია 20 დეკემბერს\, 18:00 საათზე\, ილიას სახელმწიფო უნივერსიტეტის G 106 აუდიტორიაში (გ. წერეთლის ქ. N1) გაიხსნება და 2 დღის განმავლობაში გაგრძელდება. \n\n20 დეკემბერი\, 18:00-19:00 \n18:00-18:30 – გახსნა და შემაჯამებელი ანგარიში\, პროფესორი ნინო დობორჯგინიძე\, ილიას სახელმწიფო უნივერსიტეტის რექტორი \n\nსამეცნიერო-კვლევითი საქმიანობის ანგარიში 2022\nელსევიერის საერთაშორისო სამეცნიერო ბაზაში Scopus ილიას სახელმწიფო უნივერსიტეტის სახელით გამოცემული საქართველოდან ყველაზე მაღალი იმპაქტის (CiteScore) მქონე სამეცნიერო ჟურნალის Ethnobotany Research and Application წარდგენა\nმეცნიერებაში შეტანილი განსაკუთრებული წვლილისთვის ემერიტუს-პროფესორის\, გიორგი ნახუცრიშვილისთვის ილიაუნის სამეცნიერო ჯილდოს (2022 წელს აკადემიური საბჭოს გადაწყვეტილებით დაწესდა) გადაცემის ცერემონია. პროფესორი ნინო დობორჯგინიძე\, ილიას სახელმწიფო უნივერსიტეტის რექტორი\n\n18:30-19:00 – ილიაუნის გამოთვლითი ცენტრის ანგარიში\, პროფესორი ერეკლე მაღრაძე\, ილიას სახელმწიფო უნივერსიტეტი \n\nსამეცნიერო ინსტიტუტებთან ერთად განხორციელებული პროექტების პრეზენტაცია\nბოტანიკის ინსტიტუტთან ერთად განხორციელებული ეროვნული სამეცნიერო ჰერბარიუმის გაციფრულებისა და მონაცემთა ბაზის შექმნის პროექტი\nგამოთვლითი ცენტრის 2023 წლის სამოქმედო გეგმა\nილიაუნის ციფრული ტრანსფორმაციის კონცეფცია\n\n19:00-19:30 – მიღება \n\n21 დეკემბერი\, 11:00-17:00 საათი \n11:00-11:15 TBC\n11:15-11:30 TBC\n11:30-11:45 TBC\n11:45-12:00 TBC\n12:00-12:15 ქიმიური ბიოლოგიის ინსტიტუტი\n12:15-12:30 მსხვილი ძუძუმწოვრების ეკოლოგიისა და კონსერვაციის პროგრამა\, ეკოლოგიის ინსტიტუტი\n12:30-12:45 მაღალმთის ეკოსისტემების კვლევის პროგრამა\, ეკოლოგიის ინსტიტუტი\n12:45-13:00 ძილ-ღვიძილის შემსწავლელი თენგიზ ონიანის ლაბორატორია\n13:00-13:15 თეორიული ფიზიკის ინსტიტუტი\n13:15-13:30 ქიმიური ბიოლოგიის ინსტიტუტი\n13:30-14:00 შესვენება – ფურშეტი\n14:00-14:15 ლინგვისტურ კვლევათა ინსტიტუტი\n14:15-14:30 პოლიტოლოგიის ინსტიტუტი\n14:30-14:45 ბოტანიკის ინსტიტუტი\n14:45-15:15 დედამიწის შემსწავლელ მეცნიერებათა ინსტიტუტი და სეისმური მონიტორინგის ეროვნული ცენტრი\n15:15-15:30 სავლე წერეთლის ფილოსოფიის ინსტიტუტი\n15:30-15:45 დიმიტრი უზნაძის ფსიქოლოგიის ინსტიტუტი\n15:45-16:00 სოციალური და კულტურის კვლევების ინსტიტუტი\n16:00-16:15 დემოგრაფიისა და სოციოლოგიის ინსტიტუტი\n16:15-16:30 რაოდენობრივი ეკოლოგიის პროგრამა\, ეკოლოგიის ინსტიტუტი\n16:30-16:45 ზოოლოგიის ინსტიტუტი\n16:45-17:00 ბიოფიზიკის ინსტიტუტი \n\nდრო: \n\n20 დეკემბერი\, 18:00-19:00 საათი\n21 დეკემბერი\, 11:00-17:00 საათი\n\nსამუშაო ენა: ქართული \nადგილმდებარეობა: G 106 აუდიტორია (გ. წერეთლის ქ. 1)\, ილიას სახელმწიფო უნივერსიტეტი \nდასწრება თავისუფალია. \n2022 წელი \n\n[wpai_display_imported_files_here]
URL:https://events.iliauni.edu.ge/event/sametsniero-kvlevithi-saqmianobis-angarishi-2022/
CATEGORIES:ღონისძიებები
ATTACH;FMTTYPE=image/png:https://events.iliauni.edu.ge/wp-content/uploads/2022/12/72909.png
END:VEVENT
BEGIN:VEVENT
DTSTART;TZID=Asia/Dubai:20221221T103000
DTEND;TZID=Asia/Dubai:20221221T103000
DTSTAMP:20260424T011033
CREATED:20221219T060820Z
LAST-MODIFIED:20240201T112522Z
UID:10000188-1671618600-1671618600@events.iliauni.edu.ge
SUMMARY:საერთაშორისო სამეცნიერო კონფერენცია „ახლო აღმოსავლეთი და კავკასია: კულტურა\, ისტორია\, პოლიტიკა”
DESCRIPTION:21 დეკემბერს\, 10:30 საათზე\, ილიას სახელმწიფო უნივერსიტეტის გიორგი წერეთლის აღმოსავლეთმცოდნეობის ინსტიტუტში გაიხსნება საერთაშორისო სამეცნიერო კონფერენცია „ახლო აღმოსავლეთი და კავკასია: კულტურა\, ისტორია\, პოლიტიკა“. \nკონფერენცია გაგრძელდება ორ დღეს\, 23 დეკემბერს კი მოეწყობა მრგვალი მაგიდა რუსთაველის ეროვნული სამეცნიერო ფონდის მიერ დაფინანსებულ პროექტზე „თბილისის ეთნორელიგიური მოზაიკა (1801-1921)“ მუშაობის პირველი წლის შედეგების შესახებ. პროექტის მონაწილეები წარმოადგენენ სამეცნიერო მუშაობის შედეგებს. \nკონფერენციის ბოლოს გაიმართება აღმოსავლეთმცოდნეობის ინსტიტუტის თანამშრომელთა მიერ ბოლო წლებში გამოცემული პუბლიკაციების პრეზენტაცია. \nკონფერენციაზე შეჯამდება აღმოსავლეთმცოდნეობის ინსტიტუტის 2022 წლის სამეცნიერო მუშაობა და წარმოდგენილი იქნება მოხსენებები კავკასიისა და ახლო (ასევე შორეული) აღმოსავლეთის ისტორიული და კულტურული ურთიერთობების\, აღმოსავლური ენებისა და ლიტერატურის\, ახლო აღმოსავლეთში ამჟამად მიმდინარე პროცესების სხვადასხვა ასპექტის შესახებ. \nაღმოსავლეთმცოდნეობის ინსტიტუტის თანამშრომლებთან ერთად კონფერენციაში მონაწილეობას მიიღებენ საქართველოს სხვადასხვა უნივერსიტეტის წარმომადგენლები და უცხოელი მკვლევრები (აშშ-დან\, საფრანგეთიდან\, ირანიდან\, მალაიზიიდან\, უკრაინიდან\, აზერბაიჯანიდან). \nკონფერენციის პროგრამა დეტალურად იხილეთ ბმულზე: https://bit.ly/3YzmhXV \nკონფერენცია გაიმართება ჰიბრიდულ რეჟიმში. \n\nგანრიგი \n21 დეკემბერი \n II სხდომა (13:00-15:00) \n\nშეხვედრის ბმული https://bit.ly/3Ywh6bf\n\nIII სხდომა – III სესია (15:30-17:30) \n\nშეხვედრის ბმული https://bit.ly/3G2DBgC\n\n22 დეკემბერი \nIV სხდომა (10:30-12:30) \n\nშეხვედრის ბმული https://bit.ly/3V86X1A\n\n\nსამუშაო ენები: ქართული და ინგლისური \nდრო: 21 დეკემბერი\, 10:30 საათი \nადგილმდებარეობა: გიორგი წერეთლის აღმოსავლეთმცოდნეობის ინსტიტუტი\, ილიას სახელმწიფო უნივერსიტეტის S 201-202 ოთახი\, გ. წერეთლის ქუჩა N3 \nდასწრება თავისუფალია. \n2022 წელი \n\n[wpai_display_imported_files_here]
URL:https://events.iliauni.edu.ge/event/saerthashoriso-sametsniero-konpherentsia-akhlo-aghmosavlethi-da-kavkasia-kultura-istoria-politika-2/
CATEGORIES:კონფერენციები
ATTACH;FMTTYPE=image/png:https://events.iliauni.edu.ge/wp-content/uploads/2022/12/72914.png
END:VEVENT
BEGIN:VEVENT
DTSTART;TZID=Asia/Dubai:20221221T140000
DTEND;TZID=Asia/Dubai:20221221T140000
DTSTAMP:20260424T011033
CREATED:20221213T074341Z
LAST-MODIFIED:20240201T112508Z
UID:10000184-1671631200-1671631200@events.iliauni.edu.ge
SUMMARY:სამუშაო შეხვედრა „დოქტორანტთა კარგი ხელმძღვანელობა“
DESCRIPTION:21-22 დეკემბერს ილიას სახელმწიფო უნივერსიტეტის საერთაშორისო სადოქტორო სკოლის ორგანიზებით სადოქტორო საფეხურის სტუდენტთა ხელმძღვანელებისთვის გაიმართება სამუშაო შეხვედრა თემაზე: „დოქტორანტთა კარგი ხელმძღვანელობა“. \nსამუშაო შეხვედრის მიზანია სადოქტორო საფეხურის სტუდენტთა ხელმძღვანელების ხელშეწყობა დოქტორანტების მიერ სადოქტორო პროგრამით გათვალისწინებული სწავლის შედეგების ეფექტურად მიღწევის უზრუნველსაყოფად. \nშეხვედრაზე მონაწილეებს საშუალება ექნებათ\, მსჯელობის\, გამოცდილების გაზიარებისა და კონკრეტული ინსტრუმენტების დახმარებით გააანალიზონ ხელმძღვანელობის პროცესი და ხელმძღვანელის როლი სტუდენტის მიერ სრულყოფილი სადოქტორო ნაშრომის მომზადებაში. \nშეხვედრაზე განხილული იქნება შემდეგ საკითხები: \n\nხელმძღვანელის როლი დოქტორანტის მიერ სადოქტორო თემაზე მუშაობის პროცესში;\nხელმძღვანელის მონაწილეობა სტუდენტის მიერ სადოქტორო პროგრამის მიზნისა და სწავლის შედეგების ეფექტურად მიღწევაში;\nსტუდენტთა მოტივაცია და ხელმძღვანელის თვითმოტივაცია;\nხელმძღვანელის მიერ სტუდენტებთან უკუკავშირის დამყარების ეფექტური გზები;\nსადოქტორო პროგრამის მონაწილე დაინტერესებული პირების ჩართულობა პროგრამის ეფექტიანობის გაზრდის მიზნით.\n\nპროგრამის სრული ხანგრძლივობა: 4 საათი \nმოდერატორი \nთამარ მაღალაშვილი\, ილიას სახელმწიფო უნივერსიტეტის ბიზნესის\, ტექნოლოგიისა და განათლების ფაკულტეტის ასოცირებული პროფესორი. კავკასიის უნივერსიტეტში აქვს მიღებული ბიზნესის ადმინისტრირების მაგისტრის\, ხოლო 2017 წელს – ბიზნესის ადმინისტრირების დოქტორის ხარისხი. \nუმაღლეს სასწავლო დაწესებულებებში მისი გამოცდილება იწყება 20027 წელს ლექტორის სტატუსით. 2016 წლიდან დღემდე ილიას სახელმწიფო უნივერსიტეტში უძღვება სალექციო კურსებს საბაკალავრო და სამაგისტრო საფეხურებზე. 2017 წლიდან ხელმძღვანელობს მარკეტინგული საგნების მიმართულებას ბიზნესის სკოლაში. სადისერტაციო დარგობრივი კომისიის წევრია და აქტიურად არის ჩართული ქართული და დუალური სამაგისტრო ნაშრომების სამეცნიერო ხელმძღვანელობაში. \nგანრიგი \nI სესია – 21 დეკემბერი\, 14:00-16:00\nII სესია – 23 დეკემბერი\, 14:00-16:00 \nრეგისტრაციის ლინკი: https://bit.ly/3VVGiWQ \nრეგისტრაციის ბოლო ვადა: 18 დეკემბერი\, 18:00 \nინფორმაციას სამუშაო შეხვედრის ადგილისა და საათის შესახებ მოგაწვდით მოგვიანებით. \n2022 წელი \n\n[wpai_display_imported_files_here]
URL:https://events.iliauni.edu.ge/event/samushao-shekhvedra-doqtoranttha-kargi-khelmdzghvaneloba/
CATEGORIES:ღონისძიებები
ATTACH;FMTTYPE=image/png:https://events.iliauni.edu.ge/wp-content/uploads/2022/12/72143.png
END:VEVENT
END:VCALENDAR