BEGIN:VCALENDAR
VERSION:2.0
PRODID:-//უნივერსიტეტის ღონისძიებების პორტალი - ECPv6.2.8.2//NONSGML v1.0//EN
CALSCALE:GREGORIAN
METHOD:PUBLISH
X-ORIGINAL-URL:https://events.iliauni.edu.ge
X-WR-CALDESC:Events for უნივერსიტეტის ღონისძიებების პორტალი
REFRESH-INTERVAL;VALUE=DURATION:PT1H
X-Robots-Tag:noindex
X-PUBLISHED-TTL:PT1H
BEGIN:VTIMEZONE
TZID:Asia/Dubai
BEGIN:STANDARD
TZOFFSETFROM:+0400
TZOFFSETTO:+0400
TZNAME:+04
DTSTART:20220101T000000
END:STANDARD
END:VTIMEZONE
BEGIN:VEVENT
DTSTART;TZID=Asia/Dubai:20221116T150400
DTEND;TZID=Asia/Dubai:20221116T150400
DTSTAMP:20260424T034341
CREATED:20221018T110419Z
LAST-MODIFIED:20240201T112732Z
UID:10000236-1668611040-1668611040@events.iliauni.edu.ge
SUMMARY:მიღება ზამთრის სკოლაში „საზოგადოებრივი აზრის კვლევები“
DESCRIPTION:16-18 ნოემბერს ილიას სახელმწიფო უნივერსიტეტი და საქართველოს საზოგადოებრივი აზრის კვლევის ასოციაცია ეროვნულ დემოკრატიულ ინსტიტუტსა და საერთაშორისო რესპუბლიკურ ინსტიტუტთან თანამშრომლობით გამართავენ ზამთრის სკოლას საზოგადოებრივი აზრის კვლევებში. \nზამთრის სკოლის თემატიკა \nსკოლის მონაწილეები შეისწავლიან ისეთ მნიშვნელოვან საკითხებს\, როგორებიცაა: რაოდენობრივი და თვისებრივი მიდგომები (მეთოდები) საზოგადოებრივი აზრის კვლევებში\, მათ შორის ცდომილებისა და საიმედოობის გაზომვას\, მონაცემთა ვიზუალიზაციას\, ეთიკისა და გამჭვირვალობის საკითხების მნიშვნელობას\, ინტერვიუებისა და ფოკუსჯგუფების ჩატარების თავისებურებებსა და იმას\, როგორ ვითარდება კვლევის ინსტრუმენტი მონაცემთა შესაგროვებლად. \nზამთრის სკოლის ტრენერები: \n\nპროფესორი მაიკლ ტრაუგოტი\, მიჩიგანის უნივერსიტეტის პოლიტიკისა და სოციალური მეცნიერებების უნივერსიტეტთა შორის რაოდენობრივი კვლევის მეთოდების კონსორციუმის პროგრამის ხელმძღვანელი; მსოფლიო და ამერიკის საზოგადოებრივი აზრის კვლევის ასოციაციების პრეზიდენტი; ჩრდილო-დასავლეთის უნივერსიტეტის პროფესორი;\nპიტერ მილერი\, ამერიკის საზოგადოებრივი აზრის კვლევის ასოციაციის (AAPOR) ყოფილი პრეზიდენტი;\nალან გილლამი\, ეროვნულ-დემოკრატიული ინსტიტუტის დირექტორი საქართველოში; 10 წელზე მეტხნიანი პროფესიული გამოცდილებით საპარლამენტო სისტემაში გაერთიანებულ სამეფოსა და შოტლანდიაში.\n\nასევე ილიას სახელმწიფო უნივერსიტეტის პროფესორები და საზოგადოებრივი აზრის კვლევის ასოციაციის წევრები\, მათ შორის საქართველოში მოქმედი წამყვანი კვლევითი ორგანიზაციების– CRRC\, ACT და ANOVA-ს კვლევითი გუნდების ხელმძღვანელები. \nზამთრის სკოლის პროგრამა იხილეთ ბმულზე: https://bit.ly/3Dq5CgN \nვისთვის არის განკუთვნილი ზამთრის სკოლა? \nზამთრის სკოლაში მონაწილეობა შეუძლიათ ილიას სახელმწიფო უნივერსიტეტის პოლიტიკისა და სოციალური მეცნიერებების ან სტატისტიკის ბაკალავრის\, მაგისტრის ან სადოქტორო პროგრამის სტუდენტებს. \nმოთხოვნები \nსასურველია: \n\nაპლიკანტი ფლობდეს ინგლისურ ენას B2 დონეზე;\nდაინტერესებული იყოს საზოგადოებრივი აზრის კვლევებით ან ჰქონდეს კვლევით ორგანიზაციებთან მუშაობის გამოცდილება\, როგორც ინტერვიუერს ან მკვლევარს.\n\nროგორ გავხდე ზამთრის სკოლის მონაწილე? \nთუ აკმაყოფილებ\, ზემოჩამოთვლილ საკვალიფიკაციო მოთხოვნებს\, ამა წლის 4 ნოემბრის ჩათვლით გამოგზავნე რეზიუმე ელექტრონულ მისამართზე: zarina.burkadze@iliauni.edu.ge \nსაბუთების მიღების ბოლო ვადა: 4 ნოემბერი \nსერტიფიკატი \nზამთრის სკოლის მონაწილეები დაჯილდოვდებიან სერტიფიკატებით 2022 წლის 18 ნოემბერს საერთაშორისო რესპუბლიკური ინსტიტუტის ორგანიზებით გამართულ ყოველწლიურ კონფერენციაზე საზოგადოებრივი აზრის კვლევების შესახებ. \nსამუშაო ენა: ინგლისური \nფორმატი: პირისპირ\, ილიას სახელმწიფო უნივერსიტეტში \n2022 წელი \n\n[wpai_display_imported_files_here]
URL:https://events.iliauni.edu.ge/event/migheba-zamthris-skolashi-sazogadoebrivi-azris-kvlevebi/
CATEGORIES:ღონისძიებები
ATTACH;FMTTYPE=image/png:https://events.iliauni.edu.ge/wp-content/uploads/2022/10/69936.png
END:VEVENT
BEGIN:VEVENT
DTSTART;TZID=Asia/Dubai:20221117T130000
DTEND;TZID=Asia/Dubai:20221117T130000
DTSTAMP:20260424T034341
CREATED:20221114T080002Z
LAST-MODIFIED:20240201T112623Z
UID:10000232-1668690000-1668690000@events.iliauni.edu.ge
SUMMARY:საჯარო დისკუსია „საზოგადოებრივი აზრის კვლევა და დემოკრატია“
DESCRIPTION:17 ნოემბერს\, 13:00 საათზე\, წიგნის სახლში „ლიგამუსი“ ილიას სახელმწიფო უნივერსიტეტის უმაღლესი კვლევების ცენტრის პროექტის „საჯარო სფეროს რეკონსტრუქცია საქართველოში“ ფარგლებში გაიმართება დისკუსია თემაზე „საზოგადოებრივი აზრის კვლევა და დემოკრატია”. \nმომხსენებლები \nპროფესორი მაიკლ ტრაუგოტი\, მიჩიგანის უნივერსიტეტის პოლიტიკისა და სოციალური მეცნიერებების უნივერსიტეტთა შორის  რაოდენობრივი კვლევის მეთოდების კონსორციუმის პროგრამის ხელმძღვანელი; მსოფლიო და ამერიკის საზოგადოებრივი აზრის კვლევის ასოციაციების პრეზიდენტი; ჩრდილო-დასავლეთის უნივერსიტეტის პროფესორი \nპიტერ მილერი\, ამერიკის საზოგადოებრივი აზრის კვლევის ასოციაციის (AAPOR) ყოფილი პრეზიდენტი \nშეხვედრას მოდერაციას გაუწევს ილიას სახელმწიფო უნივერსიტეტის უმაღლესი კვლევების ცენტრის დირექტორი\, პროფესორი გიგა ზედანია \nპროექტი ხორციელდება საქართველოში ამერიკის შეერთებული შტატების საელჩოს დემოკრატიის მცირე გრანტების პროგრამის მხარდაჭერით. \nდრო: 17 ნოემბერი\, 13:00 საათი \nადგილმდებარეობა: წიგნის სახლი „ლიგამუსი“\, ილია ჭავჭავაძის გამზირი N32 \nსამუშაო ენა: ინგლისური \nდასწრება თავისუფალია. \n2022 \n  \n\n[wpai_display_imported_files_here]
URL:https://events.iliauni.edu.ge/event/sajaro-diskusia-sazogadoebrivi-azris-kvleva-da-demokratia/
CATEGORIES:ღონისძიებები
ATTACH;FMTTYPE=image/png:https://events.iliauni.edu.ge/wp-content/uploads/2022/11/70988.png
END:VEVENT
BEGIN:VEVENT
DTSTART;TZID=Asia/Dubai:20221117T190000
DTEND;TZID=Asia/Dubai:20221117T190000
DTSTAMP:20260424T034341
CREATED:20221111T094100Z
LAST-MODIFIED:20241122T110929Z
UID:10000230-1668711600-1668711600@events.iliauni.edu.ge
SUMMARY:კამერული ორკესტრი „თბილისის კონცერტინო“
DESCRIPTION:17 ნოემბერს\, 19:00 საათზე\, ილიას სახელმწიფო უნივერსიტეტის B 201 აუდიტორიაში ილიაუნის მუსიკის ცენტრის ინიციატივით გაიმართება საქართველოს კამერული ორკესტრის „თბილისის კონცერტინოს“ კონცერტი. \nპროგრამაშია ირაკლი ცინცაძის\, ოთარ ტატიშვილის\, ნუგზარ ვაწაძისა და მაია ვირსალაძის ნაწარმოებები. \nდირიჟორი გიორგი შილაკაძე \nპროგრამა \nირაკლი ცინცაძე\nკონცერტი კლარნეტისა და ორკესტრისათვის  (მეორე რედაქცია -2021)\nსოლისტი – დიმიტრი ბოქოლიშვილი\nოთარ ტატიშვილი. Exquartet  (საორკესტრო ვერსია 2013)\nნუგზარ ვაწაძე. სიმებიანი კვარტეტი N1  (1960)\nასრულებენ – ლელა მჭედლიძე\, კოტე ლემონჯავა\, ზაზა თორაძე  და გიორგი იმანოვი\nმაია  ვირსალაძე. სონატა ფორტეპიანოსთვის  (1996)\nასრულებს – თამარ ჟვანია \nდრო: 17 ნოემბერი\, 19.00 საათი \nადგილმდებარეობა: ილიას სახელმწიფო უნივერსიტეტი\, B201 აუდიტორია\, ი. ჭავჭავაძის გამზირი N32 \nდასწრება თავისუფალია. \n2022 წელი \n\n[wpai_display_imported_files_here]
URL:https://events.iliauni.edu.ge/event/kameruli-orkestri-thbilisis-kontsertino/
CATEGORIES:ღონისძიებები
ATTACH;FMTTYPE=image/png:https://events.iliauni.edu.ge/wp-content/uploads/2022/11/70980.png
END:VEVENT
BEGIN:VEVENT
DTSTART;TZID=Asia/Dubai:20221118T102000
DTEND;TZID=Asia/Dubai:20221118T102000
DTSTAMP:20260424T034341
CREATED:20221118T062000Z
LAST-MODIFIED:20240201T112617Z
UID:10000229-1668766800-1668766800@events.iliauni.edu.ge
SUMMARY:ზამთრის სკოლა საზოგადოებრივი აზრის კვლევების შესახებ
DESCRIPTION:16-17 ნოემბერს ილიას სახელმწიფო უნივერსიტეტში საქართველოს საზოგადოებრივი აზრის კვლევის ასოციაციისა (GAPOR) და ილიას სახელმწიფო უნივერსიტეტის უმაღლესი კვლევების ცენტრის ორგანიზებით გაიმართა ზამთრის სკოლა საზოგადოებრივი აზრის კვლევების შესახებ\, რომელშიც მონაწილეობა მიიღეს ამერიკისა და მსოფლიოს საზოგადოებრივი აზრის კვლევების ასოციაციების (AAPOR\, WAPOR) ყოფილმა პრეზიდენტებმა\, პროფესორებმა მაიკლ ტრაუგოტმა და პიტერ მილერმა. \nზამთრის სკოლას ასევე უძღვებოდნენ ილიას სახელმწიფო უნივერსიტეტის პროფესორები\, საქართველოს საზოგადოებრივი აზრის კვლევის ასოციაციის წევრები და ადგილობრივი კვლევითი ორგანიზაციების წარმომადგენლები. \nღონისძიება გახსნეს ილიას სახელმწიფო უნივერსიტეტის რექტორმა\, პროფესორმა ნინო დობორჯგინიძემ\, ვიცე-რექტორმა\, პროფესორმა გიორგი გვალიამ\, უმაღლესი კვლევების ცენტრის დირექტორმა\, პროფესორმა გიგა ზედანიამ\, საერთაშორისო რესპუბლიკური ინსტიტუტის (IRI) დირექტორის მოადგილემ საქართველოში ვლადიმერ რაზმაძემ და ეროვნულ-დემოკრატიული ინსტიტუტის (NDI) ხელმძღვანელმა საქართველოში ალან გილლამმა. \nზამთრის სკოლის ფარგლებში შეირჩნენ ილიას სახელმწიფო უნივერსიტეტის სტუდენტები და საქართველოში მოქმედი კვლევითი ორგანიზაციის მკვლევრები\, რომლებიც 18 ნოემბერს თბილისი მერიოტში საქართველოში საერთაშორისო რესპუბლიკური ინსტიტუტის ორგანიზებით გამართულ საქართველოს საზოგადოებრივი აზრის კვლევის ასოციაციის ყოველწლიურ კონფერენციაზე მონაწილეობის სერტიფიკატებით დაჯილდოვდებიან. \nზამთრის სკოლის დღის წესრიგი და ყოველწლიური კონფერენციის დღის წესრიგი ხელმისაწვდომია ბმულზე: https://bit.ly/3EhWbiL \n2022 \n  \n\n[wpai_display_imported_files_here]
URL:https://events.iliauni.edu.ge/event/zamthris-skola-sazogadoebrivi-azris-kvlevebis-shesakheb/
CATEGORIES:ღონისძიებები
ATTACH;FMTTYPE=image/png:https://events.iliauni.edu.ge/wp-content/uploads/2022/11/71195.png
END:VEVENT
BEGIN:VEVENT
DTSTART;TZID=Asia/Dubai:20221118T180000
DTEND;TZID=Asia/Dubai:20221118T180000
DTSTAMP:20260424T034341
CREATED:20221116T113959Z
LAST-MODIFIED:20240201T112659Z
UID:10000234-1668794400-1668794400@events.iliauni.edu.ge
SUMMARY:FRONTSPOT GEORGIA OFFLINE MEETUP FRONTSPOT საქართველოს სამუშაო შეხვედრა
DESCRIPTION:18 ნოემბერს ილიას სახელმწიფო უნივერსიტეტის გამოთვლითი ცენტრის მხარდაჭერით გაიმართება FrontSpot საქართველოს სამუშაო შეხვედრა\, რომელსაც პარტნიორობას გაუწევს ტექნოლოგიური კომპანია EPAM Georgia. \nშეხვედრას გამართავენ: \nევგენი ბორდუნოვი\, წამყვანი პროგრამული უზრუნველყოფის ინჟინერი – V8 memory management \nმოხსენების თემა: მოხსენება შეეხება V8 მეხსიერების მენეჯმენტს – როგორ იყენებს და\, საჭიროების შემთხვევაში\, ათავისუფლებს V8 მეხსიერებას. გავიგებთ მეტს ე.წ. ნაგვის შეგროვების მექანიზმების შესახებ და თუ რა გავლენა აქვს ამ პროცესებს აპლიკაციებზე. \nვიტალი შაროვატოვი\, Developer advocate at Qase.io – Your reputation precedes you\, doesn’t it? \nმოხსენების თემა: რეპუტაცია სხვების აზრია შენ შესახებ. რაც უფრო მეტ ადამიანს აქვს კარგი აზრი შენზე\, მით უკეთესი ხარ. რამდენიმე გზა არსებობს რეპუტაციის შესაქმნელად და მოხსენებაში განხილული იქნება ყველა მათგანი. \nშეხვედრაზე დასასწრებად საჭიროა რეგისტრაცია. \nშეხვედრის ჩატარების ადგილი: ილიას სახელმწიფო უნივერსიტეტის ტექნოლოგიების კორპუსი (T კორპუსი)\, დიდი აუდიტორია (102) \nროდის: 18 ნოემბერს\, 18:00-20:30 საათი \nრეგისტრაციისთვის გადადით ბმულზე: https://bit.ly/3Ed21C5 \n2022 წელი \n\n[wpai_display_imported_files_here]
URL:https://events.iliauni.edu.ge/event/frontspot-georgia-offline-meetup-frontspot-saqarthvelos-samushao-shekhvedra/
CATEGORIES:ღონისძიებები
ATTACH;FMTTYPE=image/png:https://events.iliauni.edu.ge/wp-content/uploads/2022/11/71187.png
END:VEVENT
BEGIN:VEVENT
DTSTART;TZID=Asia/Dubai:20221118T200000
DTEND;TZID=Asia/Dubai:20221118T200000
DTSTAMP:20260424T034341
CREATED:20221108T065807Z
LAST-MODIFIED:20240201T112613Z
UID:10000227-1668801600-1668801600@events.iliauni.edu.ge
SUMMARY:სპექტაკლი „იდეალური ოჯახი“
DESCRIPTION:18 ნოემბერს\, 20:00 საათზე\, ილიას სახელმწიფო უნივერსიტეტის თეატრში გაიმართება სპექტაკლი „იდეალური ოჯახი“\, კომედია ერთ მოქმედებად. \nსპექტაკლის შესახებ   \nრა ხდება მაშინ\, როდესაც ცხოვრებას მხოლოდ სხვის შეხედულებებზე აგებ?! როდესაც ცდილობ\, სხვისი დაკნინებით წარმოაჩინო საკუთარი თავი და მხოლოდ სხვის დასანახად შექმნა იდეალური ოჯახი… \nარსებობს კი იდეალური ოჯახი?! ან იქნებ ჩვენს საზოგადოებაშიც მრავლად არიან ვაცლავ ჰაველის პიესის გმირები\, რომლებიც გამუდმებით სხვის არასრულფასოვნებას უსვამენ ხაზს და ჰარმონიულ ურთიერთობაზე გვესაუბრებიან. \nვინ შექმნა სპექტაკლი \n\nმთარგმნელი მაია ნაჭყებია\nრეჟისორი დავით ჭახრაკია\nმხატვარი გიორგი უსტიაშვილი\nტექნიკური რეჟისორი  ნათია სამადაშვილი\n\nმოქმედი პირნი და შემსრულებელნი: \n\nვერა – რუსკა მაყაშვილი (რუსთაველის თეატრის მსახიობი)\nმიხალი – გიორგი გოგუაძე\nბედრჟიხი – პაატა პაპუაშვილი\n\n\n\nბილეთის ფასი  \n\n20 ლარი\nილიაუნის სტუდენტებისთვის – 5 ლარი\nსხვა უნივერსიტეტების სტუდენტებისთვის – 10 ლარი\n15 ან მეტი ბილეთის შეძენის შემთხვევაში – 1 ბილეთის ფასი 15 ლარი\n\nმოცემული ფასებით სარგებლობა შესაძლებელია მხოლოდ ილიაუნის თეატრის სალაროში ბილეთების დაჯავშნით. \n\nროგორ დავჯავშნო და შევიძინო ბილეთი?    \nილიაუნის თეატრის სალარო \nტელეფონის ნომერი: +995 32 2 29 47 15 \nსამუშაო განრიგი: ყოველდღე\, ორშაბათის გარდა\, 13:00-20:00 საათები \nbiletebi.ge \ntkt.ge  \nონლაინ 24 საათის განმავლობაში ბმულიდან https://bit.ly/3DQYtp2 \n\nდრო: 18 ნოემბერი\, 20:00 საათი \nხანგრძლივობა: 1 საათი და15 წუთი \nადგილმდებარეობა: ილიას სახელმწიფო უნივერსიტეტის თეატრი\, ილია ჭავჭავაძის გამზირი N32 (უკანა ეზო) \n2022 წელი \n  \n\n[wpai_display_imported_files_here]
URL:https://events.iliauni.edu.ge/event/speqtakli-idealuri-ojakhi/
CATEGORIES:ღონისძიებები
ATTACH;FMTTYPE=image/png:https://events.iliauni.edu.ge/wp-content/uploads/2022/11/70869.png
END:VEVENT
END:VCALENDAR