BEGIN:VCALENDAR
VERSION:2.0
PRODID:-//უნივერსიტეტის ღონისძიებების პორტალი - ECPv6.2.8.2//NONSGML v1.0//EN
CALSCALE:GREGORIAN
METHOD:PUBLISH
X-WR-CALNAME:უნივერსიტეტის ღონისძიებების პორტალი
X-ORIGINAL-URL:https://events.iliauni.edu.ge
X-WR-CALDESC:Events for უნივერსიტეტის ღონისძიებების პორტალი
REFRESH-INTERVAL;VALUE=DURATION:PT1H
X-Robots-Tag:noindex
X-PUBLISHED-TTL:PT1H
BEGIN:VTIMEZONE
TZID:Asia/Dubai
BEGIN:STANDARD
TZOFFSETFROM:+0400
TZOFFSETTO:+0400
TZNAME:+04
DTSTART:20220101T000000
END:STANDARD
END:VTIMEZONE
BEGIN:VEVENT
DTSTART;TZID=Asia/Dubai:20221031T190000
DTEND;TZID=Asia/Dubai:20221031T190000
DTSTAMP:20260424T033548
CREATED:20221026T114613Z
LAST-MODIFIED:20240201T112850Z
UID:10000293-1667242800-1667242800@events.iliauni.edu.ge
SUMMARY:საჯარო ლექცია „კიბერუსაფრთხოება\, როგორც პროფესია“
DESCRIPTION:31 ოქტომბერს\, 19:00 საათზე\, საქართველოს ეროვნული ბანკი ილიას სახელმწიფო უნივერსიტეტის ტექნოლოგიის სკოლასთან თანამშრომლობით გამართავს საჯარო ლექციას „კიბერუსაფრთხოება\, როგორც პროფესია”. \nდამსწრეთ შესაძლებლობა ექნებათ\, გაეცნონ პროფესიის შესახებ დეტალურ ინფორმაციას: რას ეხება კიბერუსაფრთხოება\, რა მოვალეობები შეიძლება ჰქონდეთ ამ სფეროში დასაქმებულ ადამიანებს\, გაიგონ მეტი დასაქმების პროცესთან დაკავშირებით და დასვან შეკითხვები. \nღონისძიება გაიმართება საქართველოს ეროვნული ბანკის\, ილიას სახელმწიფო უნივერსიტეტის\, საგანმანათლებლო პლატფორმა „ფინედუს“\, საბანკო ასოციაციის\, „თინეთისა” და ხუთი კომერციული ბანკის – საქართველოს ბანკის\, ვითიბი ბანკის\, ლიბერთი ბანკის\, ბაზისბანკისა და პროკრედიტ ბანკ საქართველოს ჩართულობითა და მხარდაჭერით. \nღონისძიებაში მონაწილეობას მიიღებენ კომერციული სექტორის კიბერუსაფრთხოების სამსახურის ექსპერტები. მომხსენებლები ისაუბრებენ კიბერუსაფრთხოების ინდუსტრიის მნიშვნელობასა და ამ სფეროში კარიერის დასაწყებად საჭირო უნარ-ჩვევებზე. \n\nსპიკერები: \nდავით პაპუაშვილი\, სპეციალიზებული რისკების დეპარტამენტის უფროსის მოადგილე\, საქართველოს ეროვნული ბანკი \n\nმოხსენების თემა: „კიბერუსაფრთხოება მარეგულირებლის ყოველდღიურ საქმიანობაში“\n\nზაზა გაბაშვილი\, ინფორმაციული უსაფრთხოების განყოფილების მენეჯერი\, TNET \n\nმოხსენების თემა: „ინტერნეტის საფრთხეები; როგორ დავიცვათ თავი მათგან“\n\nოთარ დანელია\, მონაცემთა უსაფრთხოების სამსახურის უფროსი\, საქართველოს ბანკი \n\nმოხსენების თემა: „კიბერუსაფრთხოება\, როგორც სპეციალობა\, და დასაქმების შესაძლებლობები“\n\nინგა ქარჩავა\, საბანკო მიმართულების ანალიტიკოსი\, საქართველოს საბანკო ასოციაცია \n\nმოხსენების თემა: „კიბერუსაფრთხოების მნიშვნელობა და გამოწვევები დღეს – რატომ კიბერუსაფრთხოება?“\n\nპაატა შეთეკაური\, ინფორმაციული ტექნოლოგიების უსაფრთხოების ოფიცერი\, პროკრედიტ ბანკი \n\nმოხსენების თემა: „კიბერუსაფრთხოების დაცვის სისტემები“\n\nრობერტ ჩილინგაროვი\, ინფორმაციული უსაფრთხოების განყოფილების უფროსი\, ლიბერთი ბანკი \n\nმოხსენების თემა: „კიბერჰიგიენა“\n\nმოდერატორი – ნინი სიმონიშვილი\, საქართველოს ეროვნული ბანკის კიბერუსაფრთხოების განყოფილების უფროსი \n\nეროვნული ბანკის ინიციატივით საქართველოს საფინანსო სექტორი საერთაშორისო ტრადიციას უერთდება და წელს უკვე მეორედ იწყებს კიბერუსაფრთხოების ცნობიერების ამაღლების კამპანიას. კიბერუსაფრთხოების ცნობიერების ამაღლების თვე მსოფლიო მასშტაბით ოქტომბერში აღინიშნება. \nკამპანიის შესახებ ვრცლად https://bit.ly/3SLUgbK \nსამუშაო ენა: ქართული \nდრო: 31 ოქტომბერი\, 19:00 საათი \nადგილმდებარეობა: ილიას სახელმწიფო უნივერსიტეტის ტექნოლოგიების კორპუსი\, T102 დარბაზი\, ქაქუცა ჩოლოყაშვილის გამზირი N3/5 \nღონისძიებაზე დასასწრებად გთხოვთ\, გაიაროთ წინასწარი რეგისტრაცია https://bit.ly/3FivufV \n2022 წელი \n\n[wpai_display_imported_files_here]
URL:https://events.iliauni.edu.ge/event/sajaro-leqtsia-kiberusaphrthkhoeba-rogorts-prophesia/
CATEGORIES:საჯარო ლექციები
ATTACH;FMTTYPE=image/png:https://events.iliauni.edu.ge/wp-content/uploads/2022/10/70718.png
END:VEVENT
BEGIN:VEVENT
DTSTART;TZID=Asia/Dubai:20221031T190000
DTEND;TZID=Asia/Dubai:20221031T190000
DTSTAMP:20260424T033548
CREATED:20221027T065419Z
LAST-MODIFIED:20240201T112847Z
UID:10000290-1667242800-1667242800@events.iliauni.edu.ge
SUMMARY:პიანისტ გიორგი ბერიაშვილის ლექცია- კონცერტი „ფრანგული მუსიკის ოთხი მწვერვალი“
DESCRIPTION:31 ოქტომბერს\, 19:00 საათზე\, საფრანგეთში მოღვაწე ქართველი პიანისტი და მუსიკათმცოდნე\, საფრანგეთის ხელოვნების აკადემიის დელ დუკას პრემიის ლაურეატი გიორგი ბერიაშვილი გამართავს ლექცია-კონცერტს „ფრანგული მუსიკის ოთხი მწვერვალი“\, ისაუბრებს კლოდ დებიუსის\, ჟან-ფილიპ რამოს\, ოლივიე მესიანისა და სეზარ ფრანკის შემოქმედებაზე. \nლექცია-კონცერტზე დამსწრეები გიორგი ბერიაშვილის შესრულებით მოისმენენ ნაწყვეტებს კომპოზიტორების ნაწარმოებებიდან. \nკონფერენციის ორგანიზატორია საერთაშორისო ასოციაცია ფრანგული რენესანსის საქართველოს წარმომადგენლობა. \nსამუშაო ენა: ქართული \nდრო: 31 ოქტომბერი\, 19:00 საათი \nადგილმდებარეობა: B201 დარბაზი\, ილია ჭავჭავაძის გამზირი N32 \nდასწრება თავისუფალია. \n2022 წელი \n\n[wpai_display_imported_files_here]
URL:https://events.iliauni.edu.ge/event/pianist-giorgi-beriashvilis-leqtsia-kontserti-phranguli-musikis-othkhi-mtsvervali/
CATEGORIES:ღონისძიებები
ATTACH;FMTTYPE=image/png:https://events.iliauni.edu.ge/wp-content/uploads/2022/10/70716.png
END:VEVENT
BEGIN:VEVENT
DTSTART;TZID=Asia/Dubai:20221101T180000
DTEND;TZID=Asia/Dubai:20221101T180000
DTSTAMP:20260424T033548
CREATED:20221010T093246Z
LAST-MODIFIED:20240201T112845Z
UID:10000288-1667325600-1667325600@events.iliauni.edu.ge
SUMMARY:ადრეული ბაზრის ვალიდაცია - როგორ დავრწმუნდეთ\, რომ „სწორად ქმნით მას\, სანამ შექმნით“ – კარინა სოტნიკის საჯარო ლექცია
DESCRIPTION:1 ნოემბერს\, 18:00 საათზე\, ილიას სახელმწიფო უნივერსიტეტში\, უნივერსიტეტების შესაძლებლობების განვითარების პროგრამის ფარგლებში\, გაიმართება WorldUpstart-ის დამფუძნებლისა და აღმასრულებელი დირექტორის\, კარინა სოტნიკის საჯარო ლექცია: „ადრეული ბაზრის ვალიდაცია-როგორ დავრწმუნდეთ\, რომ „სწორად ქმნით მას\, სანამ შექმნით“ \nკარინა სოტნიკის შესახებ \nკარინა სოტნიკი არის სერიული ანტრეპრენერი\, მენტორი და მრჩეველი\, რომელსაც აქვს სამეწარმეო ეკოსისტემის შექმნის მრავალწლიანი გამოცდილება. მან დააარსა AppItUP Challenge\, ციფრული აქსელერატორი ახალი მობილური ტექნოლოგიებისთვის\, რის შედეგადაც შეიქმნა 19 ახალი კომპანია. ამ უკანასკნელში იგი ხელმძღვანელობდა Life Science-ის კომერციალიზაციის პროგრამას 22 მონაწილე უნივერსიტეტთან ერთად და შექმნა უახლესი MedTech აქსელერატორი\, რომელიც ორიენტირებულია აშშ-ს ბაზარზე შესვლაზე. გასული ათწლეულის განმავლობაში კარინამ ასევე შექმნა და განავითარა WorldUpstart\, საკონსულტაციო კომპანია\, რომელსაც აქვს 2 მთავარი მისია: ჯანდაცვის გლობალური კომპანიების დახმარება აშშ-ს ბაზარზე შესვლაში და აკადემიური ინსტიტუტების დახმარება აშშ-სა და მის გარშემო. \nშეხვედრას მოდერაციას გაუწევს: დავით ჩეჩელაშვილი\, ტექანტერპრენერი\, მარკეტინგისა და ბიზნესის განვითარების სპეციალისტი საერთაშორისო განათლების ამერიკული საბჭოები” 2021 წლის სექტემბრიდან საქართველოში აშშ-ის საელჩოს ფინანსური მხარდაჭერით ახორციელებს „უნივერსიტეტების შესაძლებლობების განვითარების პროგრამას“ (UCBP)\, რომელიც მიზნად ისახავს საქართველოს უმაღლეს საგანმანათლებლო დაწესებულებებში სამეწარმეო კულტურის განვითარებას\, ტექნოლოგიების კომერციალიზაციის პროცესის ხელშეწყობასა და უნივერსიტეტების\, ბიზნესისა და სამთავრობო სტრუქტურების თანამშრომლობის გაძლიერებას. \nსამუშაო ენა: ინგლისური \nშეხვედრაზე დასასწრებად საჭიროა გაიაროთ წინასწარი რეგისტრაცია 31 ოქტომბერს 23:00 საათამდე. \nრეგისტრაციის ბმული: https://bit.ly/3ywDgid \nდრო: 1 ნოემბერი\, 18:00 საათი \nადგილმდებარეობა: ილიას სახელმწიფო უნივერსიტეტი\, G კორპუსის საკონფერენციო დარბაზი\, გიორგი წერეთლის ქ. N1 \nდასწრება შეუძლია ნებისმიერ დაინტერესებულ პირს. \n2022 წელი \n\n[wpai_display_imported_files_here]
URL:https://events.iliauni.edu.ge/event/adreuli-bazris-validatsia-rogor-davrtsmundeth-rom-stsorad-qmnith-mas-sanam-sheqmnith-karina-sotnikis-sajaro-leqtsia/
CATEGORIES:ღონისძიებები
ATTACH;FMTTYPE=image/png:https://events.iliauni.edu.ge/wp-content/uploads/2022/10/69481.png
END:VEVENT
BEGIN:VEVENT
DTSTART;TZID=Asia/Dubai:20221104T190500
DTEND;TZID=Asia/Dubai:20221104T190500
DTSTAMP:20260424T033548
CREATED:20221103T091756Z
LAST-MODIFIED:20240201T112841Z
UID:10000286-1667588700-1667588700@events.iliauni.edu.ge
SUMMARY:ფორუმი „Tbilisi PR Days • თბილისის პიარის დღეები“
DESCRIPTION:ილიას სახელმწიფო უნივერსიტეტის საზოგადოებასთან ურთიერთობების სამაგისტრო პროგრამის სტუდენტების ორგანიზებით 4-5 ნოემბერს გაიმართება კომუნიკაციის სფეროში საქართველოში პირველი საერთაშორისო ფორუმი „თბილისის პიარის დღეები“. \n4-5 ნოემბერს საზოგადოებასთან ურთიერთობის მსოფლიოს წამყვანი სპეციალისტები პანდემიის პერიოდში პიარისა და მარკეტინგის სფეროს გამოწვევებისა და გადაჭრის გზებზე ისაუბრებენ. \n\n4 ნოემბერს\, ფორუმის პირველ დღეს\, მსოფლიოს წამყვანი უნივერსიტეტების პროფესორები იტალიიდან\, საფრანგეთიდან\, სერბეთიდან და ავსტრიიდან მსოფლიოში კომუნიკაციების სფეროს გამოწვევებზე ისაუბრებენ. პირველი დღე სრულად დისტანციურ ფორმატში წარიმართება პლატფორმა ზუმის საშუალებით და მასზე დასწრებას შეძლებთ ბმულზე: https://bit.ly/3TgZLPX\n5 ნოემბერს\, ფორუმის მეორე დღეს\, რეგიონის წამყვანი კომპანიებისა და არასამთავრობო ორგანიზაციების (Gepra\, Goodwill\, PSP\, Loialte\, Key Communication\, Global Compact Network Georgia\, Beeline) წარმომადგენლები იმსჯელებენ\, როგორი სტრატეგიები შეიმუშავეს საზოგადოებასთან ურთიერთობის მიმართულებით СOVID-19 კრიზისის დროს\, ასევე რა მიდგომები ჩამოყალიბდა კორპორაციული პასუხისმგებლობის კუთხით სხვადასხვა ბიზნესსექტორში.ფორუმის მეორე დღე ჩატარდება ილიას სახელმწიფო უნივერსიტეტის ტექნოლოგიის კორპუსის T 102 დარბაზში.\n\n\nგანრიგი \n4 ნოემბერი \nმოდერატორი: ნატალია ავლოხაშვილი\, ილიას სახელმწიფო უნივერსიტეტის საზოგადოებასთან ურთიერთობების სამაგისტრო პროგრამის სტუდენტი \n19:05-19:15 მისალმება \n\nპროფესორი დიმიტრი ჯაფარიძე\, ილიას სახელმწიფო უნივერსიტეტის ბიზნესის\, ტექნოლოგიისა და განათლების ფაკულტეტის დეკანი\nპროფესორი თორნიკე გურული\, ილიას სახელმწიფო უნივერსიტეტის საზოგადოებასთან ურთიერთობების სამაგისტრო პროგრამის ხელმძღვანელი\n\n19:15-19:35 თემა: PR ციფრულ ეპოქაში \nპროფესორი ლიუპკა ნაუმოვსკა\, რენეს ბიზნესსკოლა (საფრანგეთი) \n19:35-19:55 თემა: PR-ის სპეციფიკა ხელოვნების ინდუსტრიაში \nპროფესორი მარტინ ა.მ. გენზინგერი\, ალ აქავიან უნივერსიტეტი (მოროკო) \n19:55-20:15 თემა: მედიის როლი PR-ში \nპროფესორი სლობოდან პენეზიჩი\, ნიკოლას ტესლას უნივერსიტეტი (სერბეთი) \n20:15-20:35 თემა: PR საერთაშორისო ურთიერთობებში \nპროფესორი ნიკოლა სტრიძოლო\, ტერამოს უნივერსიტეტი (იტალია) \n20:35-20:45 კითხვა/პასუხი \n20:45-20:50 ფორუმის შეჯამება \n\n5 ნოემბერი \nთემა: როგორ შეიცვალა პიარის მიმართულება COVID-19-ის პანდემიის დროს? რა გამოწვევები შეხვდათ კომპანიებს და როგორ გაუმკლავდნენ \n16:00-16:05 ფორუმის გახსნა \nმომხსენებლები: თინათინ იმერლიშვილი\, ნათია შაფათავა\, ილიას სახელმწიფო უნივერსიტეტის საზოგადოებასთან ურთიერთობის სამაგისტრო პროგრამის სტუდენტები \n16:05-16:10 მისალმება \nპროფესორი თორნიკე გურული\, ილიას სახელმწიფო უნივერსიტეტის საზოგადოებასთან ურთიერთობის სამაგისტრო პროგრამის ხელმძღვანელი \n16:10-16:25 მოხსენება \nსალომე ზურაბიშვილი\, ილიას სახელმწიფო უნივერსიტეტის მოწვეული ლექტორი; გაეროს გლობალური შეთანხმების საქართველოს ქსელის აღმასრულებელი დირექტორი \n16:25-16:40 მოხსენება \nთეონა ბაღდავაძე\, PR სააგენტოს Key Communications-ის დამფუძნებელი \n16:40-16:55 მოხსენება \nგიგა ფაიქიძე\, აუდიტორული და საკონსულტაციო კომპანია „ლოიალტეს“ დამფუძნებელი; მცირე და საშუალო მეწარმეობის განვითარების ასოციაციის (SMEDA) დამფუძნებელი და აღმასრულებელი დირექტორი \n16:55-17:10 მოხსენება \nგურანდა არჩუაძე\, ჰიპერმარკეტების ქსელ „გუდვილის“ პიარისა და მარკეტინგის მენეჯერი \n17:10-17:25 მოხსენება \nნუცა სუბელიანი\, ილიას სახელმწიფო უნივერსიტეტის მოწვეული ლექტორი; საკონსულტაციო კომპანია „ჯეპრას“ უფროსი პიარ კონსულტანტი \n17:40-17:55 მოხსენება \nსოფო ბალავაძე\, ვეონ საქართველოს კომუნიკაციების სპეციალისტი \n17:55-18:10 თემის შეჯამება \nგიორგი კალატოზიშვილი\, ილიას უნივერსიტეტის მოწვეული ლექტორი \n18:10-18:20 კითხვა/პასუხი \n18:20-18:25 ფორუმის დახურვა და გეგმების შეჯამება \nთინათინ იმერლიშვილი\, ნათია შაფათავა\, ილიას სახელმწიფო უნივერსიტეტის საზოგადოებასთან ურთიერთობის სამაგისტრო პროგრამის სტუდენტები \n\nფორუმთან დაკავშირებული ინფორმაცია \nფორუმის პირველი დღე \nდრო: 4 ნოემბერი\, 19:00-21:00 \nფორმატი: დისტანციური \nსამუშაო ენა: ინგლისური \nZOOM: https://bit.ly/3TgZLPX \n\nMeeting ID: 869 1328 7880\n\nფორუმის მეორე დღე \nდრო: 5 ნოემბერი\, 16:00-19:00 \nადგილმდებარეობა: T102\, ილიას სახელმწიფო უნივერსიტეტის ტექნოლოგიების კორპუსი \nსამუშაო ენა: ქართული \n2022 წელი \n\n[wpai_display_imported_files_here]
URL:https://events.iliauni.edu.ge/event/phorumi-tbilisi-pr-days-thbilisis-piaris-dgheebi/
CATEGORIES:ღონისძიებები
ATTACH;FMTTYPE=image/jpeg:https://events.iliauni.edu.ge/wp-content/uploads/2022/11/70820.jpg
END:VEVENT
END:VCALENDAR