BEGIN:VCALENDAR
VERSION:2.0
PRODID:-//უნივერსიტეტის ღონისძიებების პორტალი - ECPv6.2.8.2//NONSGML v1.0//EN
CALSCALE:GREGORIAN
METHOD:PUBLISH
X-ORIGINAL-URL:https://events.iliauni.edu.ge
X-WR-CALDESC:Events for უნივერსიტეტის ღონისძიებების პორტალი
REFRESH-INTERVAL;VALUE=DURATION:PT1H
X-Robots-Tag:noindex
X-PUBLISHED-TTL:PT1H
BEGIN:VTIMEZONE
TZID:Asia/Dubai
BEGIN:STANDARD
TZOFFSETFROM:+0400
TZOFFSETTO:+0400
TZNAME:+04
DTSTART:20220101T000000
END:STANDARD
END:VTIMEZONE
BEGIN:VEVENT
DTSTART;TZID=Asia/Dubai:20221020T120000
DTEND;TZID=Asia/Dubai:20221020T120000
DTSTAMP:20260424T034343
CREATED:20221012T131847Z
LAST-MODIFIED:20240201T112748Z
UID:10000241-1666267200-1666267200@events.iliauni.edu.ge
SUMMARY:სამუშაო შეხვედრა: Time for Action: the challenge of contract cheating
DESCRIPTION:20 ოქტომბერს\, 12 საათზე ილიას სახელმწიფო უნივერსიტეტში გაიმართება სამუშაო შეხვედრა თემაზე „Time for Action: the challenge of contract cheating“. \nშეხვედრაზე განხილული იქნება ისეთი საკითხები\, როგორიც არის ნაშრომის ყიდვის პრაქტიკა უმაღლესი განათლების საფეხურზე; აკადემიური გადაცდომის არსებული ფორმები; აკადემიური კეთილსინდისიერების პრინციპების უზრუნველყოფა საგანმანათლებლო ინსტიტუციების თანამშრომლობის გზით და სხვა. \nსპეციალურად ამ შეხვედრისთვის ილიას სახელმწიფო უნივერსიტეტს ეწვევიან კომპანია Turnitin-ის წარმომადგენლები\, მათ შორის\, ევროპის\, ახლო აღმოსავლეთისა და აფრიკის ქვეყნების რეგიონული ვიცეპრეზიდენტი. \nსამუშაო შეხვედრა საინტერესო იქნება საგანმანათლებლო დაწესებულების აკადემიური და ადმინისტრაციული პერსონალისთვის\, მკვლევრებისთვის. დასწრებისთვის აუცილებელია წინასწარ რეგისტრაცია მოცემულ ბმულზე. დასწრება თავისუფალია და გათვალისწინებულია მცირე ლანჩი. \nსამუშაო ენა: ინგლისური \nდრო: 20 ოქტომბერი\, 12:00 საათი \nადგილმდებარეობა: ქაქუცა ჩოლოყაშვილის გამზირი 3/5\, G კორპუსის საკონფერენციო დარბაზი \n2022 წელი \n\n[wpai_display_imported_files_here]
URL:https://events.iliauni.edu.ge/event/samushao-shekhvedra-time-for-action-the-challenge-of-contract-cheating/
CATEGORIES:ღონისძიებები
ATTACH;FMTTYPE=image/png:https://events.iliauni.edu.ge/wp-content/uploads/2022/10/69513.png
END:VEVENT
BEGIN:VEVENT
DTSTART;TZID=Asia/Dubai:20221021T105500
DTEND;TZID=Asia/Dubai:20221021T105500
DTSTAMP:20260424T034343
CREATED:20221021T065518Z
LAST-MODIFIED:20240201T112921Z
UID:10000309-1666349700-1666349700@events.iliauni.edu.ge
SUMMARY:ინტერაქტიული გამოფენა: სამყარო. ადამიანი. ინტელექტი
DESCRIPTION:გოეთეს ინსტიტუტი\, მაქს პლანკის საზოგადოება და ილიას სახელმწიფო უნივერსიტეტი წარმოგიდგენთ გამოფენას „სამყარო. ადამიანი. ინტელექტი”\, რომელიც ეძღვნება გერმანიის უახლეს სამეცნიერო მიღწევებს. \nინტერაქტიული გამოფენა მოგვითხრობს კაცობრიობის დიდ საიდუმლოებებსა და მეცნიერული აზროვნების მიღწევებზე. \n„სამყარო. ადამიანი. ინტელექტი“ წარმოადგენს მაქს პლანკის საზოგადოების კვლევის შედეგებს\, მიმდინარე და სამომავლო კვლევით პროექტებს გერმანიიდან და სვამს ისეთ შეკითხვებს\, რომლებიც კაცობრიობის მიერ ჯერ კიდევ პასუხგაუცემელია. \nგამოფენის მიზანია ინტერესის გაღვივება მეცნიერებისა და გერმანული ენის მიმართ. \nგამოფენა ხუთი თემატური სფეროსგან შედგება: „სამყარო“\, „ჰომო საპიენსის გზა“\, „ჩვენი ტვინი“\, „ცხოვრება ანთროპოცენში“ და „ხელოვნური ინტელექტი“. თითოეულ მოდულში არის ინსცენირების ელემენტი: მაგალითად\, მონიტორი „ფეისმორფინგისთვის”\, ატმოსფერული გარსი\, რომელიც აჩვენებს დისტანციებს გალაქტიკაში ან თაროები სხვადასხვა ლაბორატორიული ჭურჭლით. \nგამოფენაზე გაეცნობით ბევრ საინტერესო სამეცნიერო სიახლეს. QR კოდების მეშვეობით გადახვალთ ვიდეოების\, სურათებისა და პოდკასტების სახით წარმოდგენილ დამატებით მასალაზე. \nგამოფენა ძირითადად გამიზნულია მოსწავლეებისა და სტუდენტებისთვის\, რომლებიც სწავლობენ გერმანულ ენას და აინტერესებთ მეცნიერება. თუმცა გამოფენაზე მოსვლა შეუძლიათ სხვა დაინტერესებულ პირებსაც. \n\nრეგისტრაცია \nდასწრება თავისუფალია ნებისმიერი მსურველისათვის 25 ოქტომბრიდან 29 ნოემბრამდე\, ორშაბათიდან პარასკევის ჩათვლით\, 10:00-დან 17:00 საათამდე. \nმნახველთა ჯგუფები კი უნდა დარეგისტრირდნენ ქვემოთ მითითებულ თარიღებზე (რეგისტრაციას გადის კლასის მასწავლებელი) \nწინასწარ გადმოწერეთ გამოფენის აპლიკაცია: \n\nაიფონისთვის\nანდროიდისთვის\nასევე გადმოწერეთ შესაბამისი დონის სამუშაო ფურცლები.\n\nრეგისტრაცია უკვე დაწყებულია! \nგთხოვთ\,როგორც პედაგოგი დაუკავშირდეთ გამოფენის კოორდინატორს და მისწეროთ შემდეგი მონაცემები: \n\nრომელ რიცხვში და რომელ საათზე გსურთ კლასის მოყვანა.\nბავშვების რაოდენობა\, ასაკი და კლასი\nსკოლის დასახელება\nთქვენი საკონტაქტო ნომერი\n\n\nთარიღები \n(გთხოვთ\, დაუკავშირდეთ შესაბამის კოორდინატორს დღეებისა და დროების მიხედვით) \n28 ოქტომბერი: \n\n10-11 სთ\, 11-12 სთ\, 12-13 სთ\, 13-14 სთ\, 14-15 სთ\, 15-16 სთ\, 16-17 სთ – ნუცა თოთლაძე\, nutsa1totladze1@gmail.com\n\n31 ოქტომბერი\, 7 ნოემბერი\, 14 ნოემბერი\, 27 ნოემბერი\, 28 ნოემბერი: \n\n10-11 სთ\, 11-12 სთ\, 12-13 სთ – ანა ჩაჩხიანი\, Anuki.chachxiani@gmail.com\n13-14 სთ\, 14-15 სთ\, 15-16 სთ\, 16-17 სთ – ნუცა თოთლაძე\, nutsa1totladze1@gmail.com\n\n2 ნოემბერი\, 9 ნოემბერი\, 23 ნოემბერი: \n\n10-11 სთ\, 11-12 სთ\, 12-13 სთ\, 13-14 სთ\, 14-15 სთ\, 15-16 სთ\, 16-17 სთ – ანა ბედენაშვილი\, ana.bedenashvili.2@iliauni.edu.ge\n\n4 ნოემბერი\, 11 ნოემბერი\, 25 ნოემბერი: \n\n10-11 სთ\, 11-12 სთ\, 12-13 სთ\, 13-14 სთ\, 14-15 სთ\, 15-16 სთ\, 16-17 სთ – ნუცა თოთლაძე\, nutsa1totladze1@gmail.com\n\n15 ნოემბერი\, 29 ნოემბერი: \n\n10-11 სთ\, 11-12 სთ\, 12-13 სთ\, 13-14 სთ – ანა ჩაჩხიანი\, Anuki.chachxiani@gmail.com\n14-15 სთ\, 15-16 სთ\, 16-17 სთ – კონსტანტინე ჭიპაშვილი\, k.chipashvili03@gmail.com\n\nინტერაქტიული გამოფენის დრო: 25 ოქტომბრიდან 29 ნოემბრამდე \nმისამართი: ილიას სახელმწიფო უნივერსიტეტი. G კორპუსი. (გ. წერეთლის ქ. N1) \n2022 წელი \n\n[wpai_display_imported_files_here]
URL:https://events.iliauni.edu.ge/event/interaqtiuli-gamophena-samqharo-adamiani-inteleqti/
CATEGORIES:ღონისძიებები
ATTACH;FMTTYPE=image/png:https://events.iliauni.edu.ge/wp-content/uploads/2022/10/70075.png
END:VEVENT
BEGIN:VEVENT
DTSTART;TZID=Asia/Dubai:20221022T160000
DTEND;TZID=Asia/Dubai:20221022T160000
DTSTAMP:20260424T034343
CREATED:20221018T071529Z
LAST-MODIFIED:20240201T112915Z
UID:10000307-1666454400-1666454400@events.iliauni.edu.ge
SUMMARY:პროფესორ ირინა ლობჟანიძის წიგნის „სასრული პოზიციის კომპიუტერული მორფოლოგია: ქართული ენის ანალიზატორი და გენერატორი“ პრეზენტაცია
DESCRIPTION:22 ოქტომბერს\, 16:00 საათზე\, ილიას სახელმწიფო უნივერსიტეტის წიგნის სახლში „ლიგამუსი“ გაიმართება პროფ. ირინა ლობჟანიძის წიგნის პრეზენტაცია: ”Finite-State Computational Morphology: An Analyzer and Generator for Georgian (იხ. Springer Publishing https://link.springer.com/book/10.1007/978-3-030-90248-3). \nნაშრომის შესახებ \nნაშრომი საერთაშორისო სამეცნიერო საზოგადოებას სთავაზობს წლების განმავლობაში ილიას სახელმწიფო უნივერსიტეტში ქართული ენის კორპუსისა და კომპიუტერული დამუშავების მიმართულებით მიმდინარე კვლევის შედეგებს. წიგნი შედგება სამი თავისა და დანართებისაგან. პირველი თავი ეთმობა ქართული ენის მორფოსინტაქსურ სტრუქტურას; მეორე – სასრული პოზიციის ტექნოლოგიის პრინციპების გამოყენებას ქართული ენის ტოკენიზატორისა და მორფოლოგიური ანალიზატორის შესაქმნელად; მესამე თავში კი განხილულია ანალიზატორის შედეგების ტესტირება და შეფასება\, შეჯამებულია კვლევის ძირითადი შედეგები. \nავტორის შესახებ იხ. https://faculty.iliauni.edu.ge/arts/irina-lobzhanidze/ \nპრეზენტაციაზე პროფ. ნინო დობორჯგინიძე შეაჯამებს ლინგვისტურ კვლევათა ინსტიტუტში ქართული ენის კორპუსისა და მორფოლოგიური ანალიზატორის შექმნის მრავალწლიანი პროექტის შედეგებს. მორფოლოგიური ანალიზატორის საფუძველზე შექმნილი ტექნოლოგიური რესურსების შესახებ ისაუბრებენ კიბერლაბორატორია „უნილაბის“ ხელმძღვანელი\, პროფ. სანდრო ასათიანი და ამავე ლაბორატორიის პროგრამისტი თემურ ჩიჩუა. \nდრო: 22 ოქტომბერი\, 16:00 საათი \nადგილმდებარეობა: წიგნის სახლი „ლიგამუსი“\, ილია ჭავჭავაძის გამზირი N32 \nსამუშაო ენა: ქართული \nდასწრება თავისუფალია. \n2022 წელი \n  \n\n[wpai_display_imported_files_here]
URL:https://events.iliauni.edu.ge/event/prophesor-irina-lobzhanidzis-tsignis-sasruli-pozitsiis-kompiuteruli-morphologia-qarthuli-enis-analizatori-da-generatori-prezentatsia/
CATEGORIES:ღონისძიებები
ATTACH;FMTTYPE=image/jpeg:https://events.iliauni.edu.ge/wp-content/uploads/2022/10/69764.jpg
END:VEVENT
END:VCALENDAR