BEGIN:VCALENDAR
VERSION:2.0
PRODID:-//უნივერსიტეტის ღონისძიებების პორტალი - ECPv6.2.8.2//NONSGML v1.0//EN
CALSCALE:GREGORIAN
METHOD:PUBLISH
X-ORIGINAL-URL:https://events.iliauni.edu.ge
X-WR-CALDESC:Events for უნივერსიტეტის ღონისძიებების პორტალი
REFRESH-INTERVAL;VALUE=DURATION:PT1H
X-Robots-Tag:noindex
X-PUBLISHED-TTL:PT1H
BEGIN:VTIMEZONE
TZID:Asia/Dubai
BEGIN:STANDARD
TZOFFSETFROM:+0400
TZOFFSETTO:+0400
TZNAME:+04
DTSTART:20220101T000000
END:STANDARD
END:VTIMEZONE
BEGIN:VEVENT
DTSTART;TZID=Asia/Dubai:20220926T100000
DTEND;TZID=Asia/Dubai:20220926T100000
DTSTAMP:20260424T034329
CREATED:20220920T121918Z
LAST-MODIFIED:20240201T113007Z
UID:10000319-1664186400-1664186400@events.iliauni.edu.ge
SUMMARY:კონფერენცია „COVID-19 პანდემიისას წინა ხაზზე მომუშავე პირთა ფსიქოსოციალური საჭიროებანი“
DESCRIPTION:26 სექტემბერს\, 10:00 საათზე\, ილიას სახელმწიფო უნივერსიტეტში გაიმართება პროექტის „ცოდნისა და პარტნიორობის გაძლიერება დამხმარე პერსონალის ფსიქიკური ჯანმრთელობისა და ფსიქოსოციალური მხარდაჭერის შესახებ პანდემიის პირობებში“ (IPP) შემაჯამებელი კონფერენცია „COVID-19 პანდემიისას წინა ხაზზე მომუშავე პირთა ფსიქოსოციალური საჭიროებანი“. \nკონფერენციაზე წარმოდგენილი იქნება როგორც საერთაშორისო\, ისე ადგილობრივი გამოცდილება – პროექტის გუნდის\, საქართველოს წითელი ჯვრის საზოგადოების ფსიქიკური ჯანმრთელობისა და ფსიქოსოციალური დახმარების საკოორდინაციო პლატფორმის წევრი სამთავრობო თუ არასამთავრობო ორგანიზაციების წარმომადგენლების\, თავად მორეაგირეთა და ილიას სახელმწიფო უნივერსიტეტის მხრიდან. \nპროექტი განხორციელდა საქართველოს წითელი ჯვრის\, სომხეთის წითელი ჯვრისა და ავსტრიის წითელი ჯვრის ჩართულობით\, ილიას სახელმწიფო უნივერსიტეტსა და ინსბრუკის უნივერსიტეტთან პარტნიორობით. \nპროექტს ფინანსური მხარდამჭერი იყო ევროკავშირის სამოქალაქო დაცვის მექანიზმი (ECHO) და ავსტრიის განვითარების თანამშრომლობა (ADA). \nპროექტის შესახებ სრული ინფორმაცია იხილეთ ბმულზე: Who Cares (whocares-pss.info) \n\nგანრიგი \n\n10:00-10:30 მისალმება/გახსნა\n\nI პანელი \n\n10:30-11:00 IPP პროექტის წარდგენა\n11:00-11:30 პარტნიორებთან ერთად ჩატარებული კვლევის შედეგები\n11:30-12:00 პანდემიის წინა ხაზზე მომუშავე ადამიანთა ყოველდღიურობა და გამოცდილება – საქართველოში ჩატარებული კვლევის შედეგები\n\nყავის შესვენება \n\n12:00-12:30\n\nII პანელი \n\n12:30-13:00 ხმები ველიდან\n13:00-13:30 სტუდენტთა ხმები\n\nყავის შესვენება \n\n13:30 – 14:30\n\nIII პანელი \n\n14:30-16:30 პარტნიორების პერსპექტივა: „Covid-19 პანდემიის ფარგლებში წინა ხაზზე მომუშავე მორეაგირეთა ფსიქოსოციალური საჭიროებანი და რეკომენდაციები“\n\n\nკონფერენციაზე დასასწრებად საჭიროა წინასწარი რეგისტრაცია. \nრეგისტრაციისთვის მიჰყევით ბმულს: https://bit.ly/3xE6IlQ \nრეგისტრაციის ბოლო ვადა: 23 სექტემბერი\, 17:00 საათი \nსამუშაო ენები: ქართული\, ინგლისური (უზრუნველყოფილი იქნება სინქრონული თარგმანი ინგლისურ ენაზე) \nდრო: 26 სექტემბერი\, 10:00 – 16:30 საათი \nრეგისტრაციისას მითითებულ საკონტაქტო მისამართზე გამოგეგზავნებათ ღონისძიებაზე დასასწრებად საჭირო ინფორმაცია. \n2022 \n\n[wpai_display_imported_files_here]
URL:https://events.iliauni.edu.ge/event/konpherentsia-covid-19-pandemiisas-tsina-khazze-momushave-pirtha-phsiqosotsialuri-satchiroebani/
CATEGORIES:ღონისძიებები
ATTACH;FMTTYPE=image/png:https://events.iliauni.edu.ge/wp-content/uploads/2022/09/68404.png
END:VEVENT
BEGIN:VEVENT
DTSTART;TZID=Asia/Dubai:20220928T120000
DTEND;TZID=Asia/Dubai:20220928T120000
DTSTAMP:20260424T034329
CREATED:20220926T072204Z
LAST-MODIFIED:20240201T113004Z
UID:10000316-1664366400-1664366400@events.iliauni.edu.ge
SUMMARY:NASA-ს მარშალის ცენტრის ასტრობიოლოგის\, რიჩარდ ჰუვერის საჯარო ლექცია
DESCRIPTION:28 სექტემბერს\, 12:00 საათზე\, გაიმართება ცნობილი ამერიკელი ასტროფიზიკოსისა და ასტრობიოლოგის\, პროფესორ რიჩარდ ჰუვერის (NASA) საჯარო ლექცია „ასტრობიოლოგია: მიკროფოსილების კვლევა მეტეორიტებში“. \nპროფესორი ჰუვერი იკვლევს მეტეორიტების ნივთიერებას\, პლანეტების ყინულოვან თანამგზავრებს\, კომეტებს და სხვა ციურ სხეულებს ასტრობიოლოგიის ინტერესთა ფარგლებში. \nპროფესორი ჰუვერი 15 გამოგონების ავტორია. მის მიერ შექმნილი ოპტიკური ინსტრუმენტები და სისტემები დღემდე გამოიყენება კოსმოსურ მისიებში. არის მრავალი სამეცნიერო წიგნისა და სტატიის ავტორი. \nპროფესორი ჰუვერი ამჟამად სამუშაო ვიზიტით იმყოფება ილიას სახელმწიფო უნივერსიტეტის პროფესორთან\, ირაკლი სიმონიასთან. \nდრო: 28 სექტემბერი\, 12:00 საათი \nადგილმდებარეობა: T 102 აუდიტორია\, ილიას სახელმწიფო უნივერსიტეტის ტექნოლოგიების კორპუსი (ქ. ჩოლოყაშვილის გამზ. N3/5) \nსამუშაო ენა: ინგლისური \nდასწრება თავისუფალია. \n2022 წელი \n\n[wpai_display_imported_files_here]
URL:https://events.iliauni.edu.ge/event/nasa-s-marshalis-tsentris-astrobiologis-richard-huveris-sajaro-leqtsia/
CATEGORIES:ღონისძიებები
ATTACH;FMTTYPE=image/png:https://events.iliauni.edu.ge/wp-content/uploads/2022/09/68512.png
END:VEVENT
BEGIN:VEVENT
DTSTART;TZID=Asia/Dubai:20221001T133000
DTEND;TZID=Asia/Dubai:20221001T133000
DTSTAMP:20260424T034329
CREATED:20220922T094358Z
LAST-MODIFIED:20240201T112823Z
UID:10000273-1664631000-1664631000@events.iliauni.edu.ge
SUMMARY:სანდრო ასათიანის წიგნის სახელოსნო ილიაუნის სამეცნიერო პიკნიკზე
DESCRIPTION:1-ელ ოქტომბერს\, 13:30-15:00 საათამდე\, ილიაუნის სამეცნიერო პიკნიკზე სანდრო ასათიანის წიგნის სახელოსნო უმასპინძლებს 5-9 წლის ბავშვებს. პატარებს შეუძლიათ გაეცნონ „სანდროს წიგნებს“. \nშეხვედრაზე ილიაუნის კიბერლაბორატორია უნილაბის დირექტორი\, პროფესორი სანდრო ასათიანი ბავშვებს წაუკითხავს საკუთარ წიგნებს და მათთან გაიმართება დისკუსია. პატარებს დაურიგებენ გასაფერადებლებს\, რომლებზეც გამოსახული იქნებიან წიგნის ის გმირები\, რომლებსაც ავტორთან შეხვედრაზე გაიცნობენ. \nდრო: 1 ოქტომბერი\, 13:30-15:00 საათი \nსამუშაო ენა: ქართული \nადგილმდებარეობა: ქ. ჩოლოყაშვილის გამზ. N3/5\, ილიას სახელმწიფო უნივერსიტეტის ალექსანდრე ქართველის სამკითხველო დარბაზი\, T402 \n2022 წელი \n\n[wpai_display_imported_files_here]
URL:https://events.iliauni.edu.ge/event/sandro-asathianis-tsignis-sakhelosno-iliaunis-sametsniero-piknikze/
CATEGORIES:ღონისძიებები
ATTACH;FMTTYPE=image/png:https://events.iliauni.edu.ge/wp-content/uploads/2022/09/68744.png
END:VEVENT
BEGIN:VEVENT
DTSTART;TZID=Asia/Dubai:20221001T150000
DTEND;TZID=Asia/Dubai:20221001T150000
DTSTAMP:20260424T034329
CREATED:20220922T124236Z
LAST-MODIFIED:20240201T112826Z
UID:10000277-1664636400-1664636400@events.iliauni.edu.ge
SUMMARY:ასტრონომიისა და ასტროფიზიკის შესახებ – ილიაუნის სამეცნიერო პიკნიკზე
DESCRIPTION:1-ელ ოქტომბერს\, 15:00-15:30 საათამდე\, ილიაუნის სამეცნიერო პიკნიკზე ბავშვებს უმასპინძლებს ასტრონომი\, პროფესორი გია ჯავახიშვილი\, რომელიც უამბობს ამბებს ასტრონომიასა და ასტროფიზიკაზე: \n\nასტრონომიისა და ასტროფიზიკის მოკლე ისტორიას;\nროგორ ზომავენ კოსმოსურ მანძილებს;\nზოგიერთი სახიფათო კოსმოსური მოვლენის შესახებ;\nციური სხეულების ევოლუციის\, საინტერესო ციური ობიექტებისა და მათზე დაკვირვების შესახებ;\nჯეიმს ვების კოსმოსურ ტელესკოპზე და რით სჯობია ის ჰაბლის ტელესკოპს.\n\nდრო: 1 ოქტომბერი\, 15:00-15:30 საათი \nსამუშაო ენა: ქართული \nადგილმდებარეობა: ალექსანდრე ქართველის სამკითხველო დარბაზი\, ქაქუცა ჩოლოყაშვილის გამზირი #3-5\, ილიაუნის ტექნოლოგიების კორპუსი\, T402 \n2022 წელი \n\n[wpai_display_imported_files_here]
URL:https://events.iliauni.edu.ge/event/astronomiisa-da-astrophizikis-shesakheb-iliaunis-sametsniero-piknikze/
CATEGORIES:ღონისძიებები
ATTACH;FMTTYPE=image/png:https://events.iliauni.edu.ge/wp-content/uploads/2022/09/68747.png
END:VEVENT
BEGIN:VEVENT
DTSTART;TZID=Asia/Dubai:20221001T152500
DTEND;TZID=Asia/Dubai:20221001T152500
DTSTAMP:20260424T034329
CREATED:20220927T112416Z
LAST-MODIFIED:20240201T112820Z
UID:10000270-1664637900-1664637900@events.iliauni.edu.ge
SUMMARY:1-2 ოქტომბერს გაიმართება DevOps Con Tbilisi 2022 ტექნოლოგიური კონფერენცია
DESCRIPTION:1-2 ოქტომბერს DevOps Con Tbilisi 2022 ტექნოლოგიურ კონფერენცია გაიმართება\, რომლის მთავარი აკადემიური პარტნიორია ილიას სახელმწიფო უნივერსიტეტი. DevOps Georgia-ს გუნდი მესამედ მართავს ამ ღონისძიებას. წელს მისი გენერალური სპონსორები არიან საქართველოს ბანკი და კომპანია Data Art. \nრა არის DevOps? \nDevOps IT პროექტების მართვისა და საბოლოო პროდუქტის ავტომატიზებულ მიწოდებაზე გათვლილი ტექნოლოგიებისა და მიდგომების ერთობლიობაა\, რომელიც დეველოპერებს საშუალებას აძლევს\, სწრაფად შექმნან და დახვეწონ სხვადასხვა აპლიკაცია. სწორედ DevOps ტექნოლოგიები აჩქარებს ყოველდღიურად ახალი პროგრამული უზრუნველყოფის შექმნას და უკვე არსებულს ხვეწს და ახალი ფუნქციონალით ამდიდრებს. \nრას გვთავაზობს DevOps Con Tbilisi 2022? \nკონფერენცია ქმნის ერთიან პლატფორმას\, რომელზეც IT სფეროს სპეციალისტებს ეძლევათ საუბრისა და DevOps\, IaC თუ SecOps მიმართულებით პრაქტიკული თუ თეორიული გამოცდილების სტუმრებისთვის გაზიარების საშუალება. \nDevOps Con Tbilisi 2022 აერთიანებს პროგრამული უზრუნველყოფის ინჟინრებს\, არქიტექტორებს\, ტესტერებს\, სისტემურ და ქსელის ადმინისტრატორებს\, ინფრასტრუქტურის მმართველებს\, სისტემურ ინტეგრატორებს\, კიბერ-უსაფრთხოების ოფიცრებს და\, ზოგადად\, ტექნოლოგიური სამყაროს წარმომადგენლებს\, რომლებიც პროგრამულ პროდუქტებს ქმნიან\, ნერგავენ და უზრუნველყოფენ შესაბამისი ინფრასტრუქტურის მდგრადობას. \nკონფერენციის ძირითადი თემებია: მიკროსერვისები\, პროგრამული უზრუნველყოფის ავტომატური დანერგვის პროცესების გამართვა\, მონიტორინგი და ანალიტიკა\, ღრუბლოვანი და ლოკალური ინფრასტრუქტურის მართვა\, როგორც კოდის\, DevOps დიდი მონაცემების სისტემებისთვის\, QA Automation და სხვა აქტუალური ტექნოლოგიური საკითხები. \n2022 წლის კონფერენციის ძირითადი მიზანია უკრაინელი ხალხისა და IT სფეროს პროფესიონალთა მხარდაჭერა მიმდინარე კონფლიქტში. \nკონფერენციაში მონაწილეობას მიიღებს უკრაინის ციფრული ტრანსფორმაციების სამინისტრო. \nკონფერენციაში მონაწილეობას მიიღებს უკრაინის ციფრული ტრანსფორმაციების სამინისტროს და პრეზიდენტ ზელენსკის მიერ წამოწყებული ფონდების მოზიდვის პლატფორმა UNITED24 \nწარმომადგენლები: \n\nევგენი გორბაჩოვი – პროდუქტის მთავარი ოფიცერი\, DIIA\, უკრაინის ციფრული ტრანსფორმაციის სამინისტრო\nიაროსლავა გრესი – პლატფორმის კოორდინატორი\, U24\n\nრა არის საჭირო კონფერენციაზე დასასწრებად? \nDevOps Con Tbilisi 2022-ზე დასწრება თავისუფალია და მასზე მოსახვედრად საჭიროა მარტივი სარეგისტრაციო ფორმის შევსება. სარეგისტრაციო ფორმა შეგიძლიათ იხილოთ კონფერენციის ვებგვერდზე. \nDevOps Con Tbilisi 2022 ტექნოლოგიურ კონფერენციას უმასპინძლებს Amazon Web Services აკადემიური პარტნიორი ილიას სახელმწიფო უნივერსიტეტი \nდამატებითი ინფორმაციისთვის: \nDevOps Con Tbilisi 2022-თან დაკავშირებული დეტალური ინფორმაცია\, მათ შორის კონფერენციის პროგრამა და ინფორმაცია მომხსენებლების შესახებ შეგიძლიათ იხილოთ ვებგვერდზე — https://devopscontbilisi.eu/ \n2022 წელი \n\n[wpai_display_imported_files_here]
URL:https://events.iliauni.edu.ge/event/1-2-oqtombers-gaimartheba-devops-con-tbilisi-2022-teqnologiuri-konpherentsia/
CATEGORIES:კონფერენციები
ATTACH;FMTTYPE=image/png:https://events.iliauni.edu.ge/wp-content/uploads/2022/09/68700.png
END:VEVENT
BEGIN:VEVENT
DTSTART;TZID=Asia/Dubai:20221001T153000
DTEND;TZID=Asia/Dubai:20221001T153000
DTSTAMP:20260424T034329
CREATED:20220922T125430Z
LAST-MODIFIED:20240201T113000Z
UID:10000314-1664638200-1664638200@events.iliauni.edu.ge
SUMMARY:ახლო კოსმოსისა და მზე-დედამიწის კავშირების შესახებ – ილიაუნის სამეცნიერო პიკნიკზე
DESCRIPTION:1-ელ ოქტომბერს\, 15:30-16:00 საათამდე\, ილიაუნის სამეცნიერო პიკნიკზე  უფროსკლასელებს უმასპინძლებს ილიაუნის ასოცირებული პროფესორი მაია თოდუა\, რომელიც მათ კოსმოსში მიმდინარე მოვლენის – კოსმოსური ამინდის შესახებ მოუყვება. \nახლო კოსმოსი დიდ გავლენას ახდენს დედამიწასა და მის ატმოსფეროზე. დღეს კაცობრიობის ცხოვრება წარმოუდგენელია კომუნიკაციების\, სანავიგაციო სისტემების\, დედამიწის თანამგზავრების გარეშე. მათი ფუნქციონირება კი დამოკიდებულია მზესა და ახლო კოსმოსში მიმდინარე მოვლენებზე\, რომლებიც ასევე მოქმედებენ ატმოსფერო-იონოსფეროზე\, რასაც კოსმოსურ ამინდს უწოდებენ. კოსმოსური ამინდი ძალზე ცვალებადია\, ამიტომ მნიშვნელოვანია მისი შესწავლა. ილიას სახელმწიფო უნივერსიტეტში მიმდინარეობს სამეცნიერო კვლევები ამ დარგში. ილიაუნი ერთადერთი უნივერსიტეტია საქართველოში\, რომელშიც ამ მიმართულების სასწავლო პროგრამები არსებობს. \nდრო: 1 ოქტომბერი\, 15:30-16:00 საათი \nსამუშაო ენა: ქართული \nადგილმდებარეობა: ალექსანდრე ქართველის სამკითხველო დარბაზი\, ქაქუცა ჩოლოყაშვილის გამზირი #3-5\, ილიაუნის ტექნოლოგიების კორპუსი\, T402 \n2022 წელი \n\n[wpai_display_imported_files_here]
URL:https://events.iliauni.edu.ge/event/akhlo-kosmosisa-da-mze-dedamitsis-kavshirebis-shesakheb-iliaunis-sametsniero-piknikze/
CATEGORIES:ღონისძიებები
ATTACH;FMTTYPE=image/png:https://events.iliauni.edu.ge/wp-content/uploads/2022/09/68749.png
END:VEVENT
BEGIN:VEVENT
DTSTART;TZID=Asia/Dubai:20221001T170000
DTEND;TZID=Asia/Dubai:20221001T170000
DTSTAMP:20260424T034329
CREATED:20220922T124718Z
LAST-MODIFIED:20240201T112816Z
UID:10000268-1664643600-1664643600@events.iliauni.edu.ge
SUMMARY:როგორ შევიმეცნებთ სამყაროს – ილიაუნის სამეცნიერო პიკნიკზე
DESCRIPTION:1-ელ ოქტომბერს\,17:00-17:30 საათამდე\, ილიაუნის სამეცნიერო პიკნიკზე ილიაუნის პროფესორი თინათინ კახნიაშვილი უფროსკლასელებს გრავიტაციული ტალღებით აღქმულ სამყაროს დაბადებაზე ესაუბრება. \nცივილიზაციის დასაბამიდან მსოფლმხედველობისთვის ერთ-ერთი უმნიშვნელოვანესი გამოწვევა იყო და არის შეკითხვა „როგორ წარმოიქმნა?“ \nდღევანდელი სამყარო თითქმის 14 მილიარდი წლისაა და ის\, რომ დღეს მეცნიერება გვთავაზობს მიდგომას\, როგორ შევიმეცნოთ ახლად დაბადებული სამყარო (წამის მემილიონედის ასაკის სამყარო)\, შეიძლება ფანტასტიკად მივიჩნიოთ. თუმცა ეს რეალობაა: 2015 წელს გრავიტაციული ტალღების აღმოჩენამ აქამდე უხილავს ფარდა ახადა და სრულიად ახალი უპრეცედენტო პერსპექტივები დასახა სამყაროს შესაცნობად. \nილიას სახელმწიფო უნივერსიტეტის მკვლევრები და მათი ამერიკელი კოლეგები უფროსკლასელებს გააცნობენ ლექციების ახალ კურსს თანამედროვე კოსმოლოგიის შესახებ – „საბუნებისმეტყველო მეცნიერებათა პოპულარიზაცია ზოგადსაგანმანათლებლო სკოლაში: შევიმეცნოთ ჩვენი სამყარო“. \nდრო: 1 ოქტომბერი\,17:00-17:30 საათი \nსამუშაო ენა: ქართული \nადგილმდებარეობა: ალექსანდრე ქართველის სამკითხველო დარბაზი\, ქაქუცა ჩოლოყაშვილის გამზირი #3-5\, ილიაუნის ტექნოლოგიების კორპუსი\, T402 \n2022 წელი \n\n[wpai_display_imported_files_here]
URL:https://events.iliauni.edu.ge/event/rogor-shevimetsnebth-samqharos-iliaunis-sametsniero-piknikze/
CATEGORIES:ღონისძიებები
ATTACH;FMTTYPE=image/png:https://events.iliauni.edu.ge/wp-content/uploads/2022/09/68748.png
END:VEVENT
END:VCALENDAR