BEGIN:VCALENDAR
VERSION:2.0
PRODID:-//უნივერსიტეტის ღონისძიებების პორტალი - ECPv6.2.8.2//NONSGML v1.0//EN
CALSCALE:GREGORIAN
METHOD:PUBLISH
X-ORIGINAL-URL:https://events.iliauni.edu.ge
X-WR-CALDESC:Events for უნივერსიტეტის ღონისძიებების პორტალი
REFRESH-INTERVAL;VALUE=DURATION:PT1H
X-Robots-Tag:noindex
X-PUBLISHED-TTL:PT1H
BEGIN:VTIMEZONE
TZID:Asia/Dubai
BEGIN:STANDARD
TZOFFSETFROM:+0400
TZOFFSETTO:+0400
TZNAME:+04
DTSTART:20230101T000000
END:STANDARD
END:VTIMEZONE
BEGIN:VEVENT
DTSTART;TZID=Asia/Dubai:20230707T120000
DTEND;TZID=Asia/Dubai:20230707T120000
DTSTAMP:20260422T145500
CREATED:20230706T055821Z
LAST-MODIFIED:20240201T111703Z
UID:10000033-1688731200-1688731200@events.iliauni.edu.ge
SUMMARY:IT დასაქმების ფორუმი ილიაუნის სტუდენტებისა და კურსდამთავრებულებისთვის
DESCRIPTION:ილიას სახელმწიფო უნივერსიტეტის ტექნოლოგიების სკოლის ორგანიზებით USAID-ის ეკონომიკური უსაფრთხოების პროგრამის „Training for Life (T4L) Industry-Led Workforce Development” მხარდაჭერით მიმდინარე პროექტის Advanced IT Trainings-ის ფარგლებში 7 ივლისს 12:00 საათიდან IT დასაქმების ფორუმი გაიმართება \nფორუმი სტუდენტებსა და კურსდამთავრებულებს საშუალებას მისცემს შეხვდნენ IT კომპანიების წარმომადგენლებს\, გაიგონ მათი სერვისების\, შეთავაზებების შესახებ\, გაეცნონ სტაჟირებისა და დასაქმების შესაძლებლობებს. \nფორუმზე მონაწილეობას მიიღებენ როგორც ტექნოლოგიის სკოლის საბაკალავრო და სამაგისტრო პროგრამების კურსდამთავრებულები და სტუდენტები\, ასევე USAID-ის ეკონომიკური უსაფრთხოების პროგრამის „Training for Life (T4L) Industry-Led Workforce Development” ფარგლებში განხორციელებული ტრენინგების Advanced IT Trainings კურსდამთავრებულები. \nდასაქმების ფორუმზე წარმოდგენილი იქნება Advanced IT Trainings-ის DevOps კურსის პროექტების პრეზენტაცია\, კომპიუტერული ინჟინერიის სტუდენტების ფინალური პროექტები\, მოეწყობა მათ მიერ შესულებული საინჟინრო და ტექნოლოგიური პროტოტიპების დემონსტრაცია. \nკომპანიებისთვის გამოყოფილი იქნება სივრცე\, სადაც დაინტერესებული პირები შეძლებენ გასაუბრებასა და სტაჟირების\, დასაქმების პროგრამებზე ინფორმაციის მიღებას. \nპროექტი “Advanced IT Trainings” 2021 წლის 10 ოქტომბრიდან დაიწყო და მის ფარგლებში უკვე 60-ზე მეტმა მონაწილემ გაიარა ინტენსიური კურსები DevOps მიმართულებით. \nIT დასაქმების ფორუმზე დასწრება შეუძლიათ ნებისმიერ დაინტერესებულ პირს\, ამისათვის საჭიროა გაიაროთ წინასწარი რეგისტრაცია\, რათა მიიღოთ დამატებითი ინფორმაცია. \nსარეგისტრაციო ფორმა: https://forms.gle/eztBkYMnHwXNkqUE7 \nUSAID ეკონომიკური უსაფრთხოების პროგრამა მიზნად ისახავს ქვეყანაში ისეთი სექტორების გაძლიერებას\, რომელთაც აქვთ დიდი პოტენციალი დასაქმების ბაზრის გაფართოების\, შემოსავლის ზრდისა და წარმატებული ეკონომიკური საქმიანობის დივერსიფიკაციის მიმართულებით. \nდრო: 7 ივლისი\, 12:00-17:00 საათი \nადგილმდებარეობა: ილიას სახელმწიფო უნივერსიტეტის G კორპუსი\, G106\, გ. წერეთლის ქუჩა N1 \nსამუშაო ენა: ქართული\, ინგლისური \nდამატებითი ინფორმაციისთვის დაგვიკავშირდით: \n\ndevops@iliauni.edu.ge\ntechschool@iliauni.edu.ge\n\n2023\n\n[wpai_display_imported_files_here]
URL:https://events.iliauni.edu.ge/event/it-dasaqmebis-phorumi-iliaunis-studentebisa-da-kursdamthavrebulebisthvis/
CATEGORIES:ღონისძიებები
ATTACH;FMTTYPE=image/png:https://events.iliauni.edu.ge/wp-content/uploads/2025/09/cover_default.png
END:VEVENT
END:VCALENDAR