BEGIN:VCALENDAR
VERSION:2.0
PRODID:-//უნივერსიტეტის ღონისძიებების პორტალი - ECPv6.2.8.2//NONSGML v1.0//EN
CALSCALE:GREGORIAN
METHOD:PUBLISH
X-WR-CALNAME:უნივერსიტეტის ღონისძიებების პორტალი
X-ORIGINAL-URL:https://events.iliauni.edu.ge
X-WR-CALDESC:Events for უნივერსიტეტის ღონისძიებების პორტალი
REFRESH-INTERVAL;VALUE=DURATION:PT1H
X-Robots-Tag:noindex
X-PUBLISHED-TTL:PT1H
BEGIN:VTIMEZONE
TZID:Asia/Dubai
BEGIN:STANDARD
TZOFFSETFROM:+0400
TZOFFSETTO:+0400
TZNAME:+04
DTSTART:20230101T000000
END:STANDARD
END:VTIMEZONE
BEGIN:VEVENT
DTSTART;TZID=Asia/Dubai:20230614T143200
DTEND;TZID=Asia/Dubai:20230614T143200
DTSTAMP:20260423T114500
CREATED:20230614T103252Z
LAST-MODIFIED:20240201T111819Z
UID:10000037-1686753120-1686753120@events.iliauni.edu.ge
SUMMARY:მარიამ მანჯიკაშვილისა და მარიამ მიქელაშვილის სადისერტაციო ნაშრომების დაცვა
DESCRIPTION:19 ივნისს\, 12:00 საათზე\, ილიას სახელმწიფო უნივერსიტეტის T102 საკონფერენციო დარბაზში ბიზნესის\, ტექნოლოგიისა და განათლების ფაკულტეტის ტექნოლოგიის სკოლის სადოქტორო პროგრამის მათემატიკის დოქტორანტები მარიამ მანჯიკაშვილი და მარიამ მიქელაშვილი დაიცავენ სადისერტაციო ნაშრომებს. \nმარიამ მანჯიკაშვილის სადისერტაციო ნაშრომის თემაა „ორწერტილოვანი ამოცანები მაღალი რიგის ჩვეულებრივი დიფერენციალური განტოლებებისათვის რეზონანსულ შემთხვევაში“. \nსამეცნიერო ხელმძღვანელი – სულხან მუხიგულაშვილი\, ილიას სახელმწიფო უნივერსიტეტის პროფესორი \nმარიამ მიქელაშვილის სადისერტაციო ნაშრომის თემაა „მარტივი და ორგვარი ფოროვნობის მქონე მასალების დრეკადობის და თერმოდრეკადობის ბმული კვაზისტატიკის თეორიის ამოცანები“. \nსამეცნიერო ხელმძღვანელი – მერაბ სვანაძე\, ილიას სახელმწიფო უნივერსიტეტის პროფესორი. \nსამუშაო ენა: ქართული \nდრო: 19 ივნისი\, 12:00 საათი \nადგილმდებარეობა: ილიას სახელმწიფო უნივერსიტეტი\, T102 საკონფერენციო დარბაზი\, ქ. ჩოლოყაშვილის გამზ. N3/5 \nდასწრება თავისუფალია. \n2023 \n  \n\n[wpai_display_imported_files_here]
URL:https://events.iliauni.edu.ge/event/mariam-manjikashvilisa-da-mariam-miqelashvilis-sadisertatsio-nashromebis-datsva/
CATEGORIES:ღონისძიებები
ATTACH;FMTTYPE=image/png:https://events.iliauni.edu.ge/wp-content/uploads/2023/06/77341.png
END:VEVENT
BEGIN:VEVENT
DTSTART;TZID=Asia/Dubai:20230614T190000
DTEND;TZID=Asia/Dubai:20230614T190000
DTSTAMP:20260423T114500
CREATED:20230607T123023Z
LAST-MODIFIED:20240201T111838Z
UID:10000036-1686769200-1686769200@events.iliauni.edu.ge
SUMMARY:სამაგიდო თამაშების საღამო ილიაუნის სტუდენტებისთვის - Board Game Night for Iliauni students
DESCRIPTION:For English scroll down \nილიას სახელმწიფო უნივერსიტეტის ტექნოლოგიური მეწარმეობისა და ინოვაციების განვითარების ცენტრის და ილიაუნის Startup Grind-ის სტუდენტური წარმომადგენლობის ორგანიზებით 14 ივნისს\, 19:00 საათზე\, გაიმართება სამაგიდო თამაშების საღამო – Board Game Night. \nთუ ხარ ილიაუნის სტუდენტი და გსურს\, მხიარულად გაატარო ზაფხულის საღამო მეგობრებთან ერთად\, ითამაშო სამაგიდო თამაშები და შეიძინო ახალი მეგობრები\, მაშინ Board Game Night შენთვისაა. \nღონისძიებაზე საერთაშორისო და ადგილობრივ სტუდენტებს საშუალება ექნებათ ითამაშონ CATAN\, UNO და AVALON\, თან მეგობრები შეიძინონ. \nშეგახსენებთ\, რომ Startup Grind საერთაშორისო ორგანიზაციაა\, რომლის წარმომადგენლობაც საქართველოს საუნივერსიტეტო მასშტაბით 2023 წელს პირველად ილიას სახელმწიფო უნივერსიტეტში გაიხსნა. \nStartup Grind-ის საუნივერსიტეტო წარმომადგენლობის მიზანია შექმნას საზოგადოება\, რომელიც ხელს შეუწყობს საქართველოს სამეწარმეო პოტენციალის წარმოჩენას საერთაშორისო ასპარეზზე. \nსამაგიდო თამაშების საღამო გაიმართება ილიას სახელმწიფო უნივერსიტეტის T კორპუსის სტუდენტურ სივრცეში\, პირველ სართულზე. \nროგორ მივიღო მონაწილეობა? \nშეავსეთ მარტივი სააპლიკაციო ფორმა 13 ივნისს\, დღის ბოლომდე: \nსარეგისტრაციო ფორმა: https://forms.gle/N4bmWLurGZpXoFMq5 \nდრო: 14 ივნისი\, 19:00 საათი \nადგილმდებარეობა: T კორპუსი\, სტუდენტური სივრცე\, 1-ელი სართული \n2023 \n\n[wpai_display_imported_files_here]
URL:https://events.iliauni.edu.ge/event/samagido-thamashebis-saghamo-iliaunis-studentebisthvis-board-game-night-for-iliauni-students/
CATEGORIES:ღონისძიებები
ATTACH;FMTTYPE=image/png:https://events.iliauni.edu.ge/wp-content/uploads/2023/06/77004.png
END:VEVENT
END:VCALENDAR