BEGIN:VCALENDAR
VERSION:2.0
PRODID:-//უნივერსიტეტის ღონისძიებების პორტალი - ECPv6.2.8.2//NONSGML v1.0//EN
CALSCALE:GREGORIAN
METHOD:PUBLISH
X-ORIGINAL-URL:https://events.iliauni.edu.ge
X-WR-CALDESC:Events for უნივერსიტეტის ღონისძიებების პორტალი
REFRESH-INTERVAL;VALUE=DURATION:PT1H
X-Robots-Tag:noindex
X-PUBLISHED-TTL:PT1H
BEGIN:VTIMEZONE
TZID:Asia/Dubai
BEGIN:STANDARD
TZOFFSETFROM:+0400
TZOFFSETTO:+0400
TZNAME:+04
DTSTART:20230101T000000
END:STANDARD
END:VTIMEZONE
BEGIN:VEVENT
DTSTART;TZID=Asia/Dubai:20230525T140000
DTEND;TZID=Asia/Dubai:20230525T140000
DTSTAMP:20260423T030121
CREATED:20230523T093949Z
LAST-MODIFIED:20240201T111911Z
UID:10000057-1685023200-1685023200@events.iliauni.edu.ge
SUMMARY:„ფულის მასის შექმნის პროცესი რეალურ სამყაროში“ – შალვა მხატრიშვილის საჯარო ლექცია
DESCRIPTION:25 მაისს\, 14:00 საათზე\, ილიას სახელმწიფო უნივერსიტეტის E406 აუდიტორიაში გაიმართება მაკროეკონომიკისა და სტატისტიკის დეპარტამენტის უფროსის\, ეკონომისტ შალვა მხატრიშვილის საჯარო ლექცია „ფულის მასის შექმნის პროცესი რეალურ სამყაროში“. \nმომხსენებელი შეეხება ფულის მასის შექმნის პროცესს: როგორ იქმნება ფულის მასა და ვინ ქმნის მას? რეალურად რა როლი აკისრია ეროვნულ ბანკს მისი შექმნის პროცესში? რა ქმნის ფულის მასაზე მოთხოვნას ან არის თუ არა კავშირი ფულის მასასა და ინფლაციას შორის? \nმომხსენებლის შესახებ \nშალვა მხატრიშვილი მაკროეკონომიკისა და სტატისტიკის დეპარტამენტის უფროსია\, 2013 წლიდან – ეროვნული ბანკის გუნდის წევრი. პროფესიით ეკონომისტია\, დამთავრებული აქვს თბილისის სახელმწიფო უნივერსიტეტი. ფლობს Humboldt-Universität zu Berlin-ის ეკონომიკურ მეცნიერებათა მაგისტრის ხარისხს\, არის Vrije Universiteit Amsterdam-ის ეკონომიკურ მეცნიერებათა დოქტორის კანდიდატი. მისი ხელმძღვანელობით ეროვნულ ბანკში არაერთი მნიშვნელოვანი პროექტი განხორციელდა\, მათ შორის განახლდა პროგნოზირებისა და მონეტარული პოლიტიკის ანალიზის სისტემა (FPAS)\, ასევე მონეტარული პოლიტიკის ანგარიში და დაიწყო კვლევითი ნაშრომების სერიის გამოქვეყნება. იგი International Monetary Fund-ის ტექნიკური მრჩეველია. \nსამუშაო ენა: ქართული \nდრო: 25 მაისი\, 14:00 საათი \nადგილმდებარეობა: ილიას სახელმწიფო უნივერსიტეტის  E 406 აუდიტორია\, ქ. ჩოლოყაშვილის გამზ. N3/5 \nდასწრება თავისუფალია. \n2023 წელი \n  \n  \n\n[wpai_display_imported_files_here]
URL:https://events.iliauni.edu.ge/event/phulis-masis-sheqmnis-protsesi-realur-samqharoshi-shalva-mkhatrishvilis-sajaro-leqtsia/
CATEGORIES:ღონისძიებები
ATTACH;FMTTYPE=image/png:https://events.iliauni.edu.ge/wp-content/uploads/2023/05/76305.png
END:VEVENT
BEGIN:VEVENT
DTSTART;TZID=Asia/Dubai:20230525T160000
DTEND;TZID=Asia/Dubai:20230525T160000
DTSTAMP:20260423T030121
CREATED:20230517T092941Z
LAST-MODIFIED:20241122T110930Z
UID:10000055-1685030400-1685030400@events.iliauni.edu.ge
SUMMARY:საჯარო ლექცია-დისკუსია თემაზე „ევროკავშირი და მისი სამეზობლო“
DESCRIPTION:25 მაისს\, 16:00 საათზე\, ილიას სახელმწიფო უნივერსიტეტის წიგნის სახლში „ლიგამუსი“  Erasmus + Jean Monnet Networks-ის პროექტის „ევროპასთან დაკავშირება პერიფერიაში“ (Linking to ‘Europe’ at the periphery) ფარგლებში გაიმართება შუა აღმოსავლეთის ტექნიკური უნივერსიტეტისა (თურქეთი) და პოლიტიკის მეცნიერებისა და საჯარო ადმინისტრირების ეროვნული უნივერსიტეტის (რუმინეთი) პროფესორების ბაშაკ ზეინეფ ალფანისა და მირუნა ბუტნარუ-ტრონკოტას საჯარო ლექცია-დისკუსია. მომხსენებლები ისაუბრებენ თურქეთ-ევროკავშირის ურთიერთობებსა და ევროპეიზაციის გამოწვევებზე ცენტრალური და აღმოსავლეთ ევროპის ქვეყნებში. \nპროფესორი ბაშაკ ზეინეფ ალფანი ისაუბრებს თურქეთის მიგრაციულ კრიზისსა და პოლიტიკურ ელიტაში საზღვრებთან დაკავშირებულ ნარატივებსა და პრაქტიკაზე\, ყურადღებას გაამახვილებს საზღვრების უსაფრთხოების საკითხის მიმართ ევროკავშირის მიდგომასა და ამ თვალსაზრისით თურქეთისადმი ამ უკანასკნელის დამოკიდებულებაზე. \nპროფესორი მირუნა ბუტნარუ-ტრონკოტა ისაუბრებს ევროკავშირის მიდგომაზე ახალი ქვეყნების გაწევრების მიმართ\, მათთვის წაყენებულ პირობებსა და პოსტკომუნისტურ ქვეყნებში წინა დიდი გაფართოებების (2004 და 2007 წლები) შედეგად ნასწავლ გაკვეთილებზე\, ასევე შეეხება ცენტრალური და აღმოსავლეთ ევროპის ქვეყნებში დემოკრატიის უკუსვლის თემას და ისაუბრებს\, რა გავლენა აქვს ამ პროცესს ევროკავშირის დამოკიდებულებაზე წევრობის ამჟამინდელ კანდიდატთა მიმართ. \nლექციას მოდერაციას გაუწევენ მეცნიერებათა და ხელოვნების ფაკულტეტის პროფესორები გიორგი გვალია და დავით აფრასიძე. \nსამუშაო ენა: ინგლისური \nდრო: 25 მაისი\, 16:00 საათი \nადგილმდებარეობა: წიგნის სახლი „ლიგამუსი“\, ილიას სახელმწიფო უნივერსიტეტი (ი. ჭავჭავაძის გამზ. N32). \nდასწრება თავისუფალია. \nღონისძიების დღის წესრიგი შეგიძლიათ იხილოთ აქ. \n2023 წელი \n\n[wpai_display_imported_files_here]
URL:https://events.iliauni.edu.ge/event/sajaro-leqtsia-diskusia-themaze-evrokavshiri-da-misi-samezoblo/
CATEGORIES:ღონისძიებები
ATTACH;FMTTYPE=image/png:https://events.iliauni.edu.ge/wp-content/uploads/2023/05/76216.png
END:VEVENT
END:VCALENDAR