BEGIN:VCALENDAR
VERSION:2.0
PRODID:-//უნივერსიტეტის ღონისძიებების პორტალი - ECPv6.2.8.2//NONSGML v1.0//EN
CALSCALE:GREGORIAN
METHOD:PUBLISH
X-WR-CALNAME:უნივერსიტეტის ღონისძიებების პორტალი
X-ORIGINAL-URL:https://events.iliauni.edu.ge
X-WR-CALDESC:Events for უნივერსიტეტის ღონისძიებების პორტალი
REFRESH-INTERVAL;VALUE=DURATION:PT1H
X-Robots-Tag:noindex
X-PUBLISHED-TTL:PT1H
BEGIN:VTIMEZONE
TZID:Asia/Dubai
BEGIN:STANDARD
TZOFFSETFROM:+0400
TZOFFSETTO:+0400
TZNAME:+04
DTSTART:20230101T000000
END:STANDARD
END:VTIMEZONE
BEGIN:VEVENT
DTSTART;TZID=Asia/Dubai:20230430T110000
DTEND;TZID=Asia/Dubai:20230430T110000
DTSTAMP:20260423T094536
CREATED:20230412T110331Z
LAST-MODIFIED:20240201T112118Z
UID:10000090-1682852400-1682852400@events.iliauni.edu.ge
SUMMARY:განათლების სკოლისა და პიროვნული და პროფესიული განვითარების ცენტრის მასტერკლასები სკოლის მასწავლებლებისთვის
DESCRIPTION:ილიას სახელმწიფო უნივერსიტეტის განათლების სკოლა და პიროვნული და პროფესიული განვითარების ცენტრი 30 აპრილს\, 11:00-დან 15:00 საათამდე\, ილიაუნის T კორპუსში სკოლის მასწავლებლებისა და ლიდერებისთვის გამართავენ მასტერკლასებს. \n\nსკოლის ბაზაზე მასწავლებელთა პროფესიული განვითარების შესაძლებლობები \nმოკლე აღწერა:  \nმასტერკლასის მონაწილეები გაეცნობიან სკოლის ბაზაზე მასწავლებელთა პროფესიული განვითარების ფორმებს (ქოუჩინგი\, სასწავლო ჯგუფები\, კრიტიკული მეგობარი\, გაკვეთილის შესწავლა\, მენტორინგი) და მათი გამოყენების შესაძლებლობებს სკოლის კონტექსტის გათვალისწინებით\, იმსჯელებენ სკოლის ბაზაზე მასწავლებელთა პროფესიული განვითარების სისტემის დანერგვის მნიშვნელობაზე სკოლაში სასწავლო პროცესის ხარისხის უზრუნველყოფის საქმეში. \nსამიზნე ჯგუფი: ზოგადსაგანმანათლებლო სკოლის მასწავლებლები და სკოლის ლიდერები \nხელმძღვანელები: განათლების სკოლის ხელმძღვანელი\, პროფესორი სოფიკო ლობჟანიძე\, მოწვეული ლექტორი მარიკა კირვალიძე \nსარეგისტრაციო ბმული: https://bit.ly/3MFktJE \nდრო: 30 აპრილი\, 11:00-15:00 საათი \nადგილმდებარეობა: ილიას სახელმწიფო უნივერსიტეტის T102 კორპუსი\, ქ. ჩოლოყაშვილის გამზ. N3/5 \n\nმასტერკლასი: კურიკულუმის დაგეგმვისა და განვითარების ძირითადი პრინციპები \nმოკლე აღწერა: მასტერკლასზე განხილული იქნება თანამედროვე სტანდარტებისა და მოთხოვნების შესაბამისი თემატური ერთეულის შექმნისას გასათვალისწინებელი კრიტერიუმები და კურიკულუმის განვითარების პროცესში გამოსაყენებელი მიდგომები და ინსტრუმენტები. \nსამიზნე ჯგუფი: ზოგადსაგანმანათლებლო სკოლის მასწავლებლები და სკოლის ლიდერები \nხელმძღვანელი – მოწვეული ლექტორი ვიქტორია უშანგიშვილი \nსარეგისტრაციო ბმული: https://bit.ly/3mD3Xim \nდრო: 30 აპრილი\, 11:00-15:00 საათი \nადგილმდებარეობა: ილიას სახელმწიფო უნივერსიტეტის T102 კორპუსი\, ქ. ჩოლოყაშვილის გამზ. N3/5 \n\nმასტერკლასი: რეფლექსიის როლი მოსწავლის თვითშეფასების უნარის განვითარებაში \nმოკლე აღწერა: შეხვედრაზე განხილული იქნება სტრატეგიები\, რომლებიც დაეხმარება მოსწავლეს რეფლექსიის გზითსწავლის პროცესის გაცნობიერებაში\, ძლიერ მხარეთა იდენტიფიცირებასა და გასაუმჯობესებელ მხარეთა დაძლევის გზების მოძებნაში. \nსამიზნე ჯგუფი: ზოგადსაგანმანათლებლო სკოლის მასწავლებლები \nხელმძღვანელი – ასოცირებული პროფესორი ეკა ტყავაშვილი \nსარეგისტრაციო ფორმა: https://bit.ly/3ZYuFje \nდრო: 30 აპრილი\, 11:00-15:00 საათი \nადგილმდებარეობა: ილიას სახელმწიფო უნივერსიტეტის T102 კორპუსი\, ქ. ჩოლოყაშვილის გამზ. N3/5 \n\nმასტერკლასი: ინტერდისციპლინური მიდგომების გამოყენება სწავლებისას \nმოკლე აღწერა: შეხვედრაზე განხილული იქნება სწავლებაში ინტერდისციპლინური მიდგომების არსი\, მისი სიკეთე მოსწავლეებში ჰოლისტური აზროვნების განვითარებისთვის და გამოყენების კონკრეტული მაგალითები. \nსამიზნე ჯგუფი: ზოგადსაგანმანათლებლო სკოლის მასწავლებლები \nხელმძღვანელები: ასოცირებული პროფესორი ნინო ჭიაბრიშვილი\, პროფესორი დავით მალაზონია \nსარეგისტრაციო ბმული: https://bit.ly/403r2Zd \nდრო: 30 აპრილი\, 11:00-15:00 საათი \nადგილმდებარეობა: ილიას სახელმწიფო უნივერსიტეტის T102 კორპუსი\, ქ. ჩოლოყაშვილის გამზ. N3/5 \n\nმასტერკლასი: კითხვის დასმის ეფექტური სტრატეგიები \nმოკლე აღწერა: მასტერკლასზე მიმოვიხილავთ კითხვის დასმის სტრატეგიებს\, ერთ-ერთ ხშირად გამოყენებულ მეთოდს ნებისმიერი საგნის სწავლებისას\, ასევე ეფექტურად როგორ დავსვათ შეკითხვა \, როგორ ვუზრუნველყოთ\, რომ არც ერთი მოსწავლე არ დარჩეს სასწავლო პროცესის მიღმა\, როგორ შეიძლება შევცვალოთ გაბატონებული მოსაზრება\, რომ ყველა კითხვაზე არსებობს „სწორი“ და „არასწორი“ პასუხები; გამოვიკვლევთ\, რომელია „კარგი კითხვა“. მასწავლებლები გაეცნობიან ფოკუსირებულ დაკვირვების რუბრიკასაც\, თუ როგორ იყენებენ კითხვის დასმის სტრატეგიებს\, რაც სკოლაში თანამშრომლობით კულტურას\, სკოლის ბაზაზე პროფესიულ განვითარებას შეუწყობს ხელს. \nსამიზნე ჯგუფი: ზოგადსაგანმანათლებლო სკოლის მასწავლებლები \n ხელმძღვანელი – ასოცირებული პროფესორი მანანა რატიანი \nსარეგისტრაციო ბმული: https://bit.ly/3mqGtx8 \nდრო: 30 აპრილი\, 11:00-15:00 საათი \nადგილმდებარეობა: ილიას სახელმწიფო უნივერსიტეტის T102 კორპუსი\, ქ. ჩოლოყაშვილის გამზ. N3/5 \n\nმასტერკლასი: კვლევის კომპონენტი გერმანული ენის სწავლებისას \nმოკლე აღწერა: სასწავლო პროცესის წარმატებისა და ეფექტურობის შეფასება მასწავლებელს აძლევს საშუალებას\, უკეთესად გაიცნოს და დახვეწოს თავისი სასწავლო პროცესი\, რომლის კვლევაც დღეს მასწავლებლის საქმიანობის მნიშვნელოვან ნაწილს წარმოადგენს და არახალია. შეხვედრაზე ვიმსჯელებთ მასწავლებლის მიერ სასწავლო პროცესის კვლევასთან დაკავშირებულ რიგ საკითხებზე. \nსამიზნე ჯგუფი: ზოგადსაგანმანათლებლო სკოლების გერმანული ენის მასწავლებლები \nხელმძღვანელი – პროფესორი ეკა შავერდაშვილი \nსარეგისტრაციო ბმული: https://bit.ly/3MEOp8H \nდრო: 30 აპრილი\, 11:00-15:00 საათი \nადგილმდებარეობა: ილიას სახელმწიფო უნივერსიტეტის T102 კორპუსი\, ქ. ჩოლოყაშვილის გამზ. N3/5 \n\nმასტერკლასი: ქართულის\, როგორც მეორე ენის\, სწავლების სპეციფიკა ქართულენოვან გარემოში \nმოკლე აღწერა: შეხვედრაზე მოკლედ იქნება მიმოხილული არაქართულენოვან და ქართულენოვან გარემოში ენის ბარიერები და განსხვავებული საჭიროებები; მეორე ენის სწავლების სპეციფიკა – ენობრივი უნარ-ჩვევებისა და გრამატიკა-ლექსიკის ინტეგრირებულად სწავლება; ენის ათვისების თავისებურებები საგნობრივ შინაარსთა ათვისების პარალელურად ბუნებისმეტყველების მასალის მაგალითზე. \nსამიზნე ჯგუფი: არაქართულენოვანი ზოგადსაგანმანათლებლო სკოლების ქართულის\, როგორც მეორე ენის\, მასწავლებლებისა და ბუნებისმეტყველებისა და ქართულის\, როგორც მეორე ენის\, ინტეგრირებულად სწავლებაში ჩართული დაწყებითი კლასების მასწავლებლებისთვის \n ხელმძღვანელი – ასისტენტ-პროფესორი თინათინ კიღურაძე \nსარეგისტრაციო ბმული: https://bit.ly/41qWPo4 \nდრო: 30 აპრილი\, 11:00-15:00 საათი \nადგილმდებარეობა: ილიას სახელმწიფო უნივერსიტეტის T102 კორპუსი\, ქ. ჩოლოყაშვილის გამზ. N3/5 \n\n\nრეგისტრაცია დასრულდება 26 აპრილს.\nდარეგისტრირება შეგიძლიათ მხოლოდ ერთ მასტერკლასზე.\n\n2023 წელი\n\n[wpai_display_imported_files_here]
URL:https://events.iliauni.edu.ge/event/ganathlebis-skolisa-da-pirovnuli-da-prophesiuli-ganvitharebis-tsentris-masterklasebi-skolis-mastsavleblebisthvis/
CATEGORIES:ღონისძიებები
ATTACH;FMTTYPE=image/png:https://events.iliauni.edu.ge/wp-content/uploads/2023/04/75579.png
END:VEVENT
END:VCALENDAR