BEGIN:VCALENDAR
VERSION:2.0
PRODID:-//უნივერსიტეტის ღონისძიებების პორტალი - ECPv6.2.8.2//NONSGML v1.0//EN
CALSCALE:GREGORIAN
METHOD:PUBLISH
X-WR-CALNAME:უნივერსიტეტის ღონისძიებების პორტალი
X-ORIGINAL-URL:https://events.iliauni.edu.ge
X-WR-CALDESC:Events for უნივერსიტეტის ღონისძიებების პორტალი
REFRESH-INTERVAL;VALUE=DURATION:PT1H
X-Robots-Tag:noindex
X-PUBLISHED-TTL:PT1H
BEGIN:VTIMEZONE
TZID:Asia/Dubai
BEGIN:STANDARD
TZOFFSETFROM:+0400
TZOFFSETTO:+0400
TZNAME:+04
DTSTART:20230101T000000
END:STANDARD
END:VTIMEZONE
BEGIN:VEVENT
DTSTART;TZID=Asia/Dubai:20230429T200000
DTEND;TZID=Asia/Dubai:20230429T200000
DTSTAMP:20260423T094537
CREATED:20230404T115100Z
LAST-MODIFIED:20240201T112110Z
UID:10000088-1682798400-1682798400@events.iliauni.edu.ge
SUMMARY:სპექტაკლი „ჩარლის დეიდა"
DESCRIPTION:კომედია 1 მოქმედებად \nჩახლართული და აბსურდული სიტუაციებით სავსე კომედია\, სადაც ახალგაზრდა ბიჭები სიყვარულის მოსაპოვებლად ათასგვარ ტყუილს ხლართავენ; სადაც ახალგაზრდა ბიჭი შეიძლება უცბად ქალბატონ როზად გადაიქცეს; ქალბატონ როზად გადაცმული ახალგაზრდა ბიჭი შეიძლება პოლკოვნიკს შეუყვარდეს\, ხოლო პოლკოვნიკს სტუმრად მისი პირველი სიყვარული\, დონა როზა ეწვიოს\, რომელიც თურმე პოლკოვნიკის შვილის მეგობრის დეიდაა\, სწორედ ის დეიდა\, რომლის ტანსაცმელშიც გამოწყობილა მისი შვილის მეგობარი ახალგაზრდა ბიჭი\, რომელიც თავის მეგობრებს სიყვარულის მოპოვებაში ეხმარება… \n\nრეჟისორი: კახა გოგიძე\nაღდგენის რეჟისორი: ანდრია ვაჭრიძე\nმხატვარი:ანუკა მურვანიძე\nკოსტუმების მხატვარი: ციცი ციცხვაია\nმუსიკალური გაფორმება: არსენ მიგრიაული\nქორეოგრაფი: სოფო გვრიტიშვილი\nტექნიკური რეჟისორი: ნათია სამადაშვილი\n\nმოქმედი პირნი და შემსრულებელნი: \n\nფრენსის ჩესნი\, პოლკოვნიკი – ზუკა გაბუნია\, ლუკა ახალაძე\nჯეკი ჩესნი\, მისი ვაჟი – გიორგი შავგულიძე\nჩარლი უიკემი – დავით დავითულიანი\nბაბს ბაბერლი –ანდრია ვაჭრიძე\nკრიგსი\, მოსამართლე – დავით ველიჯანაშვილი\, პაატა კიკვაძე\nენი\, მისი ძმისწული – ნათია კვაშალი\, მარიამ ნადირაძე\, ნუკა ქევხიშვილი\nბეტი\, მისი აღზრდილი – მარიტა ჯანაშია\nდონა როზა დალვადორეს\, ჩარლის დეიდა – მაკა შალიკაშვილი\nელა დელეი\, მისი აღზრდილი – ანი თალაკვაძე\, მარიამ ხუხუნაშვილი\nბრასეტი\, მსახური – ნიკუშა გოგიძე\, გაგა არაბული\n\nსპექტაკლი დაიდგა თბილისის მერიის კულტურული ღონისძიებების ცენტრის ფინანსური ხელშეწყობით \nსპექტაკლის ხანგრძლივობა – 1 საათი და 30 წუთი ანტრაქტის გარეშე \nპრემიერა შედგა 2016 წლის 27 მაისს \n\nიხილეთ ფოტო გალერეა\nიხილეთ ვიდეო\n\n\nდრო: 29 აპრილი\, 20:00 საათი \nხანგრძლივობა:  1 საათი და 30 წუთი \nადგილმდებარეობა: ილიას სახელმწიფო უნივერსიტეტის თეატრი\, ილია ჭავჭავაძის გამზირი N32 (უკანა ეზო) \n2023 წელი \n\n\n[wpai_display_imported_files_here]
URL:https://events.iliauni.edu.ge/event/speqtakli-charlis-deida/
CATEGORIES:ღონისძიებები
ATTACH;FMTTYPE=image/png:https://events.iliauni.edu.ge/wp-content/uploads/2023/04/74817.png
END:VEVENT
END:VCALENDAR