BEGIN:VCALENDAR
VERSION:2.0
PRODID:-//უნივერსიტეტის ღონისძიებების პორტალი - ECPv6.2.8.2//NONSGML v1.0//EN
CALSCALE:GREGORIAN
METHOD:PUBLISH
X-ORIGINAL-URL:https://events.iliauni.edu.ge
X-WR-CALDESC:Events for უნივერსიტეტის ღონისძიებების პორტალი
REFRESH-INTERVAL;VALUE=DURATION:PT1H
X-Robots-Tag:noindex
X-PUBLISHED-TTL:PT1H
BEGIN:VTIMEZONE
TZID:Asia/Dubai
BEGIN:STANDARD
TZOFFSETFROM:+0400
TZOFFSETTO:+0400
TZNAME:+04
DTSTART:20230101T000000
END:STANDARD
END:VTIMEZONE
BEGIN:VEVENT
DTSTART;TZID=Asia/Dubai:20230428T200000
DTEND;TZID=Asia/Dubai:20230428T200000
DTSTAMP:20260423T070429
CREATED:20230404T111100Z
LAST-MODIFIED:20240201T112146Z
UID:10000091-1682712000-1682712000@events.iliauni.edu.ge
SUMMARY:სპექტაკლი „ძალად ექიმი“
DESCRIPTION:კომედია 1 მოქმედებად \nკომედია მოგვითხრობს თუ როგორ ჩათვალა მთელმა სამყარომ\, რომ მთავარი გმირი\, უმაქნისი ლოთი სგანარელი ცნობილი ექიმია\, რომელსაც ყველა დაავადების განკურნება ძალუძს. „პაციენტები“ გულუბრყვილოდ სთავაზობენ სგანარელს უზრმაზარ თანხებს მის სასწაულმოქმედ წამალში\, რომელიც სინამდვილეში\, რა თქმა უნდა\, არ არსებობს. მოხერხებული სგანარელი სწრაფად მდიდრდება\, თუმცა არც კეთილი საქმის გაკეთება ავიწყდება და ყველაზე სერიოზული „ავადმყოფების“\, შეყვარებული წყვილის\, „განკურნებასაც“ ახერხებს. \n\nთარგმანი: ქეთი კვანტალიანი\nრეჟისორი: კოკო როინიშვილი\nმხატვარი: ბარბარე ასლამაზი\nმუსიკალური გაფორმება: ზურაბ გაგლოშვილი\nქორეოგრაფი: თინათინ წულაძე\nტექნიკური რეჟისორი: თამუნა კამლაძე\n\nმოქმედი პირნი და შემსრულებელნი: \n\nსგანარელ – ირაკლი ჩხიკვაძე\nმარტინ – ანი იმნაძე\nლუკა – ნოდარ ძოწენიძე\nჟერონტ – ანდრია ვაჭრიძე\nჟაკლინ – ანიკო შურღაია\nლუსინდ – ანკა ვასაძე\nლეანდრ – გიორგი კიკნაძე\n\nსპექტაკლში ჟღერს მუსიკა: \nRaphael – Balada De La Trompeta\nRaphael Beau – Ca Deroule\nRoque Banos – Circus Freaks\, Love at Park\,  Hidding In The Forest\, Titles\nll piccolo circo\nStephen Trask – The Show\nCirque Du Soleil – Wedding\nA. Zanzotto & Nin0 Rotta – Canto della Buranella \nსპექტაკლის პრემიერა შედგა 2022 წლის 3 ნოემბერს \nსპექტაკლის ხანგრძლივობაა 1 საათი და 30 წუთი \nსპექტაკლი დაიდგა თბილისის მერიის ფინანსური ხელშეწყობით \n\nიხილეთ ფოტო გალერეა\nიხილეთ ვიდეო\n\n\nდრო: 28 აპრილი\, 20:00 საათი \nხანგრძლივობა:  1 საათი და 30 წუთი \nადგილმდებარეობა: ილიას სახელმწიფო უნივერსიტეტის თეატრი\, ილია ჭავჭავაძის გამზირი N32 (უკანა ეზო) \n2023 წელი \n\n\n[wpai_display_imported_files_here]
URL:https://events.iliauni.edu.ge/event/speqtakli-dzalad-eqimi-5/
CATEGORIES:ღონისძიებები
ATTACH;FMTTYPE=image/png:https://events.iliauni.edu.ge/wp-content/uploads/2023/04/74810.png
END:VEVENT
END:VCALENDAR