BEGIN:VCALENDAR
VERSION:2.0
PRODID:-//უნივერსიტეტის ღონისძიებების პორტალი - ECPv6.2.8.2//NONSGML v1.0//EN
CALSCALE:GREGORIAN
METHOD:PUBLISH
X-WR-CALNAME:უნივერსიტეტის ღონისძიებების პორტალი
X-ORIGINAL-URL:https://events.iliauni.edu.ge
X-WR-CALDESC:Events for უნივერსიტეტის ღონისძიებების პორტალი
REFRESH-INTERVAL;VALUE=DURATION:PT1H
X-Robots-Tag:noindex
X-PUBLISHED-TTL:PT1H
BEGIN:VTIMEZONE
TZID:Asia/Dubai
BEGIN:STANDARD
TZOFFSETFROM:+0400
TZOFFSETTO:+0400
TZNAME:+04
DTSTART:20230101T000000
END:STANDARD
END:VTIMEZONE
BEGIN:VEVENT
DTSTART;TZID=Asia/Dubai:20230425T190000
DTEND;TZID=Asia/Dubai:20230425T190000
DTSTAMP:20260423T095042
CREATED:20230421T173757Z
LAST-MODIFIED:20240202T085328Z
UID:10004828-1682449200-1682449200@events.iliauni.edu.ge
SUMMARY:პროფესორ შუქია აფრიდონიძის წიგნის პრეზენტაცია
DESCRIPTION:25 აპრილს\, 19:00 საათზე ილიას სახელმწიფო უნივერსიტეტის წიგნის სახლში „ლიგამუსი“ გაიმართება პროფესორ შუქია აფრიდონიძის წიგნის პრეზენტაცია: მიმართვის ფორმები ახალ ქართულში. სტრუქტურა და ფუნქციონირება. \nამ ნაშრომით ილიას სახელმწიფო უნივერსიტეტი იწყებს ახალი საერთაშორისო რეფერირებადი სერიის გამოცემას სახელწოდებით: ქართველოლოგიური ბიბლიოთეკა. \nგამოცემის შესახებ \nამ მონოგრაფიით ავტორმა\, ილიას სახელმწიფო უნივერსიტეტის ემერეტუს-პროფესორმა შუქია აფრიდონიძემ უდიდესი წვლილი შეიტანა ქართული ენის მეცნიერული აღწერისა და სწავლების\, ასევე ქართულ და უცხოურ საგანმანათლებლო სივრცეში ქართული ენის პოპულარიზაციის საქმეში; წლების განმავლობაში იგი იკვლევდა საქართველოს ტოპონიმიის\, ლექსიკოლოგიის\, ლექსიკოგრაფიისა და ქართული ენის სტილისტიკის უმნიშვნელოვანეს საკითხებს\, არის არაერთი განმარტებითი და ორენოვანი ლექსიკონის შემდგენელი. \nავტორის შესახებ \nშუქია აფრიდონიძემ აღზარდა ქართველ და უცხოელ ენათმეცნიერთა თაობები; განუზომელია მისი ღვაწლი უცხოური ქართველოლოგიის განვითარებაში. სხვადასხვა დროს შუქია აფრიდონიძე მუშაობდა თბილისის სახელმწიფო უნივერსიტეტის ახალი ქართული ენის კათედრასთან არსებულ ტოპონიმიკის ლაბორატორიასა და არნოლდ ჩიქობავას სახელობის ენათმეცნიერების ინსტიტუტში; 2006 წლიდან იგი იყო ილიას სახელმწიფო უნივერსიტეტის პროფესორი\, ქართული ენის სწავლებისა და კვლევის მიმართულების ხელმძღვანელი და აკადემური საბჭოს წევრი. მისი გარდაცვალება უდიდესი დანაკლისია ილიას სახელმწიფო უნივერსიტეტისთვის\, მთელი სამეცნიერო საზოგადოებისთვის საქართველოსა და უცხოეთში. \nდრო: 25 აპრილი\, 19:00 საათი \nადგილმდებარეობა: წიგნის სახლი „ლიგამუსი“\, ილია ჭავჭავაძის გამზირი #32 \nსამუშაო ენა: ქართული \nდასწრება თავისუფალია. \n2023 წელი \n\n[wpai_display_imported_files_here]
URL:https://events.iliauni.edu.ge/event/prophesor-shuqia-aphridonidzis-tsignis-prezentatsia/
CATEGORIES:ღონისძიებები
ATTACH;FMTTYPE=image/png:https://events.iliauni.edu.ge/wp-content/uploads/2023/04/75697.png
END:VEVENT
BEGIN:VEVENT
DTSTART;TZID=Asia/Dubai:20230425T200000
DTEND;TZID=Asia/Dubai:20230425T200000
DTSTAMP:20260423T095042
CREATED:20230406T073447Z
LAST-MODIFIED:20240201T112158Z
UID:10000093-1682452800-1682452800@events.iliauni.edu.ge
SUMMARY:სპექტაკლი  „ჟლეტის ღმერთი“
DESCRIPTION:შავი კომედია 1 მოქმედებად \nრა შეიძლება მოხდეს\, როდესაც თინეიჯერი ბიჭების მშობლები ერთმანეთს თავიანთი შვილების ყოფა–ქცევის განსახილველად ხვდებიან? არაფერი განსაკუთრებული\, იტყვით თქვენ. შეიკრიბებიან\, დალევენ ჩაის\, ან ყავას\, ან ალკოჰოლს და ზრდილობიანად წარმართავენ ცივილურ\, გაწონასწორებულ საუბარს იმის თაობაზე\, თუ როგორი ახალგაზრდა თაობა მოდის\, როგორ იცვლება დროება და როგორი განსხვავებული ბავშვები იყვნენ თვითონ\, არა? დიახ\, სწორედ ასე იწყება იასმინა რეზას პიესა „ჟლეტის ღმერთი“\, თუმცა… გარწმუნებთ\, პატარა ბიჭები ყველგან და ყველა დროში ერთნაირად იცელქებენ\, აი\, მათი მშობლების ქცევის წინასწარ გათვლა კი სრულიად შეუძლებელია. \n\nთარგმანი: ქეთი კვანტალიანი\nრეჟისორი: დავით ჭაბაშვილი\n\nმხატვარი: გოჩა აგაშენაშვილი\nტექნიკური რეჟისორი: მაკა მეტრეველი\n\nმონაწილეობენ: \n\nგიორგი ბახუტაშვილი\nნატა ბერეჟიანი\nგაგა შიშინაშვილი\nმაია ხორნაული\n\nპრემიერა შედგა 2014 წლის 7 თებერვალს \nსპექტაკლის ხანგრძლივობა – 1 საათი და 15 წუთი ანტრაქტის გარეშე \nყველა საავტორო უფლება დაცულია \nსპექტაკლი დაიდგა თბილისის მერიის კულტურული ღონისძიებების ცენტრის ფინანსური ხელშეწყობით. \n\nიხილეთ ფოტო გალერეა\nიხილეთ ვიდეო\n\nდრო: 25\, 26\, 30 აპრილი\, 20:00 საათი \nადგილმდებარეობა: ილიას სახელმწიფო უნივერსიტეტის თეატრი\, ილია ჭავჭავაძის გამზირი N32 (უკანა ეზო) \n2023 წელი \n\n[wpai_display_imported_files_here]
URL:https://events.iliauni.edu.ge/event/speqtakli-zhletis-ghmerthi/
CATEGORIES:ღონისძიებები
ATTACH;FMTTYPE=image/png:https://events.iliauni.edu.ge/wp-content/uploads/2023/04/75492.png
END:VEVENT
END:VCALENDAR