BEGIN:VCALENDAR
VERSION:2.0
PRODID:-//უნივერსიტეტის ღონისძიებების პორტალი - ECPv6.2.8.2//NONSGML v1.0//EN
CALSCALE:GREGORIAN
METHOD:PUBLISH
X-ORIGINAL-URL:https://events.iliauni.edu.ge
X-WR-CALDESC:Events for უნივერსიტეტის ღონისძიებების პორტალი
REFRESH-INTERVAL;VALUE=DURATION:PT1H
X-Robots-Tag:noindex
X-PUBLISHED-TTL:PT1H
BEGIN:VTIMEZONE
TZID:Asia/Dubai
BEGIN:STANDARD
TZOFFSETFROM:+0400
TZOFFSETTO:+0400
TZNAME:+04
DTSTART:20230101T000000
END:STANDARD
END:VTIMEZONE
BEGIN:VEVENT
DTSTART;TZID=Asia/Dubai:20230420T100000
DTEND;TZID=Asia/Dubai:20230420T100000
DTSTAMP:20260423T070433
CREATED:20230316T105155Z
LAST-MODIFIED:20240201T112221Z
UID:10000099-1681984800-1681984800@events.iliauni.edu.ge
SUMMARY:ევროპის დიგესტიური ქირურგიის მე-15 კონფერენცია
DESCRIPTION:20-22 აპრილს ილიას სახელმწიფო უნივერსიტეტის ორგანიზებით გაიმართება ევროპის დიგესტიური ქირურგიის (European Digestive Surgery 2023) მე-15 საერთაშორისო კონფერენცია. \nკონფერენციის პროგრამა მოიცავს დიგესტიური მედიცინის ტრადიციულ გამოწვევებსა და თანამედროვე მიღწევებს\, რომელთაც წარადგენს ევროპისა და მსოფლიოს სხვა ქვეყნების 30-ზე მეტი მაღალკვალიფიციური სპიკერი. \nმომხსენებელთა შორის იქნებიან ქართული სამედიცინო საზოგადოების გამოჩენილი წარმომადგენლები\, მათ შორის ილიას სახელმწიფო უნივერსიტეტის პროფესორები. \nკონფერენცია ასევე მოიცავს დიგესტიურ მედიცინასთან დაკავშირებულ ისეთ დარგებს\, როგორებიცაა: ონკოლოგია\, გასტროენტეროლოგია\, რადიოლოგია\, ტრანსპლანტოლოგია და სხვ.\, რათა დელეგატებს შევთავაზოთ დიდი ინტერდისციპლინური პროგრამა. სპეციალურ საპატიო სესიაზე ლექციებს წაიკითხავენ მედიცინის მსოფლიო მასშტაბის ოსტატები. \nკონფერენციის სამეცნიერო და სოციალური პროგრამა შეიმუშავა ილიას სახელმწიფო უნივერსიტეტის მედიცინის სკოლამ\, საქართველოს წამყვანმა კვლევითმა და საგანმანათლებლო ინსტიტუტმა. \nსამუშაო ენა: ინგლისური \nდამატებითი ინფორმაციისა და რეგისტრაციისთვის იხილეთ კონფერენციის ვებგვერდი: eds2023.org \nEDS Tbilisi 2023 საორგანიზაციო გუნდი: \n\nივანე აბიათარი\, EDS 2023-ის პრეზიდენტი\nტიერი ბერნი\, სამეცნიერო კომიტეტის თავმჯდომარე\nკობა შანავა\, საორგანიზაციო კომიტეტის თავმჯდომარე\n\n\nკონფერენციის აკადემიური პარტნიორები: \n\nპ. შოთაძის სახელობის თბილისის სამედიცინო აკადემია;\nქართულ-ამერიკული უნივერსიტეტი;\nბაუ-ბათუმის საერთაშორისო უნივერსიტეტი.\n\n\n\nკონფერენცია აკრედიტებულია უწყვეტი სამედიცინო განათლების ევროპული აკრედიტაციის საბჭოს (EACCME) მიერ და გაიცემა მაქსიმუმ 13 ევროპული CME კრედიტი. \n2023 წელი \n\n\n[wpai_display_imported_files_here]
URL:https://events.iliauni.edu.ge/event/evropis-digestiuri-qirurgiis-me-15-konpherentsia/
CATEGORIES:კონფერენციები
ATTACH;FMTTYPE=image/png:https://events.iliauni.edu.ge/wp-content/uploads/2023/03/74981.png
END:VEVENT
END:VCALENDAR