BEGIN:VCALENDAR
VERSION:2.0
PRODID:-//უნივერსიტეტის ღონისძიებების პორტალი - ECPv6.2.8.2//NONSGML v1.0//EN
CALSCALE:GREGORIAN
METHOD:PUBLISH
X-WR-CALNAME:უნივერსიტეტის ღონისძიებების პორტალი
X-ORIGINAL-URL:https://events.iliauni.edu.ge
X-WR-CALDESC:Events for უნივერსიტეტის ღონისძიებების პორტალი
REFRESH-INTERVAL;VALUE=DURATION:PT1H
X-Robots-Tag:noindex
X-PUBLISHED-TTL:PT1H
BEGIN:VTIMEZONE
TZID:Asia/Dubai
BEGIN:STANDARD
TZOFFSETFROM:+0400
TZOFFSETTO:+0400
TZNAME:+04
DTSTART:20230101T000000
END:STANDARD
END:VTIMEZONE
BEGIN:VEVENT
DTSTART;TZID=Asia/Dubai:20230419T100000
DTEND;TZID=Asia/Dubai:20230419T100000
DTSTAMP:20260423T095044
CREATED:20230412T065300Z
LAST-MODIFIED:20240201T112228Z
UID:10000102-1681898400-1681898400@events.iliauni.edu.ge
SUMMARY:საერთაშორისო კონფერენცია „ცენტრი და პერიფერია: პოლიტიკური\, ეკონომიკური\, კულტურული და ენობრივი სივრცის ადაპტაცია თანამედროვეობაში“
DESCRIPTION:19 აპრილს\, 10:00 საათზე\, ილიას სახელმწიფო უნივერსიტეტის T102 აუდიტორიაში გაიმართება საერთაშორისო კონფერენცია „ცენტრი და პერიფერია: პოლიტიკური\, ეკონომიკური\, კულტურული და ენობრივი სივრცის ადაპტაცია თანამედროვეობაში“. \nსამდღიანი მრავალდარგობრივი საერთაშორისო კონფერენცია პირველსა და მესამე დღეს (18\, 20 აპრილს) თბილისის ივანე ჯავახიშვილის სახ. სახელმწიფო უნივერსიტეტსა და კავკასიის უნივერსიტეტში გაიმართება. \nსხვადასხვა დარგის ქართველი და უცხოელი მკვლევრები ცენტრისა და პერიფერიის პერსპექტივიდან გააანალიზებენ პოლიტიკურ\, ეკონომიკურ\, კულტურულ\, ენობრივ და ლიტერატურულ პროცესებს. \nკონფერენცია მომზადებულია ლილისა (Université de Lille) და თბილისის ივანე ჯავახიშვილის სახელობის სახელმწიფო უნივერსიტეტების ინიციატივით. მის ორგანიზებაში ილიას სახელმწიფო უნივერსიტეტისა და კავკასიის უნივერსიტეტის გარდა მონაწილეობდნენ ფრანგული ინსტიტუციები: ფრანგულ-ქართული უნივერსიტეტი (Université franco-géorgienne)\, ვანდეს კათოლიკური ინსტიტუტი (ICES – Institut Catholique de Vendée)\, რომანულ კვლევათა ექსის ცენტრი – ექს-მარსელის უნივერსიტეტი (CAER – Aix-Marseille Université). \nსამუშაო ენები: ფრანგული\, ინგლისური \nდრო: 19 აპრილი\, 10:00 საათი \nადგილმდებარეობა: ილიას სახელმწიფო უნივერსიტეტის T102 დარბაზი\, ქ. ჩოლოყაშვილის გამზ. N3/5 \n  \n2023 \n  \n  \n\n[wpai_display_imported_files_here]
URL:https://events.iliauni.edu.ge/event/saerthashoriso-konpherentsia-tsentri-da-peripheria-politikuri-ekonomikuri-kulturuli-da-enobrivi-sivrtsis-adaptatsia-thanamedroveobashi/
CATEGORIES:კონფერენციები
ATTACH;FMTTYPE=image/png:https://events.iliauni.edu.ge/wp-content/uploads/2023/04/75558.png
END:VEVENT
BEGIN:VEVENT
DTSTART;TZID=Asia/Dubai:20230419T150000
DTEND;TZID=Asia/Dubai:20230419T150000
DTSTAMP:20260423T095044
CREATED:20230413T130755Z
LAST-MODIFIED:20240201T112224Z
UID:10000101-1681916400-1681916400@events.iliauni.edu.ge
SUMMARY:ქართული ენის კვირეული – შემაჯამებელი ღონისძიება
DESCRIPTION:19 აპრილს\, 15:00 საათზე\, ილიას სახელმწიფო უნივერსიტეტის წიგნის სახლში „ლიგამუსი“ ლექსიკოგრაფიისა და ენობრივი ტექნოლოგიების ცენტრის ორგანიზებით გაიმართება ქართული ენის კვირეულის შემაჯამებელი ღონისძიება. \n\nგანრიგი \n15:00-15:10 – გახსნა \nპროფესორი ნინო დობორჯგინიძე\, რექტორი\, ილიას სახელმწიფო უნივერსიტეტი \n15:10-15:30 – კონკურსის „შექმენი ქართული ტერმინი“ კონცეფციის წარდგენა  \nპროფესორი თინათინ მარგალიტაძე\, ლექსიკოგრაფიისა და ენობრივი ტექნოლოგიების ცენტრის ხელმძღვანელი \n15:30-15:40 – კონკურსის „შექმენი ქართული ტერმინი“ ვებგვერდის წარდგენა  \nლალუ ჯიქიძე\, კიბერლაბორატორია „უნილაბის“ პროექტების მენეჯერი \n15:40-16:00 – კონკურსის „შექმენი ქართული ტერმინი“ პირველი ეტაპის შეჯამება და გამარჯვებულების დაჯილდოება  \nლექსიკოგრაფიის მიმართულების დოქტორანტი სალომე ჭიღლაძე\, ილიას სახელმწიფო უნივერსიტეტი \n16:00-16:30 – წიგნის „ფიქრები მშობლიურ ენაზე“ წარდგენა  \nპროფესორი თინათინ მარგალიტაძე\, წიგნის ავტორი \n16:30-16:45 – უცხო სიტყვებისა და მათი ქართული შესატყვისების გლოსარიუმის წარდგენა \nქეთევან თევდორაძე\, ლექსიკოგრაფიის მაგისტრი \n16:45-17:00 – უცხო სიტყვებისა და მათი ქართული შესატყვისების გლოსარიუმის ვებგვერდის წარდგენა \nლალუ ჯიქიძე\, კიბერლაბორატორია „უნილაბის“ პროექტების მენეჯერი \n\nდრო: 19 აპრილი\, 15:00-17:00 საათი \nადგილმდებარეობა: წიგნის სახლი „ლიგამუსი“\, ილია ჭავჭავაძის გამზ N32 \nსამუშაო ენა: ქართული \nდასწრება თავისუფალია. \n2023 წელი \n\n[wpai_display_imported_files_here]
URL:https://events.iliauni.edu.ge/event/qarthuli-enis-kvireuli-shemajamebeli-ghonisdzieba/
CATEGORIES:ღონისძიებები
ATTACH;FMTTYPE=image/png:https://events.iliauni.edu.ge/wp-content/uploads/2023/04/75633.png
END:VEVENT
END:VCALENDAR