BEGIN:VCALENDAR
VERSION:2.0
PRODID:-//უნივერსიტეტის ღონისძიებების პორტალი - ECPv6.2.8.2//NONSGML v1.0//EN
CALSCALE:GREGORIAN
METHOD:PUBLISH
X-ORIGINAL-URL:https://events.iliauni.edu.ge
X-WR-CALDESC:Events for უნივერსიტეტის ღონისძიებების პორტალი
REFRESH-INTERVAL;VALUE=DURATION:PT1H
X-Robots-Tag:noindex
X-PUBLISHED-TTL:PT1H
BEGIN:VTIMEZONE
TZID:Asia/Dubai
BEGIN:STANDARD
TZOFFSETFROM:+0400
TZOFFSETTO:+0400
TZNAME:+04
DTSTART:20230101T000000
END:STANDARD
END:VTIMEZONE
BEGIN:VEVENT
DTSTART;TZID=Asia/Dubai:20230323T113000
DTEND;TZID=Asia/Dubai:20230323T113000
DTSTAMP:20260423T042020
CREATED:20230320T064103Z
LAST-MODIFIED:20240201T112334Z
UID:10000122-1679571000-1679571000@events.iliauni.edu.ge
SUMMARY:საქართველოში ისრაელის ელჩის\, ჰადას მეიცადის შეხვედრა ილიაუნის სტუდენტებთან
DESCRIPTION:23 მარტს\, 11:30 საათზე\, წიგნის სახლში „ლიგამუსი“ ილიას სახელმწიფო უნივერსიტეტის სტუდენტებთან შეხვედრას გამართავს ისრაელის სრულუფლებიანი ელჩი საქართველოში ჰადას მეიცადი. \nშეხვედრის თემა: 30-წლიანი დიპლომატიური და ბილატერალური ურთიერთობები ისრაელსა და საქართველოს შორის \nელჩი ისაუბრებს ქვეყნების მეგობრობის ისტორიაზე\, თანამშრომლობის ისეთ მიმართულებებზე\, როგორებიცაა: უსაფრთხოება\, ენერგეტიკა და ინოვაციები; მიმოიხილავს ისრაელში არსებულ ვითარებას და უპასუხებს სტუდენტების შეკითხვებს. \nელჩის ვრცელი ბიოგრაფიისთვის მიჰყევით ბმულს: https://bit.ly/3JP3tyC \nსამუშაო ენა: ინგლისური \nდრო: 23 მარტი\, 11:30 \nადგილმდებარეობა: წიგნის სახლი „ლიგამუსი“\, ილიას სახელმწიფო უნივერსიტეტი \nმნიშვნელოვანი ინფორმაცია: შეხვედრაზე დასასწრებად უნდა იქონიოთ პირადობის დამადასტურებელი მოწმობა. დასწრების მსურველებმა უსაფრთხოების მიზნით უნდა გაიარონ შემოწმება. \n2023 წელი \n\n[wpai_display_imported_files_here]
URL:https://events.iliauni.edu.ge/event/saqarthveloshi-israelis-elchis-hadas-meitsadis-shekhvedra-iliaunis-studentebthan/
CATEGORIES:ღონისძიებები
ATTACH;FMTTYPE=image/png:https://events.iliauni.edu.ge/wp-content/uploads/2023/03/74982.png
END:VEVENT
END:VCALENDAR