BEGIN:VCALENDAR
VERSION:2.0
PRODID:-//უნივერსიტეტის ღონისძიებების პორტალი - ECPv6.2.8.2//NONSGML v1.0//EN
CALSCALE:GREGORIAN
METHOD:PUBLISH
X-ORIGINAL-URL:https://events.iliauni.edu.ge
X-WR-CALDESC:Events for უნივერსიტეტის ღონისძიებების პორტალი
REFRESH-INTERVAL;VALUE=DURATION:PT1H
X-Robots-Tag:noindex
X-PUBLISHED-TTL:PT1H
BEGIN:VTIMEZONE
TZID:Asia/Dubai
BEGIN:STANDARD
TZOFFSETFROM:+0400
TZOFFSETTO:+0400
TZNAME:+04
DTSTART:20220101T000000
END:STANDARD
END:VTIMEZONE
BEGIN:VEVENT
DTSTART;TZID=Asia/Dubai:20221215T160000
DTEND;TZID=Asia/Dubai:20221215T160000
DTSTAMP:20260423T224859
CREATED:20221202T065211Z
LAST-MODIFIED:20240202T101021Z
UID:10000186-1671120000-1671120000@events.iliauni.edu.ge
SUMMARY:"ბოიანა ბოგოვიჩ მატიაშიჩის საჯარო ლექცია – „პრობიოტიკური და დამწყები კულტურების რეზისტომები
DESCRIPTION:15 დეკემბერს\, 16:00 საათზე\, ილიას სახელმწიფო უნივერსიტეტის G106 აუდიტორიაში\, ლუბლიანას უნივერსიტეტის ბიოტექნოლოგიის ფაკულტეტის უფროსი მკვლევარი\, რძის პროდუქტებისა და პრობიოტიკების ინსტიტუტის ხელმძღვანელი და ნუტრიციოლოგიის და კუჭ-ნაწლავის ტრაქტის მიკრობული ეკოლოგიის კვლევითი პროგრამის ხელმძღვანელი ბოიანა ბოგოვიჩ მატიაშიჩი წაიკითხავს საჯარო მოხსენებას თემაზე „პრობიოტიკური და დამწყები კულტურების რეზისტომები\, როგორც ანტიბიოტიკორეზისტენტობის გავრცელების პოტენციური რისკ-ფაქტორები“. \nმოხსენების შესახებ \nპროფესორი წარმოგიდგენთ ახალდასრულებული პროექტის „პრობიოტიკური და სასტარტო კულტურების რეზისტომები\, როგორც ანტიბიოტიკორეზისტენტობის გავრცელების პოტენციური რისკ-ფაქტორები“ შედეგებს. \nანტიმიკრობული საშუალებების ინტენსიურმა გამოყენებამ ადამიანის და ვეტერინარულ მედიცინაში ბოლო 50 წლის განმავლობაში გამოიწვია პათოგენური მიკროორგანიზმების ანტიბიოტიკების მიმართ რეზისტენტობის პრობლემა და შეამცირა ინფექციების მკურნალობის ეფექტურობა\, რაც ჯანდაცვის მსოფლიო ორგანიზაციამ გამოაცხადა ჯანმრთელობის ერთ-ერთ უდიდეს საფრთხედ. კვებით ჯაჭვში განზრახ შეყვანილი პრობიოტიკური ბაქტერიები\, სასტარტო კულტურები და ბუნებრივად ფერმენტირებადი საკვები პროდუქტები\, ასევე რეზისტენტობის რეზერვუარებად იქნა გამოვლენილი. მაგრამ ამ პროდუქტების რეალური რისკი რეზისტენტობის თვალსაზრისით ჯერ არ არის სათანადოდ შეფასებული. \nწინამდებარე კვლევაში გამოყენებული იყო მიდგომა\, რომელიც აერთიანებს ტრადიციულ\, გენომურ და მეტაგენომურ კვლევას\, რათა შეფასდეს სასტარტო და პრობიოტიკური კულტურების გაჯერება ანტიბიოტიკორეზისტენტული გენებით და აღმოჩენილი ანტიბიოტიკორეზისტენტული გენებების გადაცემის რისკი. \nგარდა ამისა\, გიორგი ელიავას სახელობის ბაქტერიოფაგიის\, მიკრობიოლოგიისა და ვირუსოლოგიის ინსტიტუტთან თანამშრომლობით (პროფესორი ნინა ჭანიშვილი\, R&D დეპარტამენტის ხელმძღვანელი) მოხდა საქართველოში მაწვნის პროდუქტებიდან გამოყოფილი და ადრე დახასიათებული იზოლატების გამოკვლევა შედარებითი გენომიური ანალიზით და უსაფრთხოების კუთხით შეფასება. \nმომხსენებლის შესახებ \nბოიანა ბოგოვიჩ მატიაშიჩი არის ლუბლიანას უნივერსიტეტის ბიოტექნოლოგიის ფაკულტეტის უფროსი მკვლევარი\, რძის პროდუქტებისა და პრობიოტიკების ინსტიტუტის ხელმძღვანელი და ნუტრიციოლოგიის და კუჭ-ნაწლავის ტრაქტის მიკრობული ეკოლოგიის კვლევითი პროგრამის ხელმძღვანელი. მისი ძირითადი ინტერესის საგანია რძემჟავა ბაქტერიების და მათი მეტაბოლიტების დახასიათება\, პრობიოტიკების და მათი მეტაბოლიტების ფუნქციონირების შესწავლა\, ნაწლავის მიკრობიოტის/მიკრობიომისა და რეზისტომების შესწავლა. იგი ხელმძღვანელობდა 6 ახალგაზრდა მკვლევარს\, 5 სადოქტორო დისერტაციას და რამდენიმე სამაგისტრო ან საბაკალავრო დისერტაციას. ის კითხულობს ლექციებს ბიოტექნოლოგიის\, სურსათის მეცნიერებისა და ნუტრიციოლოგიის მიმართულების მაგისტრებისთვის და ბიომეცნიერებების მიმართულების დოქტორანტებისთვის. \nსამუშაო ენა: ინგლისური \nდრო: 15 დეკემბერს\, 16:00 საათი \nადგილმდებარეობა: ილიას სახელმწიფო უნივერსიტეტი\, G106 აუდიტორია\, გ.წერეთლის ქ. N1 \nდასწრება თავისუფალია. \n2022 \n\n[wpai_display_imported_files_here]
URL:https://events.iliauni.edu.ge/event/boiana-bogovich-matiashichis-sajaro-leqtsia-probiotikuri-da-damtsqhebi-kulturebis-rezistomebi/
CATEGORIES:ღონისძიებები
ATTACH;FMTTYPE=image/png:https://events.iliauni.edu.ge/wp-content/uploads/2025/09/cover_default.png
END:VEVENT
BEGIN:VEVENT
DTSTART;TZID=Asia/Dubai:20221215T183000
DTEND;TZID=Asia/Dubai:20221215T183000
DTSTAMP:20260423T224859
CREATED:20221212T070546Z
LAST-MODIFIED:20240201T112556Z
UID:10000217-1671129000-1671129000@events.iliauni.edu.ge
SUMMARY:უნილაბის წლის შემაჯამებელი ღონისძიება
DESCRIPTION:15 დეკემბერს\, 18:30 საათზე\, ილიას სახელმწიფო უნივერსიტეტის T406 აუდიტორიაში ილიაუნის კიბერლაბორატორია „უნილაბის“ წლის შემაჯამებელი ღონისძიება გაიმართება. \nღონისძიებაზე უნილაბისა და ილიას სახელმწიფო უნივერსიტეტის წარმომადგენლები ისაუბრებენ მიმდინარე წელს განხორციელებულ შემდეგ პროექტებსა და პროგრამებზე : \n\nსანდროს წიგნების ვებგამოცემა\nონლაინ ილიაუნი\nდოკუმენტური ფილმის „მთელი სულით დასავლეთისკენ” ძველი ვებგვერდის რესტავრაცია\nმათემატიკის რესურსი\n„სცადე\, ისწავლე\, გაუზიარე“\nქართული ენის კორპუსი\nქალები მეცნიერებაში\nგლოსარიუმი\nლექსიკოგრაფების კონკურსი\nარქიტექტორების საიტი\nადიქციის ვებგვერდი\nვიზუალური პროგრამირების ეროვნული კონფერენცია\nQart NLP\nჰორტენზია\nინტერაქტიული წიგნების ბიბლიოთეკა\n\nაუდიტორიას შესაძლებლობა ექნება\, მეტი გაიგოს უნილაბის საქმიანობის\, სასწავლო კურსებისა და აქსელერაციის პროგრამის შესახებ. \nღონისძიება 15 დეკემბერს\, 18:30-ზე\, დაიწყება და კიბერლაბორატორია უნილაბში გაიმართება. \nმისამართი: 3/5 ქაქუცა ჩოლოყაშვილის გამზირი\, T კორპუსი\, აუდიტორია T406 \nუნილაბის შესახებ \nუნილაბი\, ილიას სახელმწიფო უნივერსიტეტის კიბერლაბორატორია \, მიზნად ისახავს STEAM პროფესიების პოპულარიზაციას . უნილაბი აერთიანებს თეორიული სწავლებისა და პრაქტიკული გამოცდილების მიღების შესაძლებლობებს შემდეგი მიმართულებებით: \n\nFront-End დეველოპმენტი;\nBack-End დეველოპმენტი;\nციფრული კომუნიკაციები\nგრაფიკული და ინტერფეის დიზაინი;\nICT პროექტების მართვა;\nნარატივდიზაინი.\n\nამასთან ქმნის სხვადასხვა ციფრულ პროდუქტსა და პლატფორმებს. \nდამატებითი ინფორმაციისთვის \n\ninfounilab@iliauni.edu.ge\nhttps://www.facebook.com/UniLabEdu\nhttps://unilab.iliauni.edu.ge\n\nსამუშაო ენა: ქართული \nდრო: 15 დეკემბერი\, 18:30 საათი \nადგილმდებარეობა: ილიას სახელმწიფო უნივერსიტეტის T406 აუდიტორია\, ქ.ჩოლოყაშვილის გამზ. 3/5 \nდასწრება თავისუფალია. \n2022 წელი \n  \n\n[wpai_display_imported_files_here]
URL:https://events.iliauni.edu.ge/event/unilabis-tslis-shemajamebeli-ghonisdzieba/
CATEGORIES:ღონისძიებები
ATTACH;FMTTYPE=image/jpeg:https://events.iliauni.edu.ge/wp-content/uploads/2022/12/72141.jpg
END:VEVENT
END:VCALENDAR