BEGIN:VCALENDAR
VERSION:2.0
PRODID:-//უნივერსიტეტის ღონისძიებების პორტალი - ECPv6.2.8.2//NONSGML v1.0//EN
CALSCALE:GREGORIAN
METHOD:PUBLISH
X-ORIGINAL-URL:https://events.iliauni.edu.ge
X-WR-CALDESC:Events for უნივერსიტეტის ღონისძიებების პორტალი
REFRESH-INTERVAL;VALUE=DURATION:PT1H
X-Robots-Tag:noindex
X-PUBLISHED-TTL:PT1H
BEGIN:VTIMEZONE
TZID:Asia/Dubai
BEGIN:STANDARD
TZOFFSETFROM:+0400
TZOFFSETTO:+0400
TZNAME:+04
DTSTART:20220101T000000
END:STANDARD
END:VTIMEZONE
BEGIN:VEVENT
DTSTART;TZID=Asia/Dubai:20221207T170000
DTEND;TZID=Asia/Dubai:20221207T170000
DTSTAMP:20260423T221106
CREATED:20221202T115539Z
LAST-MODIFIED:20240201T112543Z
UID:10000204-1670432400-1670432400@events.iliauni.edu.ge
SUMMARY:„დისტანციური სწავლება უმაღლესი განათლების საფეხურზე პოსტპანდემიურ პერიოდში“ – საჯარო შეხვედრა
DESCRIPTION:7 დეკემბერს\, 17:00 საათზე\, ილიას სახელმწიფო უნივერსიტეტის G106 აუდიტორიაში\, ერაზმუს პლუსის ინსტიტუციური განვითარების პროექტის „სწავლების ოპტიმიზაცია და აკადემიური ინკლუზია დისტანციური სწავლისა და სწავლების გამოყენებით“ (LoveDistance) ფარგლებში\, გაიმართება შეხვედრა თემაზე „დისტანციური სწავლება უმაღლესი განათლების საფეხურზე პოსტპანდემიურ პერიოდში“. \nმოხსენებებს წარადგენენ პროექტის პარტნიორები პორტუგალიიდან\, ესპანეთიდან\, რუმინეთიდან და ისრაელიდან. \nძირითადი განსახილველი საკითხი იქნება დისტანციურ სწავლებასთან დაკავშრიებული პრაქტიკა. \nსამუშაო ენა: ინგლისური \nდრო: 7 დეკემბერი\, 17:00 საათი \nადგილმდებარეობა: ილია სახელმწიფო უნივერსიტეტი\, G 106 აუდიტორია\, გ. წერეთლის ქ. N1 \nდასწრება თავისუფალია \n2022 წელი \n\n[wpai_display_imported_files_here]
URL:https://events.iliauni.edu.ge/event/distantsiuri-stsavleba-umaghlesi-ganathlebis-saphekhurze-postpandemiur-periodshi-sajaro-shekhvedra/
CATEGORIES:ღონისძიებები
ATTACH;FMTTYPE=image/png:https://events.iliauni.edu.ge/wp-content/uploads/2022/12/71776.png
END:VEVENT
END:VCALENDAR