BEGIN:VCALENDAR
VERSION:2.0
PRODID:-//უნივერსიტეტის ღონისძიებების პორტალი - ECPv6.2.8.2//NONSGML v1.0//EN
CALSCALE:GREGORIAN
METHOD:PUBLISH
X-WR-CALNAME:უნივერსიტეტის ღონისძიებების პორტალი
X-ORIGINAL-URL:https://events.iliauni.edu.ge
X-WR-CALDESC:Events for უნივერსიტეტის ღონისძიებების პორტალი
REFRESH-INTERVAL;VALUE=DURATION:PT1H
X-Robots-Tag:noindex
X-PUBLISHED-TTL:PT1H
BEGIN:VTIMEZONE
TZID:Asia/Dubai
BEGIN:STANDARD
TZOFFSETFROM:+0400
TZOFFSETTO:+0400
TZNAME:+04
DTSTART:20220101T000000
END:STANDARD
END:VTIMEZONE
BEGIN:VEVENT
DTSTART;TZID=Asia/Dubai:20221117T130000
DTEND;TZID=Asia/Dubai:20221117T130000
DTSTAMP:20260424T003307
CREATED:20221114T080002Z
LAST-MODIFIED:20240201T112623Z
UID:10000232-1668690000-1668690000@events.iliauni.edu.ge
SUMMARY:საჯარო დისკუსია „საზოგადოებრივი აზრის კვლევა და დემოკრატია“
DESCRIPTION:17 ნოემბერს\, 13:00 საათზე\, წიგნის სახლში „ლიგამუსი“ ილიას სახელმწიფო უნივერსიტეტის უმაღლესი კვლევების ცენტრის პროექტის „საჯარო სფეროს რეკონსტრუქცია საქართველოში“ ფარგლებში გაიმართება დისკუსია თემაზე „საზოგადოებრივი აზრის კვლევა და დემოკრატია”. \nმომხსენებლები \nპროფესორი მაიკლ ტრაუგოტი\, მიჩიგანის უნივერსიტეტის პოლიტიკისა და სოციალური მეცნიერებების უნივერსიტეტთა შორის  რაოდენობრივი კვლევის მეთოდების კონსორციუმის პროგრამის ხელმძღვანელი; მსოფლიო და ამერიკის საზოგადოებრივი აზრის კვლევის ასოციაციების პრეზიდენტი; ჩრდილო-დასავლეთის უნივერსიტეტის პროფესორი \nპიტერ მილერი\, ამერიკის საზოგადოებრივი აზრის კვლევის ასოციაციის (AAPOR) ყოფილი პრეზიდენტი \nშეხვედრას მოდერაციას გაუწევს ილიას სახელმწიფო უნივერსიტეტის უმაღლესი კვლევების ცენტრის დირექტორი\, პროფესორი გიგა ზედანია \nპროექტი ხორციელდება საქართველოში ამერიკის შეერთებული შტატების საელჩოს დემოკრატიის მცირე გრანტების პროგრამის მხარდაჭერით. \nდრო: 17 ნოემბერი\, 13:00 საათი \nადგილმდებარეობა: წიგნის სახლი „ლიგამუსი“\, ილია ჭავჭავაძის გამზირი N32 \nსამუშაო ენა: ინგლისური \nდასწრება თავისუფალია. \n2022 \n  \n\n[wpai_display_imported_files_here]
URL:https://events.iliauni.edu.ge/event/sajaro-diskusia-sazogadoebrivi-azris-kvleva-da-demokratia/
CATEGORIES:ღონისძიებები
ATTACH;FMTTYPE=image/png:https://events.iliauni.edu.ge/wp-content/uploads/2022/11/70988.png
END:VEVENT
BEGIN:VEVENT
DTSTART;TZID=Asia/Dubai:20221117T190000
DTEND;TZID=Asia/Dubai:20221117T190000
DTSTAMP:20260424T003307
CREATED:20221111T094100Z
LAST-MODIFIED:20241122T110929Z
UID:10000230-1668711600-1668711600@events.iliauni.edu.ge
SUMMARY:კამერული ორკესტრი „თბილისის კონცერტინო“
DESCRIPTION:17 ნოემბერს\, 19:00 საათზე\, ილიას სახელმწიფო უნივერსიტეტის B 201 აუდიტორიაში ილიაუნის მუსიკის ცენტრის ინიციატივით გაიმართება საქართველოს კამერული ორკესტრის „თბილისის კონცერტინოს“ კონცერტი. \nპროგრამაშია ირაკლი ცინცაძის\, ოთარ ტატიშვილის\, ნუგზარ ვაწაძისა და მაია ვირსალაძის ნაწარმოებები. \nდირიჟორი გიორგი შილაკაძე \nპროგრამა \nირაკლი ცინცაძე\nკონცერტი კლარნეტისა და ორკესტრისათვის  (მეორე რედაქცია -2021)\nსოლისტი – დიმიტრი ბოქოლიშვილი\nოთარ ტატიშვილი. Exquartet  (საორკესტრო ვერსია 2013)\nნუგზარ ვაწაძე. სიმებიანი კვარტეტი N1  (1960)\nასრულებენ – ლელა მჭედლიძე\, კოტე ლემონჯავა\, ზაზა თორაძე  და გიორგი იმანოვი\nმაია  ვირსალაძე. სონატა ფორტეპიანოსთვის  (1996)\nასრულებს – თამარ ჟვანია \nდრო: 17 ნოემბერი\, 19.00 საათი \nადგილმდებარეობა: ილიას სახელმწიფო უნივერსიტეტი\, B201 აუდიტორია\, ი. ჭავჭავაძის გამზირი N32 \nდასწრება თავისუფალია. \n2022 წელი \n\n[wpai_display_imported_files_here]
URL:https://events.iliauni.edu.ge/event/kameruli-orkestri-thbilisis-kontsertino/
CATEGORIES:ღონისძიებები
ATTACH;FMTTYPE=image/png:https://events.iliauni.edu.ge/wp-content/uploads/2022/11/70980.png
END:VEVENT
END:VCALENDAR