BEGIN:VCALENDAR
VERSION:2.0
PRODID:-//უნივერსიტეტის ღონისძიებების პორტალი - ECPv6.2.8.2//NONSGML v1.0//EN
CALSCALE:GREGORIAN
METHOD:PUBLISH
X-ORIGINAL-URL:https://events.iliauni.edu.ge
X-WR-CALDESC:Events for უნივერსიტეტის ღონისძიებების პორტალი
REFRESH-INTERVAL;VALUE=DURATION:PT1H
X-Robots-Tag:noindex
X-PUBLISHED-TTL:PT1H
BEGIN:VTIMEZONE
TZID:Asia/Dubai
BEGIN:STANDARD
TZOFFSETFROM:+0400
TZOFFSETTO:+0400
TZNAME:+04
DTSTART:20220101T000000
END:STANDARD
END:VTIMEZONE
BEGIN:VEVENT
DTSTART;TZID=Asia/Dubai:20221110T130000
DTEND;TZID=Asia/Dubai:20221110T130000
DTSTAMP:20260424T020538
CREATED:20221108T141047Z
LAST-MODIFIED:20240201T112804Z
UID:10000255-1668085200-1668085200@events.iliauni.edu.ge
SUMMARY:კემბრიჯის უნივერსიტეტის პროფესორ დომენიკ ლივენის საჯარო ლექცია
DESCRIPTION:10 ნოემბერს\, 13:00 საათზე\, ილიას სახელმწიფო უნივერსიტეტის თანამედროვე საქართველოს ისტორიის სამაგისტრო პროგრამის ორგანიზებით\, თანამედროვე ისტორიის სემინარების სერიის ფარგლებში\, კემბრიჯის უნივერსიტეტის პროფესორი და რუსეთის ისტორიის საუკეთესო მკვლევარი\, პროფესორი დომენიკ ლივენი დისტანციურ ფორმატში პლატფორმა ზუმის გამოყენებით გამართავს საჯარო ლექციას თემაზე: იმპერიების არსი\, განვითარების თავისებურებები და საბოლოო ბედი. \nშეხვედრაზე პროფესორი ლივენი ასევე ისაუბრებს 2022 წელს გამოცემულ თავის წიგნზე “In the Shadow of the Gods: The Emperor in World History (2022)”. \nმომხსენებლის შესახებ \nდომინიკ ლივენი არის კემბრიჯის უნივერსიტეტის პროფესორი და რუსეთის ისტორიის ერთ-ერთი საუკეთესო მკვლევარი. მის კალამს ეკუთვნის არაერთი კვლევა\, მათ შორის Russia and the Origins of the First World War (1983)\, The Aristocracy in Europe (1992)\, Empire: The Russian Empire and its Rivals (2003)\, Russia Against Napoleon: The Battle for Europe\, 1807 to 1814 (2009)\, The End of Tsarist Russia: The March to World War I and Revolution\, Penguin Random House (2015)\, In the Shadow of the Gods: The Emperor in World History (2022)/ \nვრცელი ბიოგრაფია ხელმისაწვდომია ბმულზე: shorturl.at/bpDPW \nდრო: 10 ნოემბერი\, 13:00 საათი \nფორმატი: დისტანციური\, პლატფორმა ზუმი \nშეხვედრის ბმული: https://bit.ly/3fNLUml \nსამუშაო ენა: ინგლისური \nდასწრება თავისუფალია. \n2022 წელი \n\n[wpai_display_imported_files_here]
URL:https://events.iliauni.edu.ge/event/kembrijis-universitetis-prophesor-domenik-livenis-sajaro-leqtsia/
CATEGORIES:ღონისძიებები
ATTACH;FMTTYPE=image/png:https://events.iliauni.edu.ge/wp-content/uploads/2022/11/70944.png
END:VEVENT
BEGIN:VEVENT
DTSTART;TZID=Asia/Dubai:20221110T200000
DTEND;TZID=Asia/Dubai:20221110T200000
DTSTAMP:20260424T020538
CREATED:20221108T085938Z
LAST-MODIFIED:20240201T112758Z
UID:10000247-1668110400-1668110400@events.iliauni.edu.ge
SUMMARY:სპექტაკლი „სკამები“
DESCRIPTION:10 ნოემბერს\, 20:00 საათზე\, ილიას სახელმწიფო უნივერსიტეტში გაიმართება სპექტაკლი „სკამები“\, აბსურდული კომედია ერთ მოქმედებად. \nსპექტაკლის შესახებ \nსამი რეალური პერსონაჟი უამრავი რეალური სკამისა და მოჩვენებითი სტუმრების გარემოცვაში\, რომლებსაც ეჟენ იონესკოს პიესის გმირები ხვდებიან\, სიახლეებს უზიარებენ\, ეჭორავებიან. ორატორიც მალე უნდა მოვიდეს და წაიკითხოს მოხსენება ახალი აღმოჩენის შესახებ. სტუმრები მთელი სამყაროა\, ადამიანებიც და ღმერთიც\, ხოლო აღმოჩენა – ცხოვრების არსი\, რომლის გაცხადებას სპექტაკლის პერსონაჟებთან ერთად ველოდებით\, ველოდებით\, ველოდებით… გარშემო კი უამრავი ცარიელი სკამია. \nვინ შექმნა სპექტაკლი \n\nმთარგმნელი დავით კახაბერი\nრეჟისორი ანა ბალიაშვილი (სადიპლომო ნაშრომი)\nმხატვარი თეო კუხიანიძე\nტექნიკური რეჟისორი თეკლე ფედროვი\nდადგმის ხელმძღვანელი ვანო ხუციშვილი\, ილიას სახელმწიფო უნივერსიტეტის ასოცირებული პროფესორი\n\nმონაწილეობენ \nილიას სახელმწიფო უნივერსიტეტის კურსდამთავრებულები: \n\nვლადიმერ ვაშაკიძე\nთინათინ ნიკოლაშვილი\nანიკო შურღაია\n\n\nბილეთის ფასი  \n\n20 ლარი\nილიაუნის სტუდენტებისთვის – 5 ლარი\nსხვა უნივერსიტეტების სტუდენტებისთვის – 10 ლარი\n15 ან მეტი ბილეთის შეძენის შემთხვევაში – 1 ბილეთის ფასი 15 ლარი\n\nმოცემული ფასებით სარგებლობა შესაძლებელია მხოლოდ ილიაუნის თეატრის სალაროში ბილეთების დაჯავშნით. \nროგორ დავჯავშნო და შევიძინო ბილეთი? \nილიაუნის თეატრის სალარო \nტელეფონის ნომერი: +995 32 2 29 47 15 \nსამუშაო განრიგი: ყოველდღე\, ორშაბათის გარდა\, 13:00-20:00 სთ. \nbiletebi.ge \ntkt.ge  \nონლაინ 24 საათის განმავლობაში ბმულიდან https://bit.ly/3ThGFZY \n\nდრო: 10 ნოემბერი\, 20:00 საათი \nხანგრძლივობა: 1საათი და 20 წუთი \nადგილმდებარეობა: ილიას სახელმწიფო უნივერსიტეტის თეატრი\, ილია ჭავჭავაძის გამზირი N32 (უკანა ეზო) \n2022 \n\n[wpai_display_imported_files_here]
URL:https://events.iliauni.edu.ge/event/speqtakli-skamebi/
CATEGORIES:ღონისძიებები
ATTACH;FMTTYPE=image/png:https://events.iliauni.edu.ge/wp-content/uploads/2022/11/70868.png
END:VEVENT
END:VCALENDAR