BEGIN:VCALENDAR
VERSION:2.0
PRODID:-//უნივერსიტეტის ღონისძიებების პორტალი - ECPv6.2.8.2//NONSGML v1.0//EN
CALSCALE:GREGORIAN
METHOD:PUBLISH
X-ORIGINAL-URL:https://events.iliauni.edu.ge
X-WR-CALDESC:Events for უნივერსიტეტის ღონისძიებების პორტალი
REFRESH-INTERVAL;VALUE=DURATION:PT1H
X-Robots-Tag:noindex
X-PUBLISHED-TTL:PT1H
BEGIN:VTIMEZONE
TZID:Asia/Dubai
BEGIN:STANDARD
TZOFFSETFROM:+0400
TZOFFSETTO:+0400
TZNAME:+04
DTSTART:20220101T000000
END:STANDARD
END:VTIMEZONE
BEGIN:VEVENT
DTSTART;TZID=Asia/Dubai:20221104T190500
DTEND;TZID=Asia/Dubai:20221104T190500
DTSTAMP:20260424T003511
CREATED:20221103T091756Z
LAST-MODIFIED:20240201T112841Z
UID:10000286-1667588700-1667588700@events.iliauni.edu.ge
SUMMARY:ფორუმი „Tbilisi PR Days • თბილისის პიარის დღეები“
DESCRIPTION:ილიას სახელმწიფო უნივერსიტეტის საზოგადოებასთან ურთიერთობების სამაგისტრო პროგრამის სტუდენტების ორგანიზებით 4-5 ნოემბერს გაიმართება კომუნიკაციის სფეროში საქართველოში პირველი საერთაშორისო ფორუმი „თბილისის პიარის დღეები“. \n4-5 ნოემბერს საზოგადოებასთან ურთიერთობის მსოფლიოს წამყვანი სპეციალისტები პანდემიის პერიოდში პიარისა და მარკეტინგის სფეროს გამოწვევებისა და გადაჭრის გზებზე ისაუბრებენ. \n\n4 ნოემბერს\, ფორუმის პირველ დღეს\, მსოფლიოს წამყვანი უნივერსიტეტების პროფესორები იტალიიდან\, საფრანგეთიდან\, სერბეთიდან და ავსტრიიდან მსოფლიოში კომუნიკაციების სფეროს გამოწვევებზე ისაუბრებენ. პირველი დღე სრულად დისტანციურ ფორმატში წარიმართება პლატფორმა ზუმის საშუალებით და მასზე დასწრებას შეძლებთ ბმულზე: https://bit.ly/3TgZLPX\n5 ნოემბერს\, ფორუმის მეორე დღეს\, რეგიონის წამყვანი კომპანიებისა და არასამთავრობო ორგანიზაციების (Gepra\, Goodwill\, PSP\, Loialte\, Key Communication\, Global Compact Network Georgia\, Beeline) წარმომადგენლები იმსჯელებენ\, როგორი სტრატეგიები შეიმუშავეს საზოგადოებასთან ურთიერთობის მიმართულებით СOVID-19 კრიზისის დროს\, ასევე რა მიდგომები ჩამოყალიბდა კორპორაციული პასუხისმგებლობის კუთხით სხვადასხვა ბიზნესსექტორში.ფორუმის მეორე დღე ჩატარდება ილიას სახელმწიფო უნივერსიტეტის ტექნოლოგიის კორპუსის T 102 დარბაზში.\n\n\nგანრიგი \n4 ნოემბერი \nმოდერატორი: ნატალია ავლოხაშვილი\, ილიას სახელმწიფო უნივერსიტეტის საზოგადოებასთან ურთიერთობების სამაგისტრო პროგრამის სტუდენტი \n19:05-19:15 მისალმება \n\nპროფესორი დიმიტრი ჯაფარიძე\, ილიას სახელმწიფო უნივერსიტეტის ბიზნესის\, ტექნოლოგიისა და განათლების ფაკულტეტის დეკანი\nპროფესორი თორნიკე გურული\, ილიას სახელმწიფო უნივერსიტეტის საზოგადოებასთან ურთიერთობების სამაგისტრო პროგრამის ხელმძღვანელი\n\n19:15-19:35 თემა: PR ციფრულ ეპოქაში \nპროფესორი ლიუპკა ნაუმოვსკა\, რენეს ბიზნესსკოლა (საფრანგეთი) \n19:35-19:55 თემა: PR-ის სპეციფიკა ხელოვნების ინდუსტრიაში \nპროფესორი მარტინ ა.მ. გენზინგერი\, ალ აქავიან უნივერსიტეტი (მოროკო) \n19:55-20:15 თემა: მედიის როლი PR-ში \nპროფესორი სლობოდან პენეზიჩი\, ნიკოლას ტესლას უნივერსიტეტი (სერბეთი) \n20:15-20:35 თემა: PR საერთაშორისო ურთიერთობებში \nპროფესორი ნიკოლა სტრიძოლო\, ტერამოს უნივერსიტეტი (იტალია) \n20:35-20:45 კითხვა/პასუხი \n20:45-20:50 ფორუმის შეჯამება \n\n5 ნოემბერი \nთემა: როგორ შეიცვალა პიარის მიმართულება COVID-19-ის პანდემიის დროს? რა გამოწვევები შეხვდათ კომპანიებს და როგორ გაუმკლავდნენ \n16:00-16:05 ფორუმის გახსნა \nმომხსენებლები: თინათინ იმერლიშვილი\, ნათია შაფათავა\, ილიას სახელმწიფო უნივერსიტეტის საზოგადოებასთან ურთიერთობის სამაგისტრო პროგრამის სტუდენტები \n16:05-16:10 მისალმება \nპროფესორი თორნიკე გურული\, ილიას სახელმწიფო უნივერსიტეტის საზოგადოებასთან ურთიერთობის სამაგისტრო პროგრამის ხელმძღვანელი \n16:10-16:25 მოხსენება \nსალომე ზურაბიშვილი\, ილიას სახელმწიფო უნივერსიტეტის მოწვეული ლექტორი; გაეროს გლობალური შეთანხმების საქართველოს ქსელის აღმასრულებელი დირექტორი \n16:25-16:40 მოხსენება \nთეონა ბაღდავაძე\, PR სააგენტოს Key Communications-ის დამფუძნებელი \n16:40-16:55 მოხსენება \nგიგა ფაიქიძე\, აუდიტორული და საკონსულტაციო კომპანია „ლოიალტეს“ დამფუძნებელი; მცირე და საშუალო მეწარმეობის განვითარების ასოციაციის (SMEDA) დამფუძნებელი და აღმასრულებელი დირექტორი \n16:55-17:10 მოხსენება \nგურანდა არჩუაძე\, ჰიპერმარკეტების ქსელ „გუდვილის“ პიარისა და მარკეტინგის მენეჯერი \n17:10-17:25 მოხსენება \nნუცა სუბელიანი\, ილიას სახელმწიფო უნივერსიტეტის მოწვეული ლექტორი; საკონსულტაციო კომპანია „ჯეპრას“ უფროსი პიარ კონსულტანტი \n17:40-17:55 მოხსენება \nსოფო ბალავაძე\, ვეონ საქართველოს კომუნიკაციების სპეციალისტი \n17:55-18:10 თემის შეჯამება \nგიორგი კალატოზიშვილი\, ილიას უნივერსიტეტის მოწვეული ლექტორი \n18:10-18:20 კითხვა/პასუხი \n18:20-18:25 ფორუმის დახურვა და გეგმების შეჯამება \nთინათინ იმერლიშვილი\, ნათია შაფათავა\, ილიას სახელმწიფო უნივერსიტეტის საზოგადოებასთან ურთიერთობის სამაგისტრო პროგრამის სტუდენტები \n\nფორუმთან დაკავშირებული ინფორმაცია \nფორუმის პირველი დღე \nდრო: 4 ნოემბერი\, 19:00-21:00 \nფორმატი: დისტანციური \nსამუშაო ენა: ინგლისური \nZOOM: https://bit.ly/3TgZLPX \n\nMeeting ID: 869 1328 7880\n\nფორუმის მეორე დღე \nდრო: 5 ნოემბერი\, 16:00-19:00 \nადგილმდებარეობა: T102\, ილიას სახელმწიფო უნივერსიტეტის ტექნოლოგიების კორპუსი \nსამუშაო ენა: ქართული \n2022 წელი \n\n[wpai_display_imported_files_here]
URL:https://events.iliauni.edu.ge/event/phorumi-tbilisi-pr-days-thbilisis-piaris-dgheebi/
CATEGORIES:ღონისძიებები
ATTACH;FMTTYPE=image/jpeg:https://events.iliauni.edu.ge/wp-content/uploads/2022/11/70820.jpg
END:VEVENT
END:VCALENDAR