BEGIN:VCALENDAR
VERSION:2.0
PRODID:-//უნივერსიტეტის ღონისძიებების პორტალი - ECPv6.2.8.2//NONSGML v1.0//EN
CALSCALE:GREGORIAN
METHOD:PUBLISH
X-WR-CALNAME:უნივერსიტეტის ღონისძიებების პორტალი
X-ORIGINAL-URL:https://events.iliauni.edu.ge
X-WR-CALDESC:Events for უნივერსიტეტის ღონისძიებების პორტალი
REFRESH-INTERVAL;VALUE=DURATION:PT1H
X-Robots-Tag:noindex
X-PUBLISHED-TTL:PT1H
BEGIN:VTIMEZONE
TZID:Asia/Dubai
BEGIN:STANDARD
TZOFFSETFROM:+0400
TZOFFSETTO:+0400
TZNAME:+04
DTSTART:20220101T000000
END:STANDARD
END:VTIMEZONE
BEGIN:VEVENT
DTSTART;TZID=Asia/Dubai:20221022T160000
DTEND;TZID=Asia/Dubai:20221022T160000
DTSTAMP:20260424T033739
CREATED:20221018T071529Z
LAST-MODIFIED:20240201T112915Z
UID:10000307-1666454400-1666454400@events.iliauni.edu.ge
SUMMARY:პროფესორ ირინა ლობჟანიძის წიგნის „სასრული პოზიციის კომპიუტერული მორფოლოგია: ქართული ენის ანალიზატორი და გენერატორი“ პრეზენტაცია
DESCRIPTION:22 ოქტომბერს\, 16:00 საათზე\, ილიას სახელმწიფო უნივერსიტეტის წიგნის სახლში „ლიგამუსი“ გაიმართება პროფ. ირინა ლობჟანიძის წიგნის პრეზენტაცია: ”Finite-State Computational Morphology: An Analyzer and Generator for Georgian (იხ. Springer Publishing https://link.springer.com/book/10.1007/978-3-030-90248-3). \nნაშრომის შესახებ \nნაშრომი საერთაშორისო სამეცნიერო საზოგადოებას სთავაზობს წლების განმავლობაში ილიას სახელმწიფო უნივერსიტეტში ქართული ენის კორპუსისა და კომპიუტერული დამუშავების მიმართულებით მიმდინარე კვლევის შედეგებს. წიგნი შედგება სამი თავისა და დანართებისაგან. პირველი თავი ეთმობა ქართული ენის მორფოსინტაქსურ სტრუქტურას; მეორე – სასრული პოზიციის ტექნოლოგიის პრინციპების გამოყენებას ქართული ენის ტოკენიზატორისა და მორფოლოგიური ანალიზატორის შესაქმნელად; მესამე თავში კი განხილულია ანალიზატორის შედეგების ტესტირება და შეფასება\, შეჯამებულია კვლევის ძირითადი შედეგები. \nავტორის შესახებ იხ. https://faculty.iliauni.edu.ge/arts/irina-lobzhanidze/ \nპრეზენტაციაზე პროფ. ნინო დობორჯგინიძე შეაჯამებს ლინგვისტურ კვლევათა ინსტიტუტში ქართული ენის კორპუსისა და მორფოლოგიური ანალიზატორის შექმნის მრავალწლიანი პროექტის შედეგებს. მორფოლოგიური ანალიზატორის საფუძველზე შექმნილი ტექნოლოგიური რესურსების შესახებ ისაუბრებენ კიბერლაბორატორია „უნილაბის“ ხელმძღვანელი\, პროფ. სანდრო ასათიანი და ამავე ლაბორატორიის პროგრამისტი თემურ ჩიჩუა. \nდრო: 22 ოქტომბერი\, 16:00 საათი \nადგილმდებარეობა: წიგნის სახლი „ლიგამუსი“\, ილია ჭავჭავაძის გამზირი N32 \nსამუშაო ენა: ქართული \nდასწრება თავისუფალია. \n2022 წელი \n  \n\n[wpai_display_imported_files_here]
URL:https://events.iliauni.edu.ge/event/prophesor-irina-lobzhanidzis-tsignis-sasruli-pozitsiis-kompiuteruli-morphologia-qarthuli-enis-analizatori-da-generatori-prezentatsia/
CATEGORIES:ღონისძიებები
ATTACH;FMTTYPE=image/jpeg:https://events.iliauni.edu.ge/wp-content/uploads/2022/10/69764.jpg
END:VEVENT
END:VCALENDAR