BEGIN:VCALENDAR
VERSION:2.0
PRODID:-//უნივერსიტეტის ღონისძიებების პორტალი - ECPv6.2.8.2//NONSGML v1.0//EN
CALSCALE:GREGORIAN
METHOD:PUBLISH
X-WR-CALNAME:უნივერსიტეტის ღონისძიებების პორტალი
X-ORIGINAL-URL:https://events.iliauni.edu.ge
X-WR-CALDESC:Events for უნივერსიტეტის ღონისძიებების პორტალი
REFRESH-INTERVAL;VALUE=DURATION:PT1H
X-Robots-Tag:noindex
X-PUBLISHED-TTL:PT1H
BEGIN:VTIMEZONE
TZID:Asia/Dubai
BEGIN:STANDARD
TZOFFSETFROM:+0400
TZOFFSETTO:+0400
TZNAME:+04
DTSTART:20220101T000000
END:STANDARD
END:VTIMEZONE
BEGIN:VEVENT
DTSTART;TZID=Asia/Dubai:20221013T140000
DTEND;TZID=Asia/Dubai:20221013T140000
DTSTAMP:20260424T020235
CREATED:20221011T084334Z
LAST-MODIFIED:20240201T112759Z
UID:10000249-1665669600-1665669600@events.iliauni.edu.ge
SUMMARY:ERASMUS+ საინფორმაციო შეხვედრა ილიაუნის სტუდენტებისათვის
DESCRIPTION:13\, 14 და 15 ოქტომბერს აღინიშნება ერაზმუსის საერთაშორისო დღეები! \nამასთან დაკავშირებით 13 ოქტომბერს\, ხუთშაბათს\, 14:00 საათზე ილიას სახელმწიფო უნივერსიტეტის საერთაშორისო ურთიერთობების სამსახურის ორგანიზებით გაიმართება საინფორმაციო შეხვედრა ილიაუნის სტუდენტებისათვის Erasmus+ გაცვლითი პროგრამის შესაძლებლობების შესახებ. \nადგილმდებარეობა: G106\, ქ. ჩოლოყაშვილის გამზ. 3/5. \nდრო: 13 ოქტომბერი 14:00. \nდამატებითი კითხვების შემთხვევაში შეგიძლიათ დაუკავშირდეთ: \nსაერთაშორისო ურთიერთობების სამსახური\nქაქუცა ჩოლოყაშვილის გამზირი 3/5\, ოთახი E120\n☏ 995 322 220009-367\nerasmusplus@iliauni.edu.ge \n  \n\n[wpai_display_imported_files_here]
URL:https://events.iliauni.edu.ge/event/erasmus-sainphormatsio-shekhvedra-iliaunis-studentebisathvis/
CATEGORIES:ღონისძიებები
ATTACH;FMTTYPE=image/png:https://events.iliauni.edu.ge/wp-content/uploads/2022/10/69484.png
END:VEVENT
BEGIN:VEVENT
DTSTART;TZID=Asia/Dubai:20221013T180000
DTEND;TZID=Asia/Dubai:20221013T180000
DTSTAMP:20260424T020235
CREATED:20221010T093011Z
LAST-MODIFIED:20240201T112800Z
UID:10000251-1665684000-1665684000@events.iliauni.edu.ge
SUMMARY:იდეიდან კომპანიამდე: 5 მთავარი ინგრედიენტი წარმატებისთვის – კარინა სოტნიკის საჯარო ლექცია
DESCRIPTION:13 ოქტომბერს\, 18:00 საათზე\, ილიას სახელმწიფო უნივერსიტეტის ორგანიზებით\, უნივერსიტეტის შესაძლებლობების განვითარების პროგრამის ფარგლებში\, გაიმართება WorldUpstart-ის დამფუძნებლისა და აღმასრულებელი დირექტორის კარინა სოტნიკის საჯარო ლექცია თემაზე: „იდეიდან კომპანიამდე: 5 მთავარი ინგრედიენტი წარმატებისთვის“. \nკარინა სოტნიკის შესახებ \nკარინა სოტნიკი არის სერიული ანტრეპრენერი\, მენტორი და მრჩეველი\, რომელსაც აქვს სამეწარმეო ეკოსისტემის შექმნის მრავალწლიანი გამოცდილება. მან დააარსა AppItUP Challenge\, ციფრული აქსელერატორი ახალი მობილური ტექნოლოგიებისთვის\, რის შედეგადაც შეიქმნა 19 ახალი კომპანია. ამ უკანასკნელში იგი ხელმძღვანელობდა Life Science-ის კომერციალიზაციის პროგრამას 22 მონაწილე უნივერსიტეტთან ერთად და შექმნა უახლესი MedTech აქსელერატორი\, რომელიც ორიენტირებულია აშშ-ს ბაზარზე შესვლაზე. გასული ათწლეულის განმავლობაში კარინამ ასევე შექმნა და განავითარა WorldUpstart\, საკონსულტაციო კომპანია\, რომელსაც აქვს 2 მთავარი მისია: ჯანდაცვის გლობალური კომპანიების დახმარება აშშ-ს ბაზარზე შესვლაში და აკადემიური ინსტიტუტების დახმარება აშშ-სა და მის გარშემო. \nშეხვედრას მოდერაციას გაუწევს: თინი მამუჩაშვილი\, ილიას სახელმწიფო უნივერსიტეტის Zoomout-ის მენეჯერი. \n„საერთაშორისო განათლების ამერიკული საბჭოები” 2021 წლის სექტემბრიდან საქართველოში აშშ-ის საელჩოს ფინანსური მხარდაჭერით ახორციელებს „უნივერსიტეტების შესაძლებლობების განვითარების პროგრამას“ (UCBP)\, რომელიც მიზნად ისახავს საქართველოს უმაღლეს საგანმანათლებლო დაწესებულებებში სამეწარმეო კულტურის განვითარებას\, ტექნოლოგიების კომერციალიზაციის პროცესის ხელშეწყობასა და უნივერსიტეტების\, ბიზნესისა და სამთავრობო სტრუქტურების თანამშრომლობის გაძლიერებას. \nმიმდინარე წლის ოქტომბერ-ნოემბერში\, პროექტში ჩართული უნივერსიტეტები და სამთავრობო ორგანიზაციები ამერიკელ ექსპერტებს უმასპინძლებენ და ერთობლივ პროექტებს განახორციელებენ\, რომელიც მიზნად ისახავს ქართულ და ამერიკულ საგანმანათლებლო დაწესებულებებს შორის პარტნიორობის გაღრმავებას\, ამერიკული გამოცდილების გაზიარებასა და ინსტიტუტების თემატურ გაძლიერებას. \nსამუშაო ენა: ინგლისური \nშეხვედრაზე დასასწრებად საჭიროა გაიაროთ წინასწარი რეგისტრაცია 13 ოქტომბერს 15:00 საათამდე. \nრეგისტრაციის ბმული: https://bit.ly/3Ev2EIP \nდრო: 13 ოქტომბერი\, 18:00 საათი \nადგილმდებარეობა: ილიას სახელმწიფო უნივერსიტეტი\, G კორპუსის საკონფერენციო დარბაზი\, გიორგი წერეთლის ქ. N1 \nდასწრება შეუძლია ნებისმიერ დაინტერესებულ პირს. \n2022 წელი \n\n[wpai_display_imported_files_here]
URL:https://events.iliauni.edu.ge/event/ideidan-kompaniamde-5-mthavari-ingredienti-tsarmatebisthvis-karina-sotnikis-sajaro-leqtsia/
CATEGORIES:ღონისძიებები
ATTACH;FMTTYPE=image/png:https://events.iliauni.edu.ge/wp-content/uploads/2022/10/69479.png
END:VEVENT
BEGIN:VEVENT
DTSTART;TZID=Asia/Dubai:20221013T200000
DTEND;TZID=Asia/Dubai:20221013T200000
DTSTAMP:20260424T020235
CREATED:20221010T121243Z
LAST-MODIFIED:20240201T112755Z
UID:10000245-1665691200-1665691200@events.iliauni.edu.ge
SUMMARY:პროფესორ რევაზ კორინთელის ორტომეულის „დინამიკური ფსიქიატრია“ პრეზენტაცია
DESCRIPTION:13 ოქტომბერს\, 20:00 საათზე\, ილიას სახელმწიფო უნივერსიტეტის წიგნის სახლ „ლიგამუსში“ გაიმართება პროფესორ რევაზ კორინთელის ორტომეულის „დინამიკური ფსიქიატრია“ პრეზენტაცია. \nწიგნის პირველ ტომში განხილულია სიღრმის ფსიქოლოგიის წინარე ეტაპი\, მისი ძირითადი სკოლები\, როგორიცაა: ფროიდის\, ადლერის\, ჟანეს და ამ მიმართულებების თეორიული პრინციპების საილუსტრაციოდ ნაჩვენებია შესაბამისი კლინიკური შემთხვევები; აგრეთვე ტვინისა და ფსიქიკის მიმართების საკითხი თანამედროვე ნეირომეცნიერების თვალსაზრისით. \nმეორე ტომი ეხება კარლ გუსტავ იუნგისა და რობერტო ასაჯოლის ფსიქოთერაპიულ მიმართულებებს. მოკლედ არის მიმოხილული კლასიკური დინამიკური ფსიქიატრიის მომდევნო პერიოდი. აღწერილია მედიტაციის ფორმები და ვიზუალიზაციის სხვადასხვა ტექნიკა. წიგნში ანალიტიკური ფსიქოლოგიის თეორიული პრინციპების საილუსტრაციოდ მოყვანილია იუნგის მიერ აღწერილი კლინიკური შემთხვევები. \nავტორის შესახებ \nრევაზ კორინთელი 2006 წლიდან ილიას სახელმწიფო უნივერსიტეტის სრული პროფესორია. იგი 1992 წლიდან არის საქართველოს ფსიქოთერაპევტთა და კლინიკურ ფსიქოლოგთა ასოციაციის თანაპრეზიდენტი\, ხოლო 2022 წლიდან – საქართველოს ანალიტიკური ფსიქოლოგიისა და საქართველოს ჯგუფური ფსიქოთერაპიის ასოციაციის პრეზიდენტი. 2005 წელს რევაზ კორინთელი აირჩიეს ამერიკის ჯგუფური ფსიქოთერაპიის ნამდვილ წევრად\, ხოლო 2010 წლიდან ამავე ასოციაციის საპატიო წევრია. რევაზ კორინთელი ასევე გახლავთ საერთაშორისო ანალიტიკური ფსიქოლოგიისა და საერთაშორისო ჯგუფური ფსიქოთერაპიის ასოციაციის ნამდვილი წევრი. ვრცელი ბიოგრაფიისთვის მიჰყევით ბმულს: https://faculty.iliauni.edu.ge/arts/revaz-korintheli \nდრო: 13 ოქტომბერი\, 20:00 საათი. \nადგილმდებარეობა: წიგნის სახლი „ლიგამუსი“\, ილია ჭავჭავაძის გამზირი #32. \nსამუშაო ენა: ქართული \nდასწრება თავისუფალია. \n2022 წელი \n\n[wpai_display_imported_files_here]
URL:https://events.iliauni.edu.ge/event/prophesor-revaz-korinthelis-ortomeulis-dinamikuri-phsiqiatria-prezentatsia/
CATEGORIES:ღონისძიებები
ATTACH;FMTTYPE=image/png:https://events.iliauni.edu.ge/wp-content/uploads/2022/10/69474.png
END:VEVENT
END:VCALENDAR