BEGIN:VCALENDAR
VERSION:2.0
PRODID:-//უნივერსიტეტის ღონისძიებების პორტალი - ECPv6.2.8.2//NONSGML v1.0//EN
CALSCALE:GREGORIAN
METHOD:PUBLISH
X-ORIGINAL-URL:https://events.iliauni.edu.ge
X-WR-CALDESC:Events for უნივერსიტეტის ღონისძიებების პორტალი
REFRESH-INTERVAL;VALUE=DURATION:PT1H
X-Robots-Tag:noindex
X-PUBLISHED-TTL:PT1H
BEGIN:VTIMEZONE
TZID:Asia/Dubai
BEGIN:STANDARD
TZOFFSETFROM:+0400
TZOFFSETTO:+0400
TZNAME:+04
DTSTART:20220101T000000
END:STANDARD
END:VTIMEZONE
BEGIN:VEVENT
DTSTART;TZID=Asia/Dubai:20221003T140000
DTEND;TZID=Asia/Dubai:20221003T140000
DTSTAMP:20260424T003635
CREATED:20220927T080917Z
LAST-MODIFIED:20240201T112812Z
UID:10000264-1664805600-1664805600@events.iliauni.edu.ge
SUMMARY:ნინო შარიქაძის საჯარო მოხსენება პროექტის ''Alumni Talks'' ფარგლებში
DESCRIPTION:3 ოქტომბერს\, 14:00 საათზე\, ილიას სახელმწიფო უნივერსიტეტის სადოქტორო პროგრამის კურსდამთავრებული ნინო შარიქაძე საერთაშორისო სადოქტორო სკოლის პროექტის ”Alumni Talks” ფარგლებში წაიკითხავს საჯარო მოხსენებას თემაზე „ადრენალურ ჯირკვაში სტეროიდული ჰორომების რეგულაცია სიგმა-1 რეცეპტორის მიერ“. \nმოხსენების შესახებ \nსტრესი ცნობილი რისკფაქტორია წამალ-დამოკიდებულებისა და მისი რეციდივის მიმართ მოწყვლადობის განვითარებაში. სტრესი იწვევს კორტიკოტროპინ რილიზინგ ფაქტორის გამონთავისუფლების ცვლილებებს თავის ტვინში\, რაც\, თავის მხრივ\, გავლენას ახდენს წამალ-დამოკიდებულებაზე. ამასთან ნანახია\, რომ სტრესი მოქმედებს დამოკიდებულების ციკლის სამივე სტადიაზე – ჭარბი სმა/ინტოქსიკაცია\, გადაჩვევა/ნეგატიური ეფექტი და პრეოკუპაცია/მოლოდინი\, რომლებიც ცხოველში იწვევს ემოციურ ალოსტატურ დატვირთვასა და მდგომარეობას\, რაც შემდგომ აყალიბებს დამოკიდებულების მზარდ მოტივაციურ პათოლოგიას. სიგმა-1 რეცეპტორი (Sig-1R) წარმოადგენს მიტოქონდრიასთან ასოცირებულ ენდოპლაზმური ბადის (ებ) მემბრანებზე (MAMs) არსებულ ცილა-შაპერონს\, რომელიც ინოზიტოლ-1\,4\,5\, ტრიფოსფატ-ის რეცეპტორებთან (IP3Rs) ინტერაქციით ებ-სა და მიტოქონდრიას შორის Ca 2+ -ის მიმოცვლის მოდულაციას უწყობს ხელს. Sig-1R ჭარბად ექსპრესირდება ცენტრალურ ნერვულ სისტემასა და თავის ტვინის ისეთ რეგიონებში\, რომლებიც ჩართულია ემოციებსა და ნეიროფსიქიატრიულ აშლილობებში\, ხოლო აგონისტები წარმოადგენს წამალთა იმ კლასს\, რომელიც გამოიყენება დეპრესიისა და შფოთვების სამკურნალოდ. პრეკლინიკური კვლევებით ნანახია\, რომ მხოლოდ Sig-1R-ის აქტივაცია საკმარისია ანტიდეპრესანტული ეფექტის მისაღებად. ეს ეფექტი ცხადყო ადამიანებზე ჩატარებულმა პრეკლინიკურმა კვლევებმაც\, რა დროსაც ნახეს\, რომ Sig-1R-ის აგონისტები ავლენს ძლიერ ანტიდეპრესანტულ ეფექტს. ყოველივე ზემოთ თქმულიდან გამომდინარე\, კვლევის მიზანია Sig-1R-ის როლის შესწავლა სტრესსა და სტრესის საპასუხო მოლეკულურ მექანიზმებში\, აგრეთვე თირკმელზედა ჯირკვლიდან სტრესული ჰორმონების (მაგ. კორტიკოსტერონი) გამოყოფასა და სინთეზში. \nმომხსენებლის შესახებ \n2013 წელს ნინო შარიქაძეს მიენიჭა ბიოფარმაციის მაგისტრის ხარისხი ილიას სახელმწიფო უნივერსიტეტში. 2018 წელს მან წარმატებით დაიცვა სადოქტორო დისერტაცია საბუნებისმეტყველო მეცნიერებებისა და საინჟინრო ფაკულტეტზე და მიენიჭა სიცოცხლის შემსწავლელ მეცნიერებათა დოქტორის აკადემიური ხარისხი მოლეკულური ბიოტექნოლოგიისა და ბიოქიმიის პროგრამის მიმართულებით. მის სადისერტაციო სამეცნიერო კვლევით ნაშრომში შესწავლილია ფლავონოიდ ნობილეტინის მოქმედება მიტოქონდრიულ ბიოენერგეტიკაზე. დოქტორანტურის პერიოდში გამოაქვეყნა ორი სამეცნიერო პუბლიკაცია მაღალ იმპაქტიან რეფერირებად ჟურნალებში. \n2015-2016 წლებში ნინო შარიქაძემ მონაწილეობა მიიღო ბორდოს უნივერსიტეტისა და ილიას სახელმწიფო უნივერსიტეტის სადოქტორო გაცვლით პროგრამაში MID Erasmus Mundus\, რომლის ფარგლებშიც სადოქტორო კვლევის ნაწილი შეასრულა უჯრედის ენერგეტიკული მეტაბოლიზმის ლაბორატორიაში\, (ბორდო\, საფრანგეთი). \n2013-დან 2019 წლამდე მუშაობდა მკვლევრად ილიას სახელმწიფო უნივერსიტეტის ქიმიური ბიოლოგიის ინსტიტუტში. 2019 წლიდან კი იყო ამერიკის ჯანმრთელობის ეროვნული ინსტიტუტის პოსდოკი (NIDA\, NIH). \nდრო: 3 ოქტომბერი\, 14:00 საათი \nადგილმდებარეობა: T 102 აუდიტორია\, ტექნოლოგიების კორპუსი (ქ. ჩოლოყაშვილის გამზ. N3/5) \nსამუშაო ენა: ქართული \nდასწრება თავისუფალია. \n2022 წელი \n\n[wpai_display_imported_files_here]
URL:https://events.iliauni.edu.ge/event/nino-shariqadzis-sajaro-mokhseneba-proeqtis-alumni-talks-pharglebshi/
CATEGORIES:ღონისძიებები
ATTACH;FMTTYPE=image/png:https://events.iliauni.edu.ge/wp-content/uploads/2022/09/68713.png
END:VEVENT
END:VCALENDAR