BEGIN:VCALENDAR
VERSION:2.0
PRODID:-//უნივერსიტეტის ღონისძიებების პორტალი - ECPv6.2.8.2//NONSGML v1.0//EN
CALSCALE:GREGORIAN
METHOD:PUBLISH
X-WR-CALNAME:უნივერსიტეტის ღონისძიებების პორტალი
X-ORIGINAL-URL:https://events.iliauni.edu.ge
X-WR-CALDESC:Events for უნივერსიტეტის ღონისძიებების პორტალი
REFRESH-INTERVAL;VALUE=DURATION:PT1H
X-Robots-Tag:noindex
X-PUBLISHED-TTL:PT1H
BEGIN:VTIMEZONE
TZID:Asia/Dubai
BEGIN:STANDARD
TZOFFSETFROM:+0400
TZOFFSETTO:+0400
TZNAME:+04
DTSTART:20220101T000000
END:STANDARD
END:VTIMEZONE
BEGIN:VEVENT
DTSTART;TZID=Asia/Dubai:20220709T130000
DTEND;TZID=Asia/Dubai:20220709T130000
DTSTAMP:20260424T221100
CREATED:20220707T152836Z
LAST-MODIFIED:20240201T113033Z
UID:10000335-1657371600-1657371600@events.iliauni.edu.ge
SUMMARY:ცნობიერების ამაღლება ბავშვთა მიმართ ძალადობის შესახებ – აქცია კაფე „მზიურში“ საერთაშორისო პროექტის INSIDE OUT მხარდაჭერით
DESCRIPTION:9 ივლისს\, 13:00 საათზე\, ილიას სახელმწიფო უნივერსიტეტის სოციალური მუშაობის პროგრამის სტუდენტები საერთაშორისო პროექტის INSIDE OUT ფარგლებში ბავშვთა ქალაქ მზიურის კაფე „მზიურის“ ტერიტორიაზე გამართავენ სოციალურ აქციას\, რომლის მიზანია საზოგადოების ინფორმირება და ცნობიერების ამაღლება ბავშვთა მიმართ ძალადობის მდგომარეობის შესახებ. \nრეალობის გარეთ გამოსატანად პროექტის სოციალური აქტივობის ფარგლებში სტუდენტებმა გადაიღეს 47 აქტივისტის ფოტოპორტრეტი\, რომელთაც ახლავს მკაფიო გზავნილები ბავშვთა მიმართ ძალადობის წინააღმდეგ. \nღონისძიებაზე მოწვეულნი არიან არასამთავრობო ორგანიზაციისა და ილიას სახელმწიფო უნივერსიტეტის წარმომადგენლები\, სტუდენტები და სამოქალაქო აქტივისტები. ღონისძიებაზე განხორციელდება პროექტის ფარგლებში გადაღებული ფოტოპორტრეტებისა და პოსტერების ინსტალაცია. \n“INSIDE OUT” პროექტის არსი: \nგლობალური მონაწილეობის უზრუნველყოფითა და კონკრეტული გზავნილების გავრცელებით მსოფლიოს უკეთესობისკენ შეცვლა. პროექტი ახალგაზრდა ფრანგი ხელოვანის ჯეი არის წამოწყებულია. \nმოქალაქეებს აქვთ საშუალება\, პოზიცია გამიხატონ. “INSIDE OUT” სათქმელის საზოგადოებამდე მისატანად სათანადო პლატფორმას ქმნის პირადი მოსაზრების ხელოვნების ნიმუშად გარდაქმნის გზით. ამჯერად 138 ქვეყნის 2329 ჯგუფური აქციაა განხორციელებული\, რომლებიც თემატურადაც მრავალფეროვან\, კონკრეტული ქვეყნისთვის აქტუალურ და მნიშვნელოვან საკითხებს მოიცავს. მეტი ინფორმაციის მისაღებად ეწვიეთ პროექტის ვებგვერდს https://www.insideoutproject.net/ \nპროექტი შექმნილია ევროკავშირის მხარდაჭერით. მასზე მთლიანად პასუხისმგებელია ექსპერტიზ ფრანსი და ჩეხეთის განვითარების სააგენტო. შესაძლოა\, რომ იგი არ გამოხატავდეს ევროკავშირის შეხედულებას. \nდრო: 9 ივლისი\, 13:00 საათი \nადგილმდებარეობა: ბავშვთა ქალაქი მზიური \nშემოგვიერთდით! \n2022 წელი \n\n[wpai_display_imported_files_here]
URL:https://events.iliauni.edu.ge/event/tsnobierebis-amaghleba-bavshvtha-mimarth-dzaladobis-shesakheb-aqtsia-kaphe-mziurshi-saerthashoriso-proeqtis-inside-out-mkhardatcherith/
CATEGORIES:ღონისძიებები
ATTACH;FMTTYPE=image/png:https://events.iliauni.edu.ge/wp-content/uploads/2022/07/66776.png
END:VEVENT
BEGIN:VEVENT
DTSTART;TZID=Asia/Dubai:20220709T170000
DTEND;TZID=Asia/Dubai:20220709T170000
DTSTAMP:20260424T221100
CREATED:20220705T084435Z
LAST-MODIFIED:20240201T113031Z
UID:10000334-1657386000-1657386000@events.iliauni.edu.ge
SUMMARY:შეხვედრა ფონდთან „ორბელიანი საქართველო“ როგორ მოვიპოვოთ დაფინანსება პროექტისთვის
DESCRIPTION:ილიას სახელმწიფო უნივერსიტეტი 9 ივლისს\, 17:00 საათზე\, უმასპინძლებს ორგანიზაცია „ორბელიანი საქართველოს“ წარმომადგენლებს\, რომლებიც კორპორაციული პასუხისმგებლობის\, სოციალური პროექტებისა და Crowdfunding-ის მნიშვნელობაზე ისაუბრებენ. \nთუ სოციალური პროექტები გაინტერესებს\, ინოვაციური იდეების ნაკლებობასაც არ უჩივი\, მაგრამ მათი განხორციელების რეალური გზები ჯერ კიდევ ვერ გიპოვია\, მაშინ ეს ტრენინგი შენთვის არის. \nტრენინგზე გაიგებ: \n\nრას ნიშნავს სოციალური პროექტები;\nრა არის ქრაუდფანდინგი (crowdfunding) და როგორ შეიძლება განხორციელდეს ინოვაციური იდეები;\nსაგრანტო შესაძლებლობების შესახებ\, რომლებსაც გთავაზობს „ორბელიანი საქართველო“ და USAID;\nმიმდინარე კონკურსებისა და დაგეგმილ აქტივობათა შესახებ.\n\nსპიკერები: \n\nანუკი ხონელიძე\, „ორბელიანი საქართველოს“ საზოგადოებასთან ურთიერთობის მენეჯერი;\nმარიამ მიროტაძე\, ამავე საზოგადოების პროექტების მენეჯერი.\n\nშეხვედრაზე დასწრება თავისუფალია. \nდრო: 9 ივლისი\, 17:00 საათი \nადგილმდებარეობა:  უნილაბის სივრცე (ილიაუნის ტექნოლოგიის კორპუსი) \n2022 წელი \n\n[wpai_display_imported_files_here]
URL:https://events.iliauni.edu.ge/event/shekhvedra-phondthan-orbeliani-saqarthvelo-rogor-movipovoth-daphinanseba-proeqtisthvis/
CATEGORIES:ღონისძიებები
ATTACH;FMTTYPE=image/png:https://events.iliauni.edu.ge/wp-content/uploads/2022/07/66538.png
END:VEVENT
END:VCALENDAR