BEGIN:VCALENDAR
VERSION:2.0
PRODID:-//უნივერსიტეტის ღონისძიებების პორტალი - ECPv6.2.8.2//NONSGML v1.0//EN
CALSCALE:GREGORIAN
METHOD:PUBLISH
X-WR-CALNAME:უნივერსიტეტის ღონისძიებების პორტალი
X-ORIGINAL-URL:https://events.iliauni.edu.ge
X-WR-CALDESC:Events for უნივერსიტეტის ღონისძიებების პორტალი
REFRESH-INTERVAL;VALUE=DURATION:PT1H
X-Robots-Tag:noindex
X-PUBLISHED-TTL:PT1H
BEGIN:VTIMEZONE
TZID:Asia/Dubai
BEGIN:STANDARD
TZOFFSETFROM:+0400
TZOFFSETTO:+0400
TZNAME:+04
DTSTART:20220101T000000
END:STANDARD
END:VTIMEZONE
BEGIN:VEVENT
DTSTART;TZID=Asia/Dubai:20220630T100000
DTEND;TZID=Asia/Dubai:20220630T100000
DTSTAMP:20260424T185936
CREATED:20220627T090924Z
LAST-MODIFIED:20241122T110929Z
UID:10000352-1656583200-1656583200@events.iliauni.edu.ge
SUMMARY:საერთაშორისო სტუდენტური კონფერენცია „უკრაინა თანამედროვე პერსპექტივიდან“
DESCRIPTION:30 ივნისს ილიას სახელმწიფო უნივერსიტეტი უმასპინძლებს საერთაშორისო სტუდენტურ კონფერენციას „უკრაინა თანამედროვე პერსპექტივიდან“. კონფერენცია გაიმართება ჰიბრიდულ რეჟიმში (Zoom საშუალებით და ადგილზე\, ილიას სახელმწიფო უნივერსიტეტში) და  მონაწილეობას მიიღებენ როგორც ქართველი\, ასევე უკრაინელი სტუდენტები. \nბოლო პერიოდში უკრაინაში განვითარებულმა მოვლენებმა უფრო მეტად გააღვივა ინტერესი ამ ქვეყნის\, მისი ისტორიის\, ეკონომიკის\, პოლიტიკის\, საზოგადოებისა და კულტურის მიმართ. სტუდენტური კონფერენციის მიზანიც უკრაინის შესახებ ცნობიერების ამაღლება\, უკრაინული საკითხის სხვადასხვა პერსპექტივიდან დანახვა და გაანალიზებაა. \nკონფერენცია იყოფა სამ სექციად: \n\nპოლიტიკა და საზოგადოება;\nუკრაინის საგარეო პოლიტიკა;\nჰიბრიდული ომი და პროპაგანდა.\n\nკონფერენციის დღის წესრიგი იხილეთ აქ. \nსამუშაო ენა: ინგლისური \nკონფერენციის გახსნა: 10:00 საათი \nადგილმდებარეობა: G106 საკონფერენციო დარბაზი (მის.: გ. წერეთლის N1) \nდასწრება თავისუფალია. \n2022 წელი \n\n[wpai_display_imported_files_here]
URL:https://events.iliauni.edu.ge/event/saerthashoriso-studenturi-konpherentsia-ukraina-thanamedrove-perspeqtividan/
CATEGORIES:ღონისძიებები
ATTACH;FMTTYPE=image/png:https://events.iliauni.edu.ge/wp-content/uploads/2022/06/66462.png
END:VEVENT
BEGIN:VEVENT
DTSTART;TZID=Asia/Dubai:20220630T104700
DTEND;TZID=Asia/Dubai:20220630T104700
DTSTAMP:20260424T185936
CREATED:20220630T064700Z
LAST-MODIFIED:20240201T113111Z
UID:10000350-1656586020-1656586020@events.iliauni.edu.ge
SUMMARY:გასვლითი ვორკშოპი ყაზბეგში \,\,კულტურები და სისტემები“
DESCRIPTION:ილიას სახელმწიფო უნივერსიტეტის უმაღლესი კვლევების ცენტრი ჰუმანიტარული და სოციალური მეცნიერების სტუდენტებისთვის აცხადებს კონკურსს ვორკშოპში „კულტურები და სისტემები“ მონაწილეობისთვის. ვორკშოპი ჩატარდება 12-14 ივლისს ილიას სახელმწიფო უნივერსიტეტის სტეფანწმინდის (ყაზბეგი) სასწავლო ბაზაზე. \nვორკშოპის მთავარი თემები იქნება: \n\nქართველ სტუდენტთა ღირებულებები;\nფანტასტიკის ჟანრის ლიტერატურა.\n\nვორკშოპში მონაწილეობა შეუძლიათ ილიას სახელმწიფო უნივერსიტეტის მეცნიერებათა და ხელოვნების ფაკულტეტის საბაკალავრო საფეხურის პირველი\, მეორე და მესამე კურსის სტუდენტებს. მისი დასრულების შემდეგ მონაწილეებს გადაეცემათ სერტიფიკატები. \nკონკურსში მონაწილეობის მისაღებად საჭიროა წინასწარი რეგისტრაცია. რეგისტრაციისას ვორკშოპის თემებიდან უნდა შეარჩიოთ ერთ-ერთი და ისაუბროთ\, რატომ გაინტერესებთ ეს საკითხი. \nრეგისტრაციისთვის მიჰყევით ბმულს: https://bit.ly/39XB8al \nგთხოვთ\, რეგისტრაციისთვის გამოიყენოთ ილიაუნის ელ.ფოსტა. \nგანაცხადის მიღების ბოლო ვადა: 6 ივლისი \nდამატებითი კითხვების შემთხვევაში მოგვმართეთ: cas@iliauni.edu.ge \n2022 წელი \n  \n  \n  \n  \n  \n\n[wpai_display_imported_files_here]
URL:https://events.iliauni.edu.ge/event/gasvlithi-vorkshopi-qhazbegshi-kulturebi-da-sistemebi/
CATEGORIES:ღონისძიებები
ATTACH;FMTTYPE=image/png:https://events.iliauni.edu.ge/wp-content/uploads/2022/06/66483.png
END:VEVENT
END:VCALENDAR