BEGIN:VCALENDAR
VERSION:2.0
PRODID:-//უნივერსიტეტის ღონისძიებების პორტალი - ECPv6.2.8.2//NONSGML v1.0//EN
CALSCALE:GREGORIAN
METHOD:PUBLISH
X-WR-CALNAME:უნივერსიტეტის ღონისძიებების პორტალი
X-ORIGINAL-URL:https://events.iliauni.edu.ge
X-WR-CALDESC:Events for უნივერსიტეტის ღონისძიებების პორტალი
REFRESH-INTERVAL;VALUE=DURATION:PT1H
X-Robots-Tag:noindex
X-PUBLISHED-TTL:PT1H
BEGIN:VTIMEZONE
TZID:Asia/Dubai
BEGIN:STANDARD
TZOFFSETFROM:+0400
TZOFFSETTO:+0400
TZNAME:+04
DTSTART:20220101T000000
END:STANDARD
END:VTIMEZONE
BEGIN:VEVENT
DTSTART;TZID=Asia/Dubai:20220616T143000
DTEND;TZID=Asia/Dubai:20220616T143000
DTSTAMP:20260425T194034
CREATED:20220609T094740Z
LAST-MODIFIED:20241122T110928Z
UID:10000369-1655389800-1655389800@events.iliauni.edu.ge
SUMMARY:საჯარო ლექცია „თურქული მედია და რუსეთ-უკრაინის ომის აღქმა საზოგადოების მიერ“
DESCRIPTION:16 ივნისს\, 14:30 საათზე\, ილიას სახელმწიფო უნივერსიტეტის წიგნის სახლში „ლიგამუსი“ გაიმართება ესკიშეჰირ ოსმანგაზის უნივერსიტეტის მკვლევრის\, სერჰან გულის საჯარო ლექცია თემაზე: „თურქული მედია და რუსეთ-უკრაინის ომის აღქმა საზოგადოების მიერ“. \nლექციის შესახებ: \nმომხსენებელი ისაუბრებს\, როგორ აღიქვამს რუსეთ-უკრაინის ომს თურქეთის საზოგადოება\, რა მიზეზები დგას ამ აღქმის მიღმა\, როგორ ეწინააღმდეგება თურქეთის ოფიციოზის საგარეო პოლიტიკა და საზოგადოებრივი აზრი ერთმანეთს და რა გამოწვევებს უჩენს ეს დუალიზმი თურქეთის რესპუბლიკას. \nდამატებითი ინფორმაცია იხილეთ აქ. \nსამუშაო ენა: ინგლისური \nდასწრება თავისუფალია. \n2022 წელი \n\n[wpai_display_imported_files_here]
URL:https://events.iliauni.edu.ge/event/sajaro-leqtsia-thurquli-media-da-ruseth-ukrainis-omis-aghqma-sazogadoebis-mier/
CATEGORIES:ღონისძიებები
ATTACH;FMTTYPE=image/png:https://events.iliauni.edu.ge/wp-content/uploads/2022/06/66341.png
END:VEVENT
END:VCALENDAR