BEGIN:VCALENDAR
VERSION:2.0
PRODID:-//უნივერსიტეტის ღონისძიებების პორტალი - ECPv6.2.8.2//NONSGML v1.0//EN
CALSCALE:GREGORIAN
METHOD:PUBLISH
X-ORIGINAL-URL:https://events.iliauni.edu.ge
X-WR-CALDESC:Events for უნივერსიტეტის ღონისძიებების პორტალი
REFRESH-INTERVAL;VALUE=DURATION:PT1H
X-Robots-Tag:noindex
X-PUBLISHED-TTL:PT1H
BEGIN:VTIMEZONE
TZID:Asia/Dubai
BEGIN:STANDARD
TZOFFSETFROM:+0400
TZOFFSETTO:+0400
TZNAME:+04
DTSTART:20220101T000000
END:STANDARD
END:VTIMEZONE
BEGIN:VEVENT
DTSTART;TZID=Asia/Dubai:20220602T170000
DTEND;TZID=Asia/Dubai:20220602T170000
DTSTAMP:20260425T180358
CREATED:20220531T092909Z
LAST-MODIFIED:20240201T113212Z
UID:10000387-1654189200-1654189200@events.iliauni.edu.ge
SUMMARY:მაია ჯეგის საჯარო ლექცია „ქართული რბილი ძალა ლიტერატურით: საჭმლისა და ღვინის მიღმა“
DESCRIPTION:2 ივნისს\, 17:00 საათზე\, ილიას სახელმწიფო უნივერსიტეტში ბრიტანელი მწერალი მაია ჯეგი გამართავს საჯარო ლექციას თემაზე: „ქართული რბილი ძალა ლიტერატურით: საჭმლისა და ღვინის მიღმა“. \nმაია ჯეგი ბრიტანელი მწერალი\, ჟურნალისტი\, ლიტერატურის კრიტიკოსი და ავტორია. მას მნიშვნელოვანი წვლილი აქვს შეტანილი ქართული კულტურის პოპულარიზაციის საქმეში. \nლექცია ჩატარდება ჰიბრიდულ ფორმატში\, როგორც ფიზიკურ სივრცეში\, ისე ონლაინ. მონაწილეობისთვის საჭიროა წინასწარი რეგისტრაცია და დასწრების სასურველი ფორმატის მითითება. \nლექციაზე ფიზიკურ სივრცეში დასწრების მსურველები მიიღებენ ინფორმაციას ღონისძიების ჩატარების ადგილმდებარეობაზე\, ხოლო ონლაინ დასწრების მსურველები – შეხვედრის ბმულს. \nდრო: 2 ივნისი\, 17:00 საათი \nფორმატი: ჰიბრიდული\, უზრუნველყოფილი იქნება ლაივი ილიას სახელმწიფო უნივერსიტეტის ფეისბუქგვერდზე \nსარეგისტრაციო ბმული: https://bit.ly/3NF31ly \nსამუშაო ენა: ინგლისური \nLive ღონისძიების ბმული: https://bit.ly/3z8kTBe \n2022 წელი \n\n[wpai_display_imported_files_here]
URL:https://events.iliauni.edu.ge/event/maia-jegis-sajaro-leqtsia-qarthuli-rbili-dzala-literaturith-satchmlisa-da-ghvinis-mighma/
CATEGORIES:ღონისძიებები
ATTACH;FMTTYPE=image/png:https://events.iliauni.edu.ge/wp-content/uploads/2022/05/65993.png
END:VEVENT
END:VCALENDAR