BEGIN:VCALENDAR
VERSION:2.0
PRODID:-//უნივერსიტეტის ღონისძიებების პორტალი - ECPv6.2.8.2//NONSGML v1.0//EN
CALSCALE:GREGORIAN
METHOD:PUBLISH
X-ORIGINAL-URL:https://events.iliauni.edu.ge
X-WR-CALDESC:Events for უნივერსიტეტის ღონისძიებების პორტალი
REFRESH-INTERVAL;VALUE=DURATION:PT1H
X-Robots-Tag:noindex
X-PUBLISHED-TTL:PT1H
BEGIN:VTIMEZONE
TZID:Asia/Dubai
BEGIN:STANDARD
TZOFFSETFROM:+0400
TZOFFSETTO:+0400
TZNAME:+04
DTSTART:20220101T000000
END:STANDARD
END:VTIMEZONE
BEGIN:VEVENT
DTSTART;TZID=Asia/Dubai:20220601T180000
DTEND;TZID=Asia/Dubai:20220601T180000
DTSTAMP:20260425T175637
CREATED:20220527T083245Z
LAST-MODIFIED:20240201T113220Z
UID:10000391-1654106400-1654106400@events.iliauni.edu.ge
SUMMARY:ვებინარების სერია: „კანაფის პოლიტიკა და თანამედროვე კვლევები“
DESCRIPTION:1 ივნისს\, 18:00 საათზე\, ილიას სახელმწიფო უნივერსიტეტის ადიქციის კვლევების სამაგისტრო პროგრამის სამუშაო ჯგუფისა და ტომაშ ზაბრანსკის სახ. ადიქტოლოგიის ინსტიტუტის ინიციატივით დაგეგმილი საზაფხულო ვებინარების სერიის ფარგლებში გაიმართება ვებინარი თემაზე: „კანაფის პოლიტიკა და თანამედროვე კვლევები“. \nმომხსენებელი – ილიას სახელმწიფო უნივერსიტეტის ასოცირებული პროფესორი დავით ოთიაშვილი \nმონაწილეები: ილიას სახელმწიფო უნივერსიტეტის ასისტენტ-პროფესორი ირმა კირთაძე\, მეცნიერებათა და ხელოვნების ფაკულტეტის ხარისხის უზრუნველყოფის სპეციალისტი ზვიად ზალიკიანი \nმოდერატორი: ილიას სახელმწიფო უნივერსიტეტის პროფესორი ჯანა ჯავახიშვილი \nვებინარში მონაწილეობას მიიღებენ ამავე პროგრამის აკადემიური და ადმინისტრაციული პერსონალი\, პარტნიორი ორგანიზაციის წარმომადგენლები\, სტუდენტები და კურსდამთავრებულები. \nდრო: 1 ივნისი\, 18:00 საათი \nფორმატი: ჰიბრიდული\, წინასწარი რეგისტრაციის საფუძველზე \nვებინარზე დასასწრებად საჭიროა წინასწარი რეგისტრაცია. რეგისტრაციისას მითითებულ საკონტაქტო მისამართზე გამოგეგზავნებათ ღონისძიებაზე დასასწრებად საჭირო ინფორმაცია. \nსარეგისტრაციო ფორმა:  https://bit.ly/38hSvlj \nLive – ღონისძიების ბმული: https://bit.ly/3lWrHdl \n2022 წელი  \n\n[wpai_display_imported_files_here]
URL:https://events.iliauni.edu.ge/event/vebinarebis-seria-kanaphis-politika-da-thanamedrove-kvlevebi/
CATEGORIES:ღონისძიებები
ATTACH;FMTTYPE=image/png:https://events.iliauni.edu.ge/wp-content/uploads/2022/05/65879.png
END:VEVENT
BEGIN:VEVENT
DTSTART;TZID=Asia/Dubai:20220601T190000
DTEND;TZID=Asia/Dubai:20220601T190000
DTSTAMP:20260425T175637
CREATED:20220531T074759Z
LAST-MODIFIED:20241122T110927Z
UID:10000389-1654110000-1654110000@events.iliauni.edu.ge
SUMMARY:პროფესორ ელენა შევჩენკოს  საჯარო ლექცია „აშშ-უკრაინის ორმხრივი ურთიერთობები“
DESCRIPTION:1-ელ ივნისს\, 19:00 საათზე\, ილიას სახელმწიფო უნივერსიტეტში კიევის ტარას შევჩენკოს სახელობის ეროვნული უნივერსიტეტის პროფესორი ელენა შევჩენკო წაიკითხავს საჯარო ლექციას თემაზე: „აშშ-უკრაინის ორმხრივი ურთიერთობები“. \n მომხსენებელი შეეხება შემდეგ საკითხებს: \n\nადრეული 90-იანი წლები: „იმედებისა და მოლოდინების ხანა ცივი გაზაფხულის ფონზე“;\n90-იანი წლების შუა პერიოდი: „თაფლობის თვე“;\nადრეული 2000-იანი წლები: „უკრაინული „მულტივექტორი“;\nიუშჩენკოს ერა: იმედები და იმედგაცრუებები\, სტრატეგიული პარტნიორობა;\nიანუკოვიჩის მულტივექტორულობა;\nუკრაინასა და აშშ-ს შორის არსებული სახელშეკრულებო საფუძვლები;\nაშშ-უკრაინის ურთიერთობები მიმდინარე პერიოდში.\n\nსამუშაო ენა: ინგლისური \n\n\nლექციაზე დასწრება თავისუფალია. \nლექცია გაიმართება ჰიბრიდულ ფორმატში\, პლატფორმა ზუმის დახმარებით. \nშეხვედრის ზუმის ბმული: https://bit.ly/3PTaAa8 \n\n\nსწრაფი ბმულები: \n\nსაჯარო ლექციათა ციკლი „უკრაინის საგარეო პოლიტიკა 1991 წლიდან დღემდე”\n\n2022 წელი \n\n[wpai_display_imported_files_here]
URL:https://events.iliauni.edu.ge/event/prophesor-elena-shevchenkos-sajaro-leqtsia-ashsh-ukrainis-ormkhrivi-urthierthobebi/
CATEGORIES:ღონისძიებები
ATTACH;FMTTYPE=image/png:https://events.iliauni.edu.ge/wp-content/uploads/2022/05/65991.png
END:VEVENT
END:VCALENDAR