BEGIN:VCALENDAR
VERSION:2.0
PRODID:-//უნივერსიტეტის ღონისძიებების პორტალი - ECPv6.2.8.2//NONSGML v1.0//EN
CALSCALE:GREGORIAN
METHOD:PUBLISH
X-ORIGINAL-URL:https://events.iliauni.edu.ge
X-WR-CALDESC:Events for უნივერსიტეტის ღონისძიებების პორტალი
REFRESH-INTERVAL;VALUE=DURATION:PT1H
X-Robots-Tag:noindex
X-PUBLISHED-TTL:PT1H
BEGIN:VTIMEZONE
TZID:Asia/Dubai
BEGIN:STANDARD
TZOFFSETFROM:+0400
TZOFFSETTO:+0400
TZNAME:+04
DTSTART:20220101T000000
END:STANDARD
END:VTIMEZONE
BEGIN:VEVENT
DTSTART;TZID=Asia/Dubai:20220531T190000
DTEND;TZID=Asia/Dubai:20220531T190000
DTSTAMP:20260425T180626
CREATED:20220530T074651Z
LAST-MODIFIED:20241122T110927Z
UID:10000393-1654023600-1654023600@events.iliauni.edu.ge
SUMMARY:პროფესორ ალლა გოლოვნიას საჯარო ლექცია „უკრაინული ენა“
DESCRIPTION:31 მაისს\, 19:00 საათზე\, ილიას სახელმწიფო უნივერსიტეტში უკრაინის საავიაციო უნივერსიტეტის პროფესორი ალლა გოლოვნია წაიკითხავს საჯარო ლექციას თემაზე: „უკრაინული ენა“. \nმომხსენებელი შეეხება ისეთ საკითხებს\, როგორებიცაა: უკრაინული ენის წარმოშობა\, მისი განვითარების ძირითადი ეტაპები\, უკრაინული ენის ლინგვოციდის მცდელობები\, რეგიონების მიხედვით ენობრივი განსხვავებები და ა.შ. \nსამუშაო ენა: ინგლისური \nლექციაზე დასწრება თავისუფალია და შეგიძლიათ შემოგვიერთდეთ Zoom-ის საშუალებით. \nმოსაწვევი იხილეთ აქ. \nსწრაფი ბმულები: \n\nლექციათა სერია „ყველაფერი უკრაინის შესახებ“\n\n2022 წელი \n\n[wpai_display_imported_files_here]
URL:https://events.iliauni.edu.ge/event/prophesor-alla-golovnias-sajaro-leqtsia-ukrainuli-ena/
CATEGORIES:ღონისძიებები
ATTACH;FMTTYPE=image/png:https://events.iliauni.edu.ge/wp-content/uploads/2022/05/65976.png
END:VEVENT
END:VCALENDAR